Workbook
Name \s: #REF!
Name \s: #REF!
Name \s: #REF!
Name \s: #REF!
Name _______r: #REF!
Name _______r: #REF!
Name _______r: #REF!
Name _______r: #REF!
Name _____r: #REF!
Name _____r: #REF!
Name _____r: #REF!
Name _____r: #REF!
Name ____SE2: #REF!
Name ____SE2: #REF!
Name ____SE2: #REF!
Name ____SE2: #REF!
Name ___OAc8846: [2]Oper!$N$5612
Name ___OAc8851: [2]Oper!$N$2477
Name ___OAc8853: [2]Oper!$N$827
Name ___OAc8859: [2]Oper!$N$2642
Name ___OAc88700: [2]Oper!$N$332
Name ___OAn8834: [2]Oper!$R$4292
Name ___OAn8835: [2]Oper!$R$4457
Name ___OAn88350: [2]Oper!$R$3962
Name ___OAn8836: [2]Oper!$R$4622
Name ___OAn8839: [2]Oper!$R$4127
Name ___OAn8840: [2]Oper!$R$4952
Name ___OAn88400: [2]Oper!$R$4787
Name ___OAn8841: [2]Oper!$R$5117
Name ___OAn8842: [2]Oper!$R$5282
Name ___OAn8843: [2]Oper!$R$5447
Name ___OAn8846: [2]Oper!$R$5612
Name ___OAn8851: [2]Oper!$R$2477
Name ___OAn8853: [2]Oper!$R$827
Name ___OAn8859: [2]Oper!$R$2642
Name ___OAn88700: [2]Oper!$R$332
Name ___OAt8826: [2]Oper!$J$2147
Name ___OAt8827: [2]Oper!$J$2312
Name ___OAt8830: [2]Oper!$J$3302
Name ___OAt88300: [2]Oper!$J$3137
Name ___OAt8831: [2]Oper!$J$3467
Name ___OAt8832: [2]Oper!$J$3632
Name ___OAt8833: [2]Oper!$J$3797
Name ___OAt8834: [2]Oper!$J$4292
Name ___OAt8835: [2]Oper!$J$4457
Name ___OAt88350: [2]Oper!$J$3962
Name ___OAt8836: [2]Oper!$J$4622
Name ___OAt8839: [2]Oper!$J$4127
Name ___OAt8840: [2]Oper!$J$4952
Name ___OAt88400: [2]Oper!$J$4787
Name ___OAt8841: [2]Oper!$J$5117
Name ___OAt8842: [2]Oper!$J$5282
Name ___OAt8843: [2]Oper!$J$5447
Name ___OAt8846: [2]Oper!$J$5612
Name ___OAt8851: [2]Oper!$J$2477
Name ___OAt8853: [2]Oper!$J$827
Name ___OAt8859: [2]Oper!$J$2642
Name ___OAt88700: [2]Oper!$J$332
Name ___OR1: '[3]orcID nº1'!$A$14:$G$1025
Name ___OR12: '[3]orc ID nº12'!$A$16:$G$181

Sheet Orçamento
D2: Rodovia e Trecho: | E2: Código: | H2: Revisão:
D3: Estrada KO-402 - Divisa dos Municípios de Piên - PR e Campo Alegre/SC | E3: KO-402-MC-001-21 | H3: 3
D4: Título: | E4: Contrato: | H4: Folha:
D5: Orçamento de recuperação e reforço PONTE SOBRE O RIO NEGRO | E5: 114/2021
E6: BASE PREÇOS | G6: 45505
A8: ITEM | B8: FONTE | C8: CÓDIGO | D8: ATIVIDADE / SERVIÇO | E8: UNID. | F8: PREÇO UNIT. | G8: QTDE. | H8: VALOR
A9: 1 | D9: SERVIÇOS PRELIMINARES | H9: =H10 -> 81127.693
A10: 1.1 | D10: Placas, canteiro de obras, equipamento | H10: =SUM(H11:H18) -> 81127.693
A11: 1.1.1 | B11: FDE | C11: 5212560 | D11: Placa de advertência para sinalização de obras montada em suporte metálico móvel, lado 1,00 m - utilização de 600 ciclos - fornecimento, 01 implantação e 01 retirada diária | E11: un.dia | F11: 5.29 | G11: 120 | H11: =F11*G11 -> 634.8
A12: 1.1.2 | B12: SANEPAR-PR | C12: 1005001 | D12: Placa de Obra em chapa metálica | E12: m2 | F12: 476.22922 | G12: =3*1.5*2 -> 9 | H12: =F12*G12 -> 4286.063
A13: 1.1.3 | B13: SANEPAR-PR | C13: 1001003 | D13: Local para refeições / Refeitório | E13: m² | F13: 838.565 | G13: 12 | H13: =F13*G13 -> 10062.78
A14: 1.1.4 | B14: SANEPAR-PR | C14: 1001004 | D14: Barracão fechado para materiais | E14: m² | F14: 562.68023 | G14: 9 | H14: =F14*G14 -> 5064.1221
A15: 1.1.5 | B15: SANEPAR-PR | C15: 1001008 | D15: Sanitário químico | E15: udxmês | F15: 673.23541 | G15: 4 | H15: =F15*G15 -> 2692.9417
A16: 1.1.6 | B16: SANEPAR-PR | C16: 1004003 | D16: Tapume de chapa de madeira compensada | E16: m | F16: 149.71833 | G16: 40 | H16: =F16*G16 -> 5988.7331
A17: 1.1.7 | B17: SICRO-PR | C17: E9066 | D17: Grupo gerador - 14 kVA | E17: h | F17: 15.213611 | G17: =40*4*4 -> 640 | H17: =F17*G17 -> 9736.7109
A18: 1.1.8 | B18: DER-PR | C18: 713200 | D18: Andaime suspenso de madeira, inclusive plataforma | E18: m2 | F18: 150.84744 | G18: =31.25*(9.05) -> 282.8125 | H18: =F18*G18 -> 42661.542
A19: 2 | D19: MANUTENÇÃO E RECUPERAÇÃO DE OAE | H19: =H20+H32+H37+H49+H54+H61+H65+H67+H69 -> 139898.34
A20: 2.1 | D20: Tratamento de concreto disgregado ou segregado com argamassa polimérica | H20: =SUM(H21:H31) -> 17147.462
A21: 2.1.1 | B21: FDE | C21: 16.35.001 | D21: Definicao e demarcacao da area de reparo, com disco de corte | E21: m | F21: 8.18 | G21: 276.12 | H21: =F21*G21 -> 2258.6616
A22: 2.1.2 | B22: SICRO-PR | C22: 3806402 | D22: Limpeza em superficie de concreto com jateamento d’água sob pressão | E22: m² | F22: 3.19098 | G22: 38.8585 | H22: =F22*G22 -> 123.9967
A23: 2.1.3 | B23: DER-SP | C23: 27.02.08 | D23: Limpeza manual com escova de aço p/aço | E23: m | F23: 12.800739 | G23: 155.434 | H23: =F23*G23 -> 1989.6701
A24: 2.1.4 | B24: SIURB | C24: 10004000 | D24: Corte superficial de concreto até 3 cm de profundidade | E24: m² | F24: 100.14768 | G24: 38.8585 | H24: =F24*G24 -> 3891.5886
A25: 2.1.5 | B25: SICRO-PR | C25: 1600408 | D25: Apicoamento manual de concreto | E25: m² | F25: 28.411995 | G25: 38.8585 | H25: =F25*G25 -> 1104.0475
A26: 2.1.6 | B26: DER-SP | C26: 27.01.40 | D26: Tratamento de armadura com primer rico em zinco | E26: m² | F26: 19.072242 | G26: 38.8585 | H26: =F26*G26 -> 741.11872
A27: 2.1.7 | B27: FDE | C27: 16.47.001 | D27: Preparação de ponte de aderência com adesivo acrilico | E27: m² | F27: 24.48 | G27: 38.8585 | H27: =F27*G27 -> 951.25608
A28: 2.1.8 | B28: SICRO-PR | C28: 1109680 | D28: Argamassa para reparos e grauteamento - confecção em misturador e lançamento manual | E28: m³ | F28: 4976.3701 | G28: 1.165755 | H28: =F28*G28 -> 5801.2284
A29: 2.1.9 | B29: SIURB | C29: 10015000 | D29: Cura química | E29: m² | F29: 2.687787 | G29: 39.51 | H29: =F29*G29 -> 106.19446
A30: 2.1.10 | B30: SICRO-PR | C30: 5915433 | D30: Carga, manobra e descarga de material demolido em caminhão basculante de 6 m³ - carga manual e descarga livre | E30: t | F30: 45.545103 | G30: 2.9143875 | H30: =F30*G30 -> 132.73608
A31: 2.1.11 | B31: SICRO-PR | C31: 5914329 | D31: Transporte com caminhão basculante de 6 m³ - rodovia em revestimento primário | E31: tkm | F31: 1.239573 | G31: 37.887037 | H31: =F31*G31 -> 46.963749
A32: 2.2 | D32: Injeção de fissuras passivas, secas, com abertura maior que 0,3mm | H32: =SUM(H33:H36) -> 5108.2163
A33: 2.2.1 | B33: SICRO-PR | C33: 4915639 | D33: Limpeza em superfície de concreto com escova de aço | E33: m² | F33: 6.639693 | G33: 6.34 | H33: =F33*G33 -> 42.095654
A34: 2.2.2 | B34: FDE | C34: 16.35.019 | D34: Limpeza do substrato, com jato de ar comprimido | E34: m² | F34: 11.35 | G34: 6.34 | H34: =F34*G34 -> 71.959
A35: 2.2.3 | B35: SICRO-PR | C35: 4915651 | D35: Bico de perfuração para injeção de adesivo estrutural à base de resina epóxi - fornecimento, instalação e retirada | E35: un | F35: 12.015267 | G35: 127 | H35: =F35*G35 -> 1525.9389
A36: 2.2.4 | B36: SICRO-PR | C36: 4915650 | D36: Injeção de adesivo estrutural à base de resina epóxi de baixa viscosidade para tratamento de fissuras em estruturas de concreto - fornecimento e aplicação manual | E36: kg | F36: 364.69219 | G36: 9.51 | H36: =F36*G36 -> 3468.2228
A37: 2.3 | D37: Grampeamento de trincas | H37: =SUM(H38:H48) -> 31457.778
A38: 2.3.1 | B38: FDE | C38: 16.35.001 | D38: Definicao e demarcacao da area de reparo, com disco de corte | E38: m | F38: 8.18 | G38: 91.72 | H38: =F38*G38 -> 750.2696
A39: 2.3.2 | B39: SICRO-PR | C39: 1600436 | D39: Demolição de concreto simples | E39: m³ | F39: 596.79917 | G39: 1.1349 | H39: =F39*G39 -> 677.30738
A40: 2.3.3 | B40: DER-PR | C40: 706160 | D40: Perfuração em concreto armado d=16,0mm | E40: m | F40: 305.82 | G40: 12.3 | H40: =F40*G40 -> 3761.586
A41: 2.3.4 | B41: DER-PR | C41: 706120 | D41: Perfuração em concreto armado d=12,7mm | E41: m | F41: 218.45 | G41: 68 | H41: =F41*G41 -> 14854.6
A42: 2.3.5 | B42: DER-SP | C42: 27.06.17 | D42: Chumbamento barras resina c/resina epóxi inj. | E42: kg | F42: 151.80474 | G42: 21.08 | H42: =F42*G42 -> 3200.0439
A43: 2.3.6 | B43: SICRO-PR | C43: 407819 | D43: Armação em aço CA-50 - fornecimento, preparo e colocação | E43: kg | F43: 15.034425 | G43: 95.9 | H43: =F43*G43 -> 1441.8014
A44: 2.3.7 | B44: FDE | C44: 16.35.019 | D44: Limpeza do substrato, com jato de ar comprimido | E44: m² | F44: 11.35 | G44: 26.5 | H44: =F44*G44 -> 300.775
A45: 2.3.8 | B45: FDE | C45: 16.47.001 | D45: Preparação de ponte de aderência com adesivo acrilico | E45: m² | F45: 24.48 | G45: 26.502 | H45: =F45*G45 -> 648.76896
A46: 2.3.9 | B46: SICRO-PR | C46: 1109680 | D46: Argamassa para reparos e grauteamento - confecção em misturador e lançamento manual | E46: m³ | F46: 4976.3701 | G46: 1.1349 | H46: =F46*G46 -> 5647.6825
A47: 2.3.10 | B47: SICRO-PR | C47: 5915433 | D47: Carga, manobra e descarga de material demolido em caminhão basculante de 6 m³ - carga manual e descarga livre | E47: t | F47: 45.545103 | G47: 2.83725 | H47: =F47*G47 -> 129.22284
A48: 2.3.11 | B48: SICRO-PR | C48: 5914329 | D48: Transporte com caminhão basculante de 6 m³ - rodovia em revestimento primário | E48: tkm | F48: 1.239573 | G48: 36.88425 | H48: =F48*G48 -> 45.72072
A49: 2.4 | D49: Adequação de sinalização vertical | H49: =SUM(H50:H53) -> 5157.7597
A50: 2.4.1 | B50: SICRO-PR | C50: 5213571 | D50: Placa em aço - película I + III - fornecimento e implantação | E50: m² | F50: 631.83859 | G50: 1.08 | H50: =F50*G50 -> 682.38567
A51: 2.4.2 | B51: SICRO-PR | C51: 5213464 | D51: Placa de advertência em aço, lado de 0,60 m - película retrorrefletiva tipo I + SI - fornecimento e implantação | E51: un | F51: 310.44554 | G51: 2 | H51: =F51*G51 -> 620.89107
A52: 2.4.3 | B52: SICRO-PR | C52: 5213863 | D52: Suporte metálico galvanizado para placa de advertência ou regulamentação - lado ou diâmetro de 0,60 m - fornecimento e implantação | E52: un | F52: 550.97179 | G52: 2 | H52: =F52*G52 -> 1101.9436
A53: 2.4.4 | B53: SICRO-PR | C53: 5213867 | D53: Suporte metálico galvanizado para marco quilométrico - fornecimento e implantação | E53: un | F53: 688.13484 | G53: 4 | H53: =F53*G53 -> 2752.5393
A54: 2.5 | D54: Implantação de buzinotes | H54: =SUM(H55:H60) -> 2191.0726
A55: 2.5.1 | B55: SICRO-PR | C55: 1608148 | D55: Perfuração em concreto com coroa diamantada - D = 100 mm | E55: m | F55: 343.644 | G55: 3.2 | H55: =F55*G55 -> 1099.6608
A56: 2.5.2 | B56: SICRO-PR | C56: 2007971 | D56: Dreno de PVC D=100 mm para OAE - fornecimento e instalação | E56: m | F56: 122.68091 | G56: 8 | H56: =F56*G56 -> 981.44726
A57: 2.5.3 | B57: SICRO-PR | C57: 1600436 | D57: Demolição de concreto simples | E57: m³ | F57: 596.79917 | G57: 0.0192 | H57: =F57*G57 -> 11.458544
A58: 2.5.4 | B58: SICRO-PR | C58: 1109680 | D58: Argamassa para reparos e grauteamento - confecção em misturador e lançamento manual | E58: m³ | F58: 4976.3701 | G58: 0.0192 | H58: =F58*G58 -> 95.546306
A59: 2.5.5 | B59: SICRO-PR | C59: 5915433 | D59: Carga, manobra e descarga de material demolido em caminhão basculante de 6 m³ - carga manual e descarga livre | E59: t | F59: 45.545103 | G59: 0.048 | H59: =F59*G59 -> 2.1861649
A60: 2.5.6 | B60: SICRO-PR | C60: 5914329 | D60: Transporte com caminhão basculante de 6 m³ - rodovia em revestimento primário | E60: tkm | F60: 1.239573 | G60: 0.624 | H60: =F60*G60 -> 0.77349355
A61: 2.6 | D61: Implantação de pingadeiras | H61: =SUM(H62:H64) -> 14116.696
A62: 2.6.1 | B62: SICRO-PR | C62: 4915639 | D62: Limpeza em superfície de concreto com escova de aço | E62: m² | F62: 6.639693 | G62: 6.25 | H62: =F62*G62 -> 41.498081
A63: 2.6.2 | B63: FDE | C63: 16.35.019 | D63: Limpeza do substrato, com jato de ar comprimido | E63: m² | F63: 11.35 | G63: 6.25 | H63: =F63*G63 -> 70.9375
A64: 2.6.3 | B64: SICRO-PR | C64: 3806407 | D64: Pingadeira de elastômero perfil 40 x 40 mm com aba inclinada e fixada com adesivo estrutural e pinos - fornecimento e instalação | E64: m | F64: 224.06816 | G64: 62.5 | H64: =F64*G64 -> 14004.26
A65: 2.7 | D65: Limpeza da superfície através de jateamento d'água | H65: =H66 -> 1887.4966
A66: 2.7.1 | B66: SICRO-PR | C66: 3806402 | D66: Limpeza em superficie de concreto com jateamento d’água sob pressão | E66: m² | F66: 3.19098 | G66: 591.51 | H66: =F66*G66 -> 1887.4966
A67: 2.8 | D67: Estucamento de superfícies de concreto | H67: =H68 -> 19187.129
A68: 2.8.1 | B68: DER-SP | C68: 27.16.01 | D68: Aplicação manual e preparo de pasta para estucamento em OAE, sem pintura | E68: m² | F68: 32.437539 | G68: 591.51 | H68: =F68*G68 -> 19187.129
A69: 2.9 | D69: Pintura acrílica | H69: =H70 -> 43644.729
A70: 2.9.1 | B70: DER-SP | C70: 27.14.04 | D70: Pintura acrílica - 2 demãos | E70: m² | F70: 73.785276 | G70: 591.51 | H70: =F70*G70 -> 43644.729
A71: 3 | D71: REFORÇO DAS FUNDAÇÕES | H71: =H72+H79 -> 164088.62
A72: 3.1 | D72: Fundação em estaca raiz | H72: =SUM(H73:H78) -> 132245.54
A73: 3.1.1 | B73: SICRO-PR | C73: 407819 | D73: Armação em aço CA-50 - fornecimento, preparo e colocação | E73: kg | F73: 15.034425 | G73: 319.25 | H73: =F73*G73 -> 4799.7402
A74: 3.1.2 | B74: DER-SP | C74: 25.04.21 | D74: TAXA DE INSTALACAO EQUIPAM.ESTACA RAIZ | E74: un | F74: 54109.411 | G74: 1 | H74: =F74*G74 -> 54109.411
A75: 3.1.3 | B75: SANEPAR-PR | C75: 008001036 | D75: Escavada, injetada (Microestaca, Estaca-raiz) Ø 41 cm | E75: m | F75: 2274.8251 | G75: 32 | H75: =F75*G75 -> 72794.403
A76: 3.1.4 | B76: SICRO-PR | C76: 2306248 | D76: Arrasamento de estacas de concreto com seção superior à 900 cm² | E76: m³ | F76: 697.79369 | G76: 0.63617251 | H76: =F76*G76 -> 443.91716
A77: 3.1.5 | B77: SICRO-PR | C77: 5915433 | D77: Carga, manobra e descarga de material demolido em caminhão basculante de 6 m³ - carga manual e descarga livre | E77: t | F77: 45.545103 | G77: 1.5904313 | H77: =F77*G77 -> 72.436357
A78: 3.1.6 | B78: SICRO-PR | C78: 5914329 | D78: Transporte com caminhão basculante de 6 m³ - rodovia em revestimento primário | E78: tkm | F78: 1.239573 | G78: 20.675607 | H78: =F78*G78 -> 25.628924
A79: 3.2 | D79: Viga de reforço | H79: =SUM(H80:H91) -> 31843.087
A80: 3.2.1 | B80: SICRO-PR | C80: 1600436 | D80: Demolição de concreto simples | E80: m³ | F80: 596.79917 | G80: 0.888 | H80: =F80*G80 -> 529.95766
A81: 3.2.2 | B81: SICRO-PR | C81: 3806413 | D81: Apicoamento mecanizado de concreto | E81: m² | F81: 29.602476 | G81: 8.88 | H81: =F81*G81 -> 262.86999
A82: 3.2.3 | B82: SICRO-PR | C82: 3806402 | D82: Limpeza em superficie de concreto com jateamento d’água sob pressão | E82: m² | F82: 3.19098 | G82: 8.88 | H82: =F82*G82 -> 28.335902
A83: 3.2.4 | B83: DER-PR | C83: 706160 | D83: Perfuração em concreto armado d=16,0mm | E83: m | F83: 305.82 | G83: 28.2 | H83: =F83*G83 -> 8624.124
A84: 3.2.5 | B84: FDE | C84: 16.47.001 | D84: Preparação de ponte de aderência com adesivo acrilico | E84: m² | F84: 24.48 | G84: 8.88 | H84: =F84*G84 -> 217.3824
A85: 3.2.6 | B85: DER-SP | C85: 27.06.17 | D85: Chumbamento barras resina c/resina epóxi inj. | E85: kg | F85: 151.80474 | G85: 9.55 | H85: =F85*G85 -> 1449.7352
A86: 3.2.7 | B86: SICRO-PR | C86: 1116263 | D86: Concreto para bombeamento fck = 25 MPa - confecção em central dosadora de 40 m³/h - areia e brita comerciais | E86: m³ | F86: 467.58903 | G86: 9.152 | H86: =F86*G86 -> 4279.3748
A87: 3.2.8 | B87: SICRO-PR | C87: 1106088 | D87: Lançamento mecânico de concreto com bomba rebocável com capacidade de 30 m³/h - confecção em central dosadora de 30 m³/h | E87: m³ | F87: 71.453406 | G87: 9.152 | H87: =F87*G87 -> 653.94157
A88: 3.2.9 | B88: SICRO-PR | C88: 3108015 | D88: Fôrmas de compensado plastificado 14 mm - uso geral - utilização de 1 vez - confecção, instalação e retirada | E88: m² | F88: 188.93056 | G88: 27.98 | H88: =F88*G88 -> 5286.2771
A89: 3.2.10 | B89: SICRO-PR | C89: 407819 | D89: Armação em aço CA-50 - fornecimento, preparo e colocação | E89: kg | F89: 15.034425 | G89: 690.03 | H89: =F89*G89 -> 10374.204
A90: 3.2.11 | B90: SICRO-PR | C90: 5915433 | D90: Carga, manobra e descarga de material demolido em caminhão basculante de 6 m³ - carga manual e descarga livre | E90: t | F90: 45.545103 | G90: 2.22 | H90: =F90*G90 -> 101.11013
A91: 3.2.12 | B91: SICRO-PR | C91: 5914329 | D91: Transporte com caminhão basculante de 6 m³ - rodovia em revestimento primário | E91: tkm | F91: 1.239573 | G91: 28.86 | H91: =F91*G91 -> 35.774077
A92: 4 | D92: IMPLANTAÇÃO DOS APARELHOS DE APOIO | H92: =H93+H105 -> 32037.592
A93: 4.1 | D93: Execução dos consolos | H93: =SUM(H94:H104) -> 23400.683
A94: 4.1.1 | B94: SICRO-PR | C94: 3806413 | D94: Apicoamento mecanizado de concreto | E94: m² | F94: 29.602476 | G94: 4.05 | H94: =F94*G94 -> 119.89003
A95: 4.1.2 | B95: SICRO-PR | C95: 3806402 | D95: Limpeza em superficie de concreto com jateamento d’água sob pressão | E95: m² | F95: 3.19098 | G95: 4.05 | H95: =F95*G95 -> 12.923469
A96: 4.1.3 | B96: DER-PR | C96: 706200 | D96: Perfuração em concreto armado d=20,0mm | E96: m | F96: 392.49 | G96: 18 | H96: =F96*G96 -> 7064.82
A97: 4.1.4 | B97: DER-PR | C97: 706120 | D97: Perfuração em concreto armado d=12,7mm | E97: m | F97: 218.45 | G97: 21.6 | H97: =F97*G97 -> 4718.52
A98: 4.1.5 | B98: FDE | C98: 16.47.001 | D98: Preparação de ponte de aderência com adesivo acrilico | E98: m² | F98: 24.48 | G98: 4.05 | H98: =F98*G98 -> 99.144
A99: 4.1.6 | B99: DER-SP | C99: 27.06.17 | D99: Chumbamento barras resina c/resina epóxi inj. | E99: kg | F99: 151.80474 | G99: 17.81 | H99: =F99*G99 -> 2703.6424
A100: 4.1.7 | B100: FDE | C100: 16.47.001 | D100: Preparação de ponte de aderência com adesivo acrilico | E100: m² | F100: 24.48 | G100: 4.05 | H100: =F100*G100 -> 99.144
A101: 4.1.8 | B101: SICRO-PR | C101: 1116263 | D101: Concreto para bombeamento fck = 25 MPa - confecção em central dosadora de 40 m³/h - areia e brita comerciais | E101: m³ | F101: 467.58903 | G101: 1.6875 | H101: =F101*G101 -> 789.05648
A102: 4.1.9 | B102: SICRO-PR | C102: 1106088 | D102: Lançamento mecânico de concreto com bomba rebocável com capacidade de 30 m³/h - confecção em central dosadora de 30 m³/h | E102: m³ | F102: 71.453406 | G102: 1.6875 | H102: =F102*G102 -> 120.57762
...

Sheet Fisico_financeiro
C1: CRONOGRAMA FÍSICO FINANCEIRO
C3: DATA BASE: | D3: 45505
C4: VALOR TOTAL: | D4: =N28 -> 417152.25
C5: BDI: | D5: 0.2273
B7: ITEM | C7: DESCRIÇÃO | D7: VALOR TOTAL | E7: ETAPA 1 | G7: ETAPA 2 | I7: ETAPA 3 | K7: ETAPA 4 | M7: TOTAL
E8: % | F8: VALOR | G8: % | H8: VALOR | I8: % | J8: VALOR | K8: % | L8: VALOR | M8: % | N8: VALOR
B9: 1 | C9: SERVIÇOS PRELIMINARES | D9: 81127.693
B10: 1.1 | C10: Placas, canteiro de obras, equipamento | D10: 81127.693 | E10: 1 | F10: =D10*E10 -> 81127.693 | N10: =Orçamento!H10 -> 81127.693
B11: 2 | C11: MANUTENÇÃO E RECUPERAÇÃO DE OAE | D11: 139898.34
B12: 2.1 | C12: Tratamento de concreto disgregado ou segregado com argamassa polimérica | D12: 17147.462 | E12: 1 | F12: =D12*E12 -> 17147.462 | N12: =Orçamento!H20 -> 17147.462
B13: 2.2 | C13: Injeção de fissuras passivas, secas, com abertura maior que 0,3mm | D13: 5108.2163 | E13: 1 | F13: =D13*E13 -> 5108.2163 | N13: =Orçamento!H32 -> 5108.2163
B14: 2.3 | C14: Grampeamento de trincas | D14: 31457.778 | E14: 1 | F14: =D14*E14 -> 31457.778 | N14: =Orçamento!H37 -> 31457.778
B15: 2.4 | C15: Adequação de sinalização vertical | D15: 5157.7597 | E15: 1 | F15: =D15*E15 -> 5157.7597 | N15: =Orçamento!H37 -> 31457.778
B16: 2.5 | C16: Implantação de buzinotes | D16: 2191.0726 | E16: 1 | F16: =D16*E16 -> 2191.0726 | N16: =Orçamento!H49 -> 5157.7597
B17: 2.6 | C17: Implantação de pingadeiras | D17: 14116.696 | E17: 1 | F17: =D17*E17 -> 14116.696 | N17: =Orçamento!H54 -> 2191.0726
B18: 2.7 | C18: Limpeza da superfície através de jateamento d'água | D18: 1887.4966 | E18: 1 | F18: =D18*E18 -> 1887.4966 | N18: =Orçamento!H61 -> 14116.696
B19: 2.8 | C19: Estucamento de superfícies de concreto | D19: 19187.129 | K19: 1 | L19: =D19*K19 -> 19187.129 | N19: =Orçamento!H65 -> 1887.4966
B20: 2.9 | C20: Pintura acrílica | D20: 43644.729 | K20: 1 | L20: =D20*K20 -> 43644.729 | N20: =Orçamento!H69 -> 43644.729
B21: 4 | C21: REFORÇO DAS FUNDAÇÕES | D21: 164088.62
B22: 4.1 | C22: Fundação em estaca raiz | D22: 132245.54 | G22: 1 | H22: =D22*G22 -> 132245.54 | N22: =Orçamento!H72 -> 132245.54
B23: 4.2 | C23: Viga de reforço | D23: 31843.087 | G23: 0.1 | H23: =D23*G23 -> 3184.3087 | I23: 0.9 | J23: =I23*D23 -> 28658.778 | N23: =Orçamento!H79 -> 31843.087
B24: 5 | C24: IMPLANTAÇÃO DOS APARELHOS DE APOIO | D24: 32037.592
B25: 5.1 | C25: Execução dos consolos | D25: 23400.683 | G25: 0.2 | H25: =D25*G25 -> 4680.1366 | I25: 0.8 | J25: =D25*I25 -> 18720.546 | N25: =Orçamento!H93 -> 23400.683
B26: 5.2 | C26: Implantação dos aparelhos de apoio | D26: 8636.9091 | I26: 1 | J26: =D26*I26 -> 8636.9091 | N26: =Orçamento!H105 -> 8636.9091
B27: TOTAL ETAPA | D27: =D9+D11+D21+D24 -> 417152.25 | E27: =F27/D27 -> 0.37922407 | F27: =SUM(F10:F26) -> 158194.17 | G27: =H27/D27 -> 0.33587253 | H27: =SUM(H9:H26) -> 140109.98 | I27: =J27/D27 -> 0.13428247 | J27: =SUM(J9:J26) -> 56016.234 | K27: =L27/D27 -> 0.15062092 | L27: =SUM(L9:L26) -> 62831.857 | M27: =E27+G27+I27+K27 -> 1 | N27: =Orçamento!G111 -> 417152.25
B28: ACUMULADO | D28: =D9+D11+D21+D24 -> 417152.25 | E28: =F28/D28 -> 0.37922407 | F28: =F27 -> 158194.17 | G28: =H28/D28 -> 0.71509661 | H28: =F28+H27 -> 298304.16 | I28: =J28/D28 -> 0.84937908 | J28: =H28+J27 -> 354320.39 | K28: =L28/D28 -> 1 | L28: =J28+L27 -> 417152.25 | M28: =K28 -> 1 | N28: =L28 -> 417152.25

Sheet Mem_Cálculo_quant.
C3: MEMÓRIA DE CÁLCULO DAS QUANTIDADES - Recuperação de estrutura existente
B5: OBRA: | C5: Ponte sobre o Rio Negro
B7: DADOS GEOMETRIA (metros)
C8: comprimento | D8: 31.25 | F8: No Longarinas | G8: 3
C9: largura | D9: 7.05 | F9: Altura Longar | G9: 0.95
F10: Largura Longar | G10: 0.3
F12: DMT | G12: 10,00 km
B14: ITEM | C14: Referência | D14: Código Serviço | E14: DISCRIMINAÇÃO | F14: UNIDADE | G14: QTDE
B15: 1 | E15: SERVIÇOS PRELIMINARES
B16: 1.1 | E16: Identificação da obra
B18: 1.1.1 | C18: SICRO | D18: 5212560 | E18: Placa de advertência para sinalização de obras montada em suporte metálico móvel, lado 1,00 m - utilização de 600 ciclos - fornecimento, 01 implantação e 01 retirada diária | F18: un.dia | G18: =D21 -> 120
C19: Tempo previsto de obra: 60 dias
C20: Número de placas de sinalização: 2 un.
C21: Tempo: | D21: =60*2 -> 120 | E21: un.dia
B23: 2 | E23: MANUTENÇÃO E RECUPERAÇÃO DA OAE
B24: 2.1 | E24: Tratamento de concreto disgregado ou segregado com argamassa polimérica
B26: 2.1.1 | C26: FDE | D26: 16.35.001 | E26: Definicao e demarcacao da area de reparo, com disco de corte | F26: m | G26: =D29 -> 276.12
C28: Área de reparo: | D28: =Tab_Anomalias!C11+Tab_Anomalias!C194 -> 38.8585 | E28: m²
C29: Perímetro: | D29: =Tab_Anomalias!C12+Tab_Anomalias!C195 -> 276.12 | E29: m
C30: Esp. Corte: | D30: 0.03 | E30: m
B32: 2.1.2 | C32: SICRO-PR | D32: 3806402 | E32: Limpeza em superficie de concreto com jateamento d’água sob pressão | F32: m² | G32: =D28 -> 38.8585
B33: 2.1.3 | C33: DER-SP | D33: 27.02.08 | E33: Limpeza manual com escova de aço p/aço | F33: m | G33: =D28*4 -> 155.434
C34: Considerando 4m de aço por m² de reparo: 38,86*4=155,434
B36: 2.1.4 | C36: SIURB | D36: 10-04-00 | E36: Corte superficial de concreto até 3 cm de profundidade | F36: m² | G36: =D28 -> 38.8585
B37: 2.1.5 | C37: SICRO-PR | D37: 1600408 | E37: Apicoamento manual de concreto | F37: m² | G37: =D28 -> 38.8585
B38: 2.1.6 | C38: DER-SP | D38: 27.01.40 | E38: Tratamento de armadura com primer rico em zinco | F38: m² | G38: =D28 -> 38.8585
B39: 2.1.7 | C39: FDE | D39: 16.47.001 | E39: Preparação de ponte de aderência com adesivo acrilico | F39: m² | G39: =D28 -> 38.8585
B40: 2.1.8 | C40: SICRO-PR | D40: 1109680 | E40: Argamassa para reparos e grauteamento - confecção em misturador e lançamento manual | F40: m³ | G40: =D28*0.03 -> 1.165755
C41: Considera o corte superficial de 3cm para exposição e tratamento da armadura: 38,86*0,03=1,1658m³
B43: 2.1.9 | C43: SIURB | D43: 10-15-00 | E43: Cura química | F43: m² | G43: =D28 -> 38.8585
B44: 2.1.10 | C44: SICRO-PR | D44: 5915433 | E44: Carga, manobra e descarga de material demolido em caminhão basculante de 6 m³ - carga manual e descarga livre | F44: t | G44: =E47 -> 2.9143875
C45: Peso específico | D45: 2.5 | E45: t/m³
C46: Empolamento | D46: 0 | E46: %
C47: Carga: | D47: 38,86*0,03*2,5= | E47: =D28*0.03*D45*(1+D46) -> 2.9143875
B49: 2.1.11 | C49: SICRO-PR | D49: 5914329 | E49: Transporte com caminhão basculante de 6 m³ - rodovia em revestimento primário | F49: tkm | G49: =E53 -> 37.887037
C50: DMT | D50: 10 | E50: km
C51: Peso específico | D51: 2.5 | E51: t/m³
C52: Empolamento | D52: 0.3
C53: Mom transp | D53: 38,86*0,03*2,5*(1+0,3)*10 = | E53: =D28*0.03*D51*(1+D52)*D50 -> 37.887037 | F53: txkm
B55: 2.2 | E55: Injeção de fissuras passivas, secas, com abertura maior que 0,3mm
B56: 2.2.1 | C56: SICRO-PR | D56: 4915639 | E56: Limpeza em superfície de concreto com escova de aço | F56: m² | G56: =D58*0.2 -> 6.34
B57: 2.2.2 | C57: FDE | D57: 16.35.019 | E57: Limpeza do substrato, com jato de ar comprimido | F57: m² | G57: =D58*0.2 -> 6.34
C58: Comprimento fiss. | D58: =Tab_fissuras!I3 -> 31.7 | E58: m
C59: Considerando limpeza de 10cm para cada lado da fissura: 31,7*0,2 = 6,34m²
B61: 2.2.3 | C61: SICRO-PR | D61: 4915651 | E61: Bico de perfuração para injeção de adesivo estrutural à base de resina epóxi - fornecimento, instalação e retirada | F61: un | G61: 127
C62: Considerando considerando 4 bicos de injeção por metro de fissura
C63: Bicos: 31,7*4 = 127 un
B65: 2.2.4 | C65: SICRO-PR | D65: 4915650 | E65: Injeção de adesivo estrutural à base de resina epóxi de baixa viscosidade para tratamento de fissuras em estruturas de concreto - fornecimento e aplicação manual | F65: kg | G65: =D58*0.3 -> 9.51
C66: Considerando um consumo de resina de 0,3 kg/m
C67: Consumo de resina: 31,7*0,3 = 9,51kg
B69: 2.3 | E69: Grampeamento de trincas
B70: 2.3.1 | C70: FDE | D70: 16.35.001 | E70: Definicao e demarcacao da area de reparo, com disco de corte | F70: m | G70: 91.72
C71: Encontros e alas: | D71: =Tab_fissuras!I5 -> 14.16 | E71: m
C72: Vigas: | D72: =Tab_fissuras!I3 -> 31.7 | E72: m
C73: Demarcação com disco em cada lado da fissura: (14,16+31,7)*2 = 91,72m
B75: 2.3.2 | C75: SICRO-PR | D75: 1600436 | E75: Demolição de concreto simples | F75: m³ | G75: =D71*1.2*D76+D72*0.3*D77 -> 1.1349
C76: Profund. enc. e alas: | D76: 0.05 | E76: m
C77: Profund. Vigas | D77: 0.03 | E77: m
C78: Considerando demolição de 0,6m para cada lado da fissura nos encontros e alas: 14,16*1,2*0,05= 0,85 m³
C79: Considerando demolição de 0,15m para cada lado da fissura nas vigas: 31,7*0,3*0,03= 0,2853 m³
B81: 2.3.3 | C81: DER-PR | D81: 706160 | E81: Perfuração em concreto armado d=16,0mm | F81: m | G81: =82*0.15 -> 12.3
C82: Desenho KO-402-003-21: 82 furos c/ comprimento de 0,15m cada
C83: Comprimento dos furos: 82*0,15: 12,30m
B85: 2.3.4 | C85: DER-PR | D85: 706120 | E85: Perfuração em concreto armado d=12,7mm | F85: m | G85: 68
C86: Desenho KO-402-003-21: 680 furos c/ comprimento de 0,1m cada
C87: Comprimento dos furos: 680*0,1: 68,00m
B89: 2.3.5 | C89: DER-SP | D89: 27.06.17 | E89: Chumbamento barras resina c/resina epóxi inj. | F89: kg | G89: 21.08
C90: Encontros e muros de ala:
C91: Diâmetro mínimo do furo: 14mm
C92: Diâmetro da barra: 10mm
C93: Consumo de adesivo:
C95: Considerando 10% de perda: 3,78*1,1 = 4,16kg
C97: Vigas:
C98: Diâmetro mínimo do furo: 12mm
C99: Diâmetro da barra: 8.0mm
C100: Consumo de adesivo:
C102: Considerando 10% de perda: 15,38*1,1 = 16,92kg
C104: Consumo total: 4,16+16,92 = 21,08kg
B106: 2.3.6 | C106: SICRO-PR | D106: 407819 | E106: Armação em aço CA-50 - fornecimento, preparo e colocação | F106: kg | G106: =D108 -> 95.9
C107: Desenho KO-402-003-21: ferros N1, N2 e N3
C108: Peso de aço | D108: 95.9 | E108: kg
B110: 2.3.7 | C110: FDE | D110: 16.35.019 | E110: Limpeza do substrato, com jato de ar comprimido | F110: m² | G110: 26.5
C111: Encontros e muros de ala: 0,6m para cada lado da fissura: 14,16*1,2= 16,99 m²
C112: Vigas: 0,3m para cada lado da fissura: 31,7*0,3= 9,51 m²
C113: Área total para limpeza: 16,99+9,51 = 26,5m²
B115: 2.3.8 | C115: FDE | D115: 16.47.001 | E115: Preparação de ponte de aderência com adesivo acrilico | F115: m² | G115: =D71*1.2+D72*0.3 -> 26.502
B116: 2.3.9 | C116: SICRO-PR | D116: 1109680 | E116: Argamassa para reparos e grauteamento - confecção em misturador e lançamento manual | F116: m³ | G116: =D71*1.2*D76+D72*0.3*D77 -> 1.1349
B117: 2.3.10 | C117: SICRO-PR | D117: 5915433 | E117: Carga, manobra e descarga de material demolido em caminhão basculante de 6 m³ - carga manual e descarga livre | F117: t | G117: =E120 -> 2.83725
C118: Peso específico | D118: 2.5 | E118: t/m³
C119: Empolamento | D119: 0 | E119: %
C120: Carga: | D120: 1,13*2,5 | E120: =G75*D118*(1+D119) -> 2.83725 | F120: t
B122: 2.3.11 | C122: SICRO-PR | D122: 5914329 | E122: Transporte com caminhão basculante de 6 m³ - rodovia em revestimento primário | F122: tkm | G122: =E126 -> 36.88425
C123: DMT | D123: 10 | E123: km
C124: Peso específico | D124: 2.5 | E124: t/m³
C125: Empolamento | D125: 0.3
C126: Mom transp | D126: 1,13*2,5*(1+0,3)*10 | E126: =E120*(1+D125)*D123 -> 36.88425 | F126: txkm
B128: 2.4 | E128: Adequação de sinalização vertical
B129: 2.4.1 | C129: SICRO-PR | D129: 5213571 | E129: Placa em aço - película I + III - fornecimento e implantação | F129: m² | G129: =E131 -> 1.08
C130: Dimensão marcadores de perigo: 0,3m x 0,9m
C131: Área da placa (4 un.): | D131: 4*0,3*0,9 = | E131: =4*0.3*0.9 -> 1.08 | F131: m²
...

Sheet Tab_Anomalias
C3: MEMÓRIA DE CÁLCULO - Recuperação de estrutura existente
B5: OBRA: | D5: Ponte sobre o Rio Negro - Estrada KO-402
B7: TABELAS DE QUANTIDADES (Relatório de Inspeção - Patologia)
A9: 1 | B9: Anomalia: concreto segregado ou disgregado com armadura exposta e oxidada
B11: Área: | C11: =E24+J24+E30+E39+J39+O39+E45+J45+E56+J56+E63+J63+J70+O70+J77+O83+E93+J93+O93+E98+J107+O113+E119+J119+E127+E135+J135+O135+O141+E150+J150+O150+E157+E170+J170+O170+E178+J178+O178+E190+J190+O190 -> 18.136 | D11: m²
B12: Perímetro: | C12: =F24+K24+F30+F39+K39+P39+F45+K45+F56+K56+F63+K63+K70+P70+K77+P83+F93+K93+P93+F98+K107+P113+F119+K119+F127+F135+K135+P135+P141+F150+K150+P150+F157+F170+K170+P170+F178+K178+P178+F190+K190+P190 -> 243.72 | D12: m
B14: Viga longarina VL1 - vão 1
B15: Face leste | F15: Perim. | G15: Face inferior | K15: Perim. | L15: Face oeste | P15: Perim.
B16: Nº | C16: Comprimento | D16: Altura | E16: Área | G16: Nº | H16: Comprimento | I16: Altura | J16: Área | L16: Nº | M16: Comprimento | N16: Altura | O16: Área
B17: 1 | C17: 1 | D17: 0.2 | E17: =C17*D17 -> 0.2 | F17: =(C17+D17)*2 -> 2.4 | G17: 1 | H17: 1 | I17: 0.3 | J17: =H17*I17 -> 0.3 | K17: =(H17+I17)*2 -> 2.6 | L17: 1 | M17: 1 | N17: 0.2 | O17: =M17*N17 -> 0.2 | P17: =(M17+N17)*2 -> 2.4
B18: 2 | C18: 0.5 | D18: 0.2 | E18: =C18*D18 -> 0.1 | F18: =(C18+D18)*2 -> 1.4 | G18: 2 | H18: 0.3 | I18: 0.3 | J18: =H18*I18 -> 0.09 | K18: =(H18+I18)*2 -> 1.2 | L18: - | M18: - | N18: - | O18: -
B19: - | C19: - | D19: - | E19: - | G19: 3 | H19: 0.3 | I19: 0.3 | J19: =H19*I19 -> 0.09 | K19: =(H19+I19)*2 -> 1.2 | L19: - | M19: - | N19: - | O19: -
B20: - | C20: - | D20: - | E20: - | G20: 4 | H20: 0.3 | I20: 0.3 | J20: =H20*I20 -> 0.09 | K20: =(H20+I20)*2 -> 1.2 | L20: - | M20: - | N20: - | O20: -
B21: - | C21: - | D21: - | E21: - | G21: 5 | H21: 1.5 | I21: 0.3 | J21: =H21*I21 -> 0.45 | K21: =(H21+I21)*2 -> 3.6 | L21: - | M21: - | N21: - | O21: -
B22: - | C22: - | D22: - | E22: - | G22: 6 | H22: 0.3 | I22: 0.3 | J22: =H22*I22 -> 0.09 | K22: =(H22+I22)*2 -> 1.2 | L22: - | M22: - | N22: - | O22: -
B23: - | C23: - | D23: - | E23: - | G23: 7 | H23: 0.1 | I23: 0.3 | J23: =H23*I23 -> 0.03 | K23: =(H23+I23)*2 -> 0.8 | L23: - | M23: - | N23: - | O23: -
E24: =SUM(E17:E23) -> 0.3 | F24: =SUM(F17:F23) -> 3.8 | J24: =SUM(J17:J23) -> 1.14 | K24: =SUM(K17:K23) -> 11.8
B26: Face leste | F26: Perim. | G26: - | K26: Perim. | L26: - | P26: Perim.
B27: Nº | C27: Comprimento | D27: Altura | E27: Área | G27: Nº | H27: Comprimento | I27: Altura | J27: Área | L27: Nº | M27: Comprimento | N27: Altura | O27: Área
B28: 1 | C28: 0.1 | D28: 0.5 | E28: =C28*D28 -> 0.05 | F28: =(C28+D28)*2 -> 1.2 | G28: - | H28: - | I28: - | J28: - | L28: - | M28: - | N28: - | O28: -
B29: 2 | C29: 0.1 | D29: 0.1 | E29: =C29*D29 -> 0.01 | F29: =(C29+D29)*2 -> 0.4 | G29: - | H29: - | I29: - | J29: - | L29: - | M29: - | N29: - | O29: -
E30: =SUM(E28:E29) -> 0.06 | F30: =SUM(F28:F29) -> 1.6
B32: Elemento: Viga longarina VL1 - vão 2
B33: Face leste | F33: Perim. | G33: Face inferior | K33: Perim. | L33: Face oeste | P33: Perim.
B34: Nº | C34: Comprimento | D34: Altura | E34: Área | G34: Nº | H34: Comprimento | I34: Altura | J34: Área | L34: Nº | M34: Comprimento | N34: Altura | O34: Área
B35: 1 | C35: 1.1 | D35: 0.2 | E35: =C35*D35 -> 0.22 | F35: =(C35+D35)*2 -> 2.6 | G35: 1 | H35: 1 | I35: 0.3 | J35: =H35*I35 -> 0.3 | K35: =(H35+I35)*2 -> 2.6 | L35: 1 | M35: 0.3 | N35: 0.3 | O35: =M35*N35 -> 0.09 | P35: =(M35+N35)*2 -> 1.2
B36: 2 | C36: 1 | D36: 0.2 | E36: =C36*D36 -> 0.2 | F36: =(C36+D36)*2 -> 2.4 | G36: 2 | H36: 1.5 | I36: 0.3 | J36: =H36*I36 -> 0.45 | K36: =(H36+I36)*2 -> 3.6 | L36: 2 | M36: 3 | N36: 0.1 | O36: =M36*N36 -> 0.3 | P36: =(M36+N36)*2 -> 6.2
B37: 3 | C37: 1 | D37: 0.2 | E37: =C37*D37 -> 0.2 | F37: =(C37+D37)*2 -> 2.4 | G37: 3 | H37: 0.7 | I37: 0.3 | J37: =H37*I37 -> 0.21 | K37: =(H37+I37)*2 -> 2 | L37: - | M37: - | N37: - | O37: -
B38: - | C38: - | D38: - | E38: - | G38: 4 | H38: 1.4 | I38: 0.3 | J38: =H38*I38 -> 0.42 | K38: =(H38+I38)*2 -> 3.4 | L38: - | M38: - | N38: - | O38: -
E39: =SUM(E35:E38) -> 0.62 | F39: =SUM(F35:F38) -> 7.4 | J39: =SUM(J35:J38) -> 1.38 | K39: =SUM(K35:K38) -> 11.6 | O39: =SUM(O35:O38) -> 0.39 | P39: =SUM(P35:P38) -> 7.4
B41: Elemento: Viga longarina VL1 - vão 3
B42: Face leste | F42: Perim. | G42: Face inferior | K42: Perim. | L42: Face oeste | P42: Perim.
B43: Nº | C43: Comprimento | D43: Altura | E43: Área | G43: Nº | H43: Comprimento | I43: Altura | J43: Área | L43: Nº | M43: Comprimento | N43: Altura | O43: Área
B44: 1 | C44: 0.3 | D44: 0.3 | E44: =C44*D44 -> 0.09 | F44: =(C44+D44)*2 -> 1.2 | G44: 1 | H44: 1 | I44: 0.3 | J44: =H44*I44 -> 0.3 | K44: =(H44+I44)*2 -> 2.6 | L44: - | M44: - | N44: - | O44: -
E45: =SUM(E44) -> 0.09 | F45: =SUM(F44) -> 1.2 | J45: =SUM(J44) -> 0.3 | K45: =SUM(K44) -> 2.6
B47: Elemento: Viga longarina VL2 - vão 1
B48: Face leste | F48: Perim. | G48: Face inferior | K48: Perim. | L48: Face oeste | P48: Perim.
B49: Nº | C49: Comprimento | D49: Altura | E49: Área | G49: Nº | H49: Comprimento | I49: Altura | J49: Área | L49: Nº | M49: Comprimento | N49: Altura | O49: Área
B50: 1 | C50: 0.5 | D50: 0.2 | E50: =C50*D50 -> 0.1 | F50: =(C50+D50)*2 -> 1.4 | G50: 1 | H50: 1 | I50: 0.3 | J50: =H50*I50 -> 0.3 | K50: =(H50+I50)*2 -> 2.6 | L50: - | M50: - | N50: - | O50: -
B51: - | C51: - | D51: - | E51: - | G51: 2 | H51: 0.3 | I51: 0.3 | J51: =H51*I51 -> 0.09 | K51: =(H51+I51)*2 -> 1.2 | L51: - | M51: - | N51: - | O51: -
B52: - | C52: - | D52: - | E52: - | G52: 3 | H52: 0.3 | I52: 0.3 | J52: =H52*I52 -> 0.09 | K52: =(H52+I52)*2 -> 1.2 | L52: - | M52: - | N52: - | O52: -
B53: - | C53: - | D53: - | E53: - | G53: 4 | H53: 0.8 | I53: 0.3 | J53: =H53*I53 -> 0.24 | K53: =(H53+I53)*2 -> 2.2 | L53: - | M53: - | N53: - | O53: -
B54: - | C54: - | D54: - | E54: - | G54: 5 | H54: 0.3 | I54: 0.3 | J54: =H54*I54 -> 0.09 | K54: =(H54+I54)*2 -> 1.2 | L54: - | M54: - | N54: - | O54: -
B55: - | C55: - | D55: - | E55: - | G55: 6 | H55: 0.5 | I55: 0.3 | J55: =H55*I55 -> 0.15 | K55: =(H55+I55)*2 -> 1.6 | L55: - | M55: - | N55: - | O55: -
E56: =SUM(E50:E55) -> 0.1 | F56: =SUM(F50:F55) -> 1.4 | J56: =SUM(J50:J55) -> 0.96 | K56: =SUM(K50:K55) -> 10
B58: Elemento: Viga longarina VL2 - vão 2
B59: Face leste | F59: Perim. | G59: Face inferior | K59: Perim. | L59: Face oeste | P59: Perim.
B60: Nº | C60: Comprimento | D60: Altura | E60: Área | G60: Nº | H60: Comprimento | I60: Altura | J60: Área | L60: Nº | M60: Comprimento | N60: Altura | O60: Área
B61: 1 | C61: 2 | D61: 0.1 | E61: =C61*D61 -> 0.2 | F61: =(C61+D61)*2 -> 4.2 | G61: 1 | H61: 9 | I61: 0.3 | J61: =H61*I61 -> 2.7 | K61: =(H61+I61)*2 -> 18.6 | L61: - | M61: - | N61: - | O61: -
B62: 2 | C62: 1 | D62: 0.2 | E62: =C62*D62 -> 0.2 | F62: =(C62+D62)*2 -> 2.4 | G62: - | H62: - | I62: - | J62: - | L62: - | M62: - | N62: - | O62: -
E63: =SUM(E61:E62) -> 0.4 | F63: =SUM(F61:F62) -> 6.6 | J63: =SUM(J61:J62) -> 2.7 | K63: =SUM(K61:K62) -> 18.6
B65: Elemento: Viga longarina VL2 - vão 3
B66: Face leste | F66: Perim. | G66: Face inferior | K66: Perim. | L66: Face oeste | P66: Perim.
B67: Nº | C67: Comprimento | D67: Altura | E67: Área | G67: Nº | H67: Comprimento | I67: Altura | J67: Área | L67: Nº | M67: Comprimento | N67: Altura | O67: Área
B68: - | C68: - | D68: - | E68: - | G68: 1 | H68: 5 | I68: 0.3 | J68: =H68*I68 -> 1.5 | K68: =(H68+I68)*2 -> 10.6 | L68: 1 | M68: 2 | N68: 0.2 | O68: =M68*N68 -> 0.4 | P68: =(M68+N68)*2 -> 4.4
B69: - | C69: - | D69: - | E69: - | G69: 2 | H69: 2.2 | I69: 0.3 | J69: =H69*I69 -> 0.66 | K69: =(H69+I69)*2 -> 5 | L69: - | M69: - | N69: - | O69: -
J70: =SUM(J68:J69) -> 2.16 | K70: =SUM(K68:K69) -> 15.6 | O70: =SUM(O68:O69) -> 0.4 | P70: =SUM(P68:P69) -> 4.4
B72: Elemento: Viga longarina VL3 - vão 1
B73: Face leste | F73: Perim. | G73: Face inferior | K73: Perim. | L73: Face oeste | P73: Perim.
B74: Nº | C74: Comprimento | D74: Altura | E74: Área | G74: Nº | H74: Comprimento | I74: Altura | J74: Área | L74: Nº | M74: Comprimento | N74: Altura | O74: Área
B75: - | C75: - | D75: - | E75: - | G75: 1 | H75: 0.1 | I75: 0.3 | J75: =H75*I75 -> 0.03 | K75: =(H75+I75)*2 -> 0.8 | L75: - | M75: - | N75: - | O75: -
B76: - | C76: - | D76: - | E76: - | G76: 2 | H76: 0.1 | I76: 0.3 | J76: =H76*I76 -> 0.03 | K76: =(H76+I76)*2 -> 0.8 | L76: - | M76: - | N76: - | O76: -
J77: =SUM(J75:J76) -> 0.06 | K77: =SUM(K75:K76) -> 1.6
B79: Face leste | F79: Perim. | G79: Face inferior | K79: Perim. | L79: Face oeste | P79: Perim.
B80: Nº | C80: Comprimento | D80: Altura | E80: Área | G80: Nº | H80: Comprimento | I80: Altura | J80: Área | L80: Nº | M80: Comprimento | N80: Altura | O80: Área
B81: - | C81: - | D81: - | E81: - | G81: - | H81: - | I81: - | J81: - | L81: 1 | M81: 1 | N81: 0.1 | O81: =M81*N81 -> 0.1 | P81: =(M81+N81)*2 -> 2.2
B82: - | C82: - | D82: - | E82: - | G82: - | H82: - | I82: - | J82: - | L82: 2 | M82: 1 | N82: 0.1 | O82: =M82*N82 -> 0.1 | P82: =(M82+N82)*2 -> 2.2
O83: =SUM(O81:O82) -> 0.2 | P83: =SUM(P81:P82) -> 4.4
B85: Elemento: Viga longarina VL3 - vão 2
B86: Face leste | F86: Perim. | G86: Face inferior | K86: Perim. | L86: Face oeste | P86: Perim.
B87: Nº | C87: Comprimento | D87: Altura | E87: Área | G87: Nº | H87: Comprimento | I87: Altura | J87: Área | L87: Nº | M87: Comprimento | N87: Altura | O87: Área
B88: 1 | C88: 2 | D88: 0.1 | E88: =C88*D88 -> 0.2 | F88: =(C88+D88)*2 -> 4.2 | G88: 1 | H88: 0.4 | I88: 0.1 | J88: =H88*I88 -> 0.04 | K88: =(H88+I88)*2 -> 1 | L88: 1 | M88: 0.4 | N88: 0.1 | O88: =M88*N88 -> 0.04 | P88: =(M88+N88)*2 -> 1
B89: 2 | C89: 0.4 | D89: 0.1 | E89: =C89*D89 -> 0.04 | F89: =(C89+D89)*2 -> 1 | G89: 2 | H89: 4.8 | I89: 0.1 | J89: =H89*I89 -> 0.48 | K89: =(H89+I89)*2 -> 9.8 | L89: 2 | M89: 0.4 | N89: 0.1 | O89: =M89*N89 -> 0.04 | P89: =(M89+N89)*2 -> 1
B90: 3 | C90: 0.05 | D90: 0.3 | E90: =C90*D90 -> 0.015 | F90: =(C90+D90)*2 -> 0.7 | G90: - | H90: - | I90: - | J90: - | L90: 3 | M90: 1 | N90: 0.1 | O90: =M90*N90 -> 0.1 | P90: =(M90+N90)*2 -> 2.2
B91: 4 | C91: 0.05 | D91: 0.3 | E91: =C91*D91 -> 0.015 | F91: =(C91+D91)*2 -> 0.7 | G91: - | H91: - | I91: - | J91: - | L91: 4 | M91: 0.3 | N91: 0.1 | O91: =M91*N91 -> 0.03 | P91: =(M91+N91)*2 -> 0.8
B92: 5 | C92: 0.05 | D92: 0.3 | E92: =C92*D92 -> 0.015 | F92: =(C92+D92)*2 -> 0.7 | G92: - | H92: - | I92: - | J92: - | L92: - | M92: - | N92: - | O92: -
E93: =SUM(E88:E92) -> 0.285 | F93: =SUM(F88:F92) -> 7.3 | J93: =SUM(J88:J92) -> 0.52 | K93: =SUM(K88:K92) -> 10.8 | O93: =SUM(O88:O92) -> 0.21 | P93: =SUM(P88:P92) -> 5
B95: Face leste | F95: Perim. | G95: Face inferior | K95: Perim. | L95: Face oeste | P95: Perim.
B96: Nº | C96: Comprimento | D96: Altura | E96: Área | G96: Nº | H96: Comprimento | I96: Altura | J96: Área | L96: Nº | M96: Comprimento | N96: Altura | O96: Área
B97: 1 | C97: 0.3 | D97: 0.1 | E97: =C97*D97 -> 0.03 | F97: =(C97+D97)*2 -> 0.8 | G97: - | H97: - | I97: - | J97: - | L97: - | M97: - | N97: - | O97: -
E98: =SUM(E97) -> 0.03 | F98: =SUM(F97) -> 0.8
B100: Elemento: Viga longarina VL3 - vão 3
B101: Face leste | F101: Perim. | G101: Face inferior | K101: Perim. | L101: Face oeste | P101: Perim.
B102: Nº | C102: Comprimento | D102: Altura | E102: Área | G102: Nº | H102: Comprimento | I102: Altura | J102: Área | L102: Nº | M102: Comprimento | N102: Altura | O102: Área
B103: - | C103: - | D103: - | E103: - | G103: 1 | H103: 1 | I103: 0.3 | J103: =H103*I103 -> 0.3 | K103: =(H103+I103)*2 -> 2.6 | L103: - | M103: - | N103: - | O103: -
B104: - | C104: - | D104: - | E104: - | G104: 2 | H104: 0.4 | I104: 0.3 | J104: =H104*I104 -> 0.12 | K104: =(H104+I104)*2 -> 1.4 | L104: - | M104: - | N104: - | O104: -
B105: - | C105: - | D105: - | E105: - | G105: 3 | H105: 0.6 | I105: 0.3 | J105: =H105*I105 -> 0.18 | K105: =(H105+I105)*2 -> 1.8 | L105: - | M105: - | N105: - | O105: -
B106: - | C106: - | D106: - | E106: - | G106: 4 | H106: 0.1 | I106: 0.3 | J106: =H106*I106 -> 0.03 | K106: =(H106+I106)*2 -> 0.8 | L106: - | M106: - | N106: - | O106: -
J107: =SUM(J103:J106) -> 0.63 | K107: =SUM(K103:K106) -> 6.6
B109: Elemento: Transversina VT1
B110: Face norte | F110: Perim. | G110: Face inferior | K110: Perim. | L110: Face sul | P110: Perim.
B111: Nº | C111: Comprimento | D111: Altura | E111: Área | G111: Nº | H111: Comprimento | I111: Altura | J111: Área | L111: Nº | M111: Comprimento | N111: Altura | O111: Área
B112: - | C112: - | D112: - | E112: - | G112: - | H112: - | I112: - | J112: - | L112: 1 | M112: 0.1 | N112: 0.1 | O112: =M112*N112 -> 0.01 | P112: =(M112+N112)*2 -> 0.4
O113: =SUM(O112) -> 0.01 | P113: =SUM(P112) -> 0.4
B115: Elemento: Transversina VT2
B116: Face norte | F116: Perim. | G116: Face inferior | K116: Perim. | L116: Face sul | P116: Perim.
B117: Nº | C117: Comprimento | D117: Altura | E117: Área | G117: Nº | H117: Comprimento | I117: Altura | J117: Área | L117: Nº | M117: Comprimento | N117: Altura | O117: Área
B118: 1 | C118: 1.77 | D118: 0.1 | E118: =C118*D118 -> 0.177 | F118: =(C118+D118)*2 -> 3.74 | G118: 1 | H118: 1.4 | I118: 0.2 | J118: =H118*I118 -> 0.28 | K118: =(H118+I118)*2 -> 3.2 | L118: - | M118: - | N118: - | O118: -
E119: =SUM(E118) -> 0.177 | F119: =SUM(F118) -> 3.74 | J119: =SUM(J118) -> 0.28 | K119: =SUM(K118) -> 3.2
B121: Elemento: Transversina VT3
...

Sheet Tab_fissuras
A1: FISSURA | B1: ELEMENTO ESTRUTURAL | C1: FACE | D1: COMPRIMENTO DA FISSURA (m) | E1: ABERTURA MÁXIMA (mm) / TIPO | F1: DISTÂNCIA DO ELEMENTO ESTRUTURAL
A2: F.01 | B2: VL1 - VÃO 1 | C2: LESTE/OESTE | D2: 2.8 | E2: 8 | F2: 0,8m da TR1
A3: F.02 | B3: VL1 - VÃO 2 | C3: LESTE/OESTE | D3: 2 | E3: 2 | F3: 0,3m da TR2 | H3: Comprimento fissuras injetar epóxi e grampear: | I3: =SUM(D2:D24) -> 31.7 | J3: m
A4: F.03 | B4: VL1 - VÃO 2 | C4: LESTE/OESTE | D4: 1.5 | E4: 2 | F4: 0,9m da TR2
A5: F.04 | B5: VL1 - VÃO 2 | C5: LESTE/OESTE | D5: 1.6 | E5: 2 | F5: 1,2m da TR2 | H5: Comprimento fissuras grampear: | I5: =SUM(D25:D31) -> 14.16 | J5: m
A6: F.05 | B6: VL1 - VÃO 2 | C6: INFERIOR | D6: 0.3 | E6: 1 | F6: 0,9m da TR2
A7: F.06 | B7: VL1 - VÃO 2 | C7: INFERIOR | D7: 0.3 | E7: 1 | F7: 1,2m da TR2
A8: F.07 | B8: VL1 - VÃO 3 | C8: LESTE | D8: 0.8 | E8: 3 | F8: 1,0m da TR2
A9: F.08 | B9: VL1 - VÃO 3 | C9: LESTE | D9: 0.7 | E9: 3 | F9: 0,5m da TR2
A10: F.09 | B10: VL2 - VÃO 1 | C10: LESTE | D10: 1 | E10: 6 | F10: 0,7m da TR1
A11: F.10 | B11: VL2 - VÃO 1 | C11: LESTE | D11: 0.5 | E11: 3 | F11: 1,0m da TR1
A12: F.11 | B12: VL2 - VÃO 1 | C12: OESTE | D12: 1.1 | E12: 3 | F12: 0,6m da TR1
A13: F.12 | B13: VL2 - VÃO 2 | C13: LESTE/OESTE | D13: 2.2 | E13: 2 | F13: 0,5m da TR2
A14: F.13 | B14: VL2 - VÃO 2 | C14: LESTE/OESTE | D14: 2.2 | E14: 4 | F14: 0,5m da TR1
A15: F.14 | B15: VL2 - VÃO 3 | C15: LESTE | D15: 0.2 | E15: 1 | F15: 1,1m da TR2
A16: F.15 | B16: VL2 - VÃO 3 | C16: LESTE | D16: 0.4 | E16: 1 | F16: 0,6m da TR2
A17: F.16 | B17: VL2 - VÃO 3 | C17: LESTE/OESTE | D17: 2.8 | E17: 6 | F17: 0,7m da TR2
... A31: F.30 | B31: AL4 | C31: OESTE | D31: 0.6 | E31: 40 | F31: Região próxima ao solo
B33: Injetar epóxi e grampear
B34: Grampear

Sheet TPU_Unificada
H1: Database: | I1: 45170
A2: REFERENCIAL | B2: CÓDIGO | C2: DESCRIÇÃO | D2: UNIDADE | E2: CUSTO UNITÁRIO DIRETO | F2: BDI | G2: PREÇO UNITÁRIO COM BDI | H2: DATA BASE | I2: Índice de Reajuste | J2: Preço Unitário
I3: DNIT | J3: 45170
A4: FDE | B4: 16.35.001 | C4: Definicao e demarcacao da area de reparo, com disco de corte | D4: m | E4: =VLOOKUP(B4,Ref_Custos!$B$5:$F$66,5,FALSE) -> 6.41 | F4: 0.2273 | G4: =E4*(1+F4) -> 7.866993 | H4: 45170 | I4: 0 | J4: =ROUND(G4*(1+I4),2) -> 7.87
A5: FDE | B5: 16.47.001 | C5: Preparação de ponte de aderência com adesivo acrilico | D5: m² | E5: =VLOOKUP(B5,Ref_Custos!$B$5:$F$66,5,FALSE) -> 19.2 | F5: 0.2273 | G5: =E5*(1+F5) -> 23.56416 | H5: 45170 | I5: 0 | J5: =ROUND(G5*(1+I5),2) -> 23.56
A6: FDE | B6: 16.35.019 | C6: Limpeza do substrato, com jato de ar comprimido | D6: m² | E6: =VLOOKUP(B6,Ref_Custos!$B$5:$F$66,5,FALSE) -> 8.9 | F6: 0.2273 | G6: =E6*(1+F6) -> 10.92297 | H6: 45170 | I6: 0 | J6: =ROUND(G6*(1+I6),2) -> 10.92
A7: SICRO-PR | B7: 3806402 | C7: Limpeza em superficie de concreto com jateamento d’água sob pressão | D7: m² | E7: =VLOOKUP(B7,Ref_Custos!$B$5:$F$66,5,FALSE) -> 2.56 | F7: 0.2273 | G7: =E7*(1+F7) -> 3.141888 | H7: 45017 | I7: 0 | J7: =ROUND(G7*(1+I7),2) -> 3.14
A8: SICRO-PR | B8: 1600408 | C8: Apicoamento manual de concreto | D8: m² | E8: =VLOOKUP(B8,Ref_Custos!$B$5:$F$66,5,FALSE) -> 21.87 | F8: 0.2273 | G8: =E8*(1+F8) -> 26.841051 | H8: 45017 | I8: 0 | J8: =ROUND(G8*(1+I8),2) -> 26.84
A9: SICRO-PR | B9: 1109680 | C9: Argamassa para reparos e grauteamento - confecção em misturador e lançamento manual | D9: m³ | E9: =VLOOKUP(B9,Ref_Custos!$B$5:$F$66,5,FALSE) -> 2995.07 | F9: 0.2273 | G9: =E9*(1+F9) -> 3675.8494 | H9: 45017 | I9: 0 | J9: =ROUND(G9*(1+I9),2) -> 3675.85
A10: SICRO-PR | B10: 5915433 | C10: Carga, manobra e descarga de material demolido em caminhão basculante de 6 m³ - carga manual e descarga livre | D10: t | E10: =VLOOKUP(B10,Ref_Custos!$B$5:$F$66,5,FALSE) -> 37.07 | F10: 0.2273 | G10: =E10*(1+F10) -> 45.496011 | H10: 45017 | I10: 0 | J10: =ROUND(G10*(1+I10),2) -> 45.5
A11: SICRO-PR | B11: 5914329 | C11: Transporte com caminhão basculante de 6 m³ - rodovia em revestimento primário | D11: txkm | E11: =VLOOKUP(B11,Ref_Custos!$B$5:$F$66,5,FALSE) -> 1.04 | F11: 0.2273 | G11: =E11*(1+F11) -> 1.276392 | H11: 45017 | I11: 0 | J11: =ROUND(G11*(1+I11),2) -> 1.28
A12: SICRO-PR | B12: 4915639 | C12: Limpeza em superfície de concreto com escova de aço | D12: m² | E12: =VLOOKUP(B12,Ref_Custos!$B$5:$F$66,5,FALSE) -> 5.11 | F12: 0.2273 | G12: =E12*(1+F12) -> 6.271503 | H12: 45017 | I12: 0 | J12: =ROUND(G12*(1+I12),2) -> 6.27
A13: SICRO-PR | B13: 4915651 | C13: Bico de perfuração para injeção de adesivo estrutural à base de resina epóxi - fornecimento, instalação e retirada | D13: un | E13: =VLOOKUP(B13,Ref_Custos!$B$5:$F$66,5,FALSE) -> 9.28 | F13: 0.2273 | G13: =E13*(1+F13) -> 11.389344 | H13: 45017 | I13: 0 | J13: =ROUND(G13*(1+I13),2) -> 11.39
A14: SICRO-PR | B14: 4915650 | C14: Injeção de adesivo estrutural à base de resina epóxi de baixa viscosidade para tratamento de fissuras em estruturas de concreto - fornecimento e aplicação manual | D14: kg | E14: =VLOOKUP(B14,Ref_Custos!$B$5:$F$66,5,FALSE) -> 373.11 | F14: 0.2273 | G14: =E14*(1+F14) -> 457.9179 | H14: 45017 | I14: 0 | J14: =ROUND(G14*(1+I14),2) -> 457.92
A15: SICRO-PR | B15: 1600436 | C15: Demolição de concreto simples | D15: m³ | E15: =VLOOKUP(B15,Ref_Custos!$B$5:$F$66,5,FALSE) -> 464.43 | F15: 0.2273 | G15: =E15*(1+F15) -> 569.99494 | H15: 45017 | I15: 0 | J15: =ROUND(G15*(1+I15),2) -> 569.99
A16: SICRO-PR | B16: 407819 | C16: Armação em aço CA-50 - fornecimento, preparo e colocação | D16: kg | E16: =VLOOKUP(B16,Ref_Custos!$B$5:$F$66,5,FALSE) -> 12.54 | F16: 0.2273 | G16: =E16*(1+F16) -> 15.390342 | H16: 45017 | I16: 0 | J16: =ROUND(G16*(1+I16),2) -> 15.39
A17: SICRO-PR | B17: 5213571 | C17: Placa em aço - película I + III - fornecimento e implantação | D17: m² | E17: =VLOOKUP(B17,Ref_Custos!$B$5:$F$66,5,FALSE) -> 511.16 | F17: 0.2273 | G17: =E17*(1+F17) -> 627.34667 | H17: 45017 | I17: 0 | J17: =ROUND(G17*(1+I17),2) -> 627.35
A18: SICRO-PR | B18: 5213464 | C18: Placa de advertência em aço, lado de 0,60 m - película retrorrefletiva tipo I + SI - fornecimento e implantação | D18: un | E18: =VLOOKUP(B18,Ref_Custos!$B$5:$F$66,5,FALSE) -> 255.05 | F18: 0.2273 | G18: =E18*(1+F18) -> 313.02287 | H18: 45017 | I18: 0 | J18: =ROUND(G18*(1+I18),2) -> 313.02
... A20: SICRO-PR | B20: 5213867 | C20: Suporte metálico galvanizado para marco quilométrico - fornecimento e implantação | D20: un | E20: =VLOOKUP(B20,Ref_Custos!$B$5:$F$66,5,FALSE) -> 572.22 | F20: 0.2273 | G20: =E20*(1+F20) -> 702.28561 | H20: 45017 | I20: 0 | J20: =ROUND(G20*(1+I20),2) -> 702.29
A21: SICRO-PR | B21: 1408148 | C21: Perfuração em concreto com coroa diamantada - D = 100 mm | D21: m | E21: 497.71 | F21: 0.2273 | G21: =E21*(1+F21) -> 610.83948 | H21: 45017 | I21: 0 | J21: =ROUND(G21*(1+I21),2) -> 610.84
A22: SICRO-PR | B22: 2007971 | C22: Dreno de PVC D=100 mm para OAE - fornecimento e instalação | D22: m | E22: =VLOOKUP(B22,Ref_Custos!$B$5:$F$66,5,FALSE) -> 105.63 | F22: 0.2273 | G22: =E22*(1+F22) -> 129.6397 | H22: 45017 | I22: 0 | J22: =ROUND(G22*(1+I22),2) -> 129.64
A23: SICRO-PR | B23: 3806407 | C23: Pingadeira de elastômero perfil 40 x 40 mm com aba inclinada e fixada com adesivo estrutural e pinos - fornecimento e instalação | D23: m | E23: =VLOOKUP(B23,Ref_Custos!$B$5:$F$66,5,FALSE) -> 181.72 | F23: 0.2273 | G23: =E23*(1+F23) -> 223.02496 | H23: 45017 | I23: 0 | J23: =ROUND(G23*(1+I23),2) -> 223.02
A24: SICRO-PR | B24: 3806413 | C24: Apicoamento mecanizado de concreto | D24: m² | E24: =VLOOKUP(B24,Ref_Custos!$B$5:$F$66,5,FALSE) -> 23.27 | F24: 0.2273 | G24: =E24*(1+F24) -> 28.559271 | H24: 45017 | I24: 0 | J24: =ROUND(G24*(1+I24),2) -> 28.56
A25: SICRO-PR | B25: 1116263 | C25: Concreto para bombeamento fck = 25 MPa - confecção em central dosadora de 40 m³/h - areia e brita comerciais | D25: m³ | E25: =VLOOKUP(B25,Ref_Custos!$B$5:$F$66,5,FALSE) -> 370.72 | F25: 0.2273 | G25: =E25*(1+F25) -> 454.98466 | H25: 45017 | I25: 0 | J25: =ROUND(G25*(1+I25),2) -> 454.98
A26: SICRO-PR | B26: 1106088 | C26: Lançamento mecânico de concreto com bomba rebocável com capacidade de 30 m³/h - confecção em central dosadora de 30 m³/h | D26: m³ | E26: =VLOOKUP(B26,Ref_Custos!$B$5:$F$66,5,FALSE) -> 58.16 | F26: 0.2273 | G26: =E26*(1+F26) -> 71.379768 | H26: 45017 | I26: 0 | J26: =ROUND(G26*(1+I26),2) -> 71.38
A27: SICRO-PR | B27: 1100657 | C27: Adensamento de concreto por vibrador de imersão | D27: m³ | E27: =VLOOKUP(B27,Ref_Custos!$B$5:$F$66,5,FALSE) -> 3.71 | F27: 0.2273 | G27: =E27*(1+F27) -> 4.553283 | H27: 45017 | I27: 0 | J27: =ROUND(G27*(1+I27),2) -> 4.55
A28: SICRO-PR | B28: 3108015 | C28: Fôrmas de compensado plastificado 14 mm - uso geral - utilização de 1 vez - confecção, instalação e retirada | D28: m² | E28: =VLOOKUP(B28,Ref_Custos!$B$5:$F$66,5,FALSE) -> 159.76 | F28: 0.2273 | G28: =E28*(1+F28) -> 196.07345 | H28: 45017 | I28: 0 | J28: =ROUND(G28*(1+I28),2) -> 196.07
A29: SICRO-PR | B29: 307731 | C29: Aparelho de apoio de neoprene fretado para estruturas moldadas no local - fornecimento e instalação | D29: dm³ | E29: =VLOOKUP(B29,Ref_Custos!$B$5:$F$66,5,FALSE) -> 117.42 | F29: 0.2273 | G29: =E29*(1+F29) -> 144.10957 | H29: 45017 | I29: 0 | J29: =ROUND(G29*(1+I29),2) -> 144.11
A30: SICRO-PR | B30: 3806417 | C30: Elevação de estruturas de 496 a 929 kN para substituição de aparelho de apoio com a utilização de macaco hidráulico | D30: un | E30: =VLOOKUP(B30,Ref_Custos!$B$5:$F$66,5,FALSE) -> 89.59 | F30: 0.2273 | G30: =E30*(1+F30) -> 109.95381 | H30: 45017 | I30: 0 | J30: =ROUND(G30*(1+I30),2) -> 109.95
A31: SICRO-PR | B31: 1600990 | C31: Demolição de concreto armado com martelete e corte oxiacetileno | D31: m³ | E31: =VLOOKUP(B31,Ref_Custos!$B$5:$F$66,5,FALSE) -> 755.42 | F31: 0.2273 | G31: =E31*(1+F31) -> 927.12697 | H31: 45017 | I31: 0 | J31: =ROUND(G31*(1+I31),2) -> 927.13
A32: SICRO-PR | B32: 1108055 | C32: Argamassa autoadensável para reparos e grauteamento - confecção em misturador e lançamento manual | D32: m³ | E32: =VLOOKUP(B32,Ref_Custos!$B$5:$F$66,5,FALSE) -> 2837.55 | F32: 0.2273 | G32: =E32*(1+F32) -> 3482.5251 | H32: 45017 | I32: 0 | J32: =ROUND(G32*(1+I32),2) -> 3482.53
A33: SICRO-PR | B33: 2306180 | C33: Estaca raiz perfurada no solo com D = 45 cm - confecção | D33: m | E33: =VLOOKUP(B33,Ref_Custos!$B$5:$F$66,5,FALSE) -> 259.13 | F33: 0.2273 | G33: =E33*(1+F33) -> 318.03025 | H33: 45017 | I33: 0 | J33: =ROUND(G33*(1+I33),2) -> 318.03
... A35: SICRO-PR | B35: 5212560 | C35: Placa de advertência para sinalização de obras montada em suporte metálico móvel, lado 1,00 m - utilização de 600 ciclos - fornecimento, 01 implantação e 01 retirada diária | D35: un.dia | E35: =VLOOKUP(B35,Ref_Custos!$B$5:$F$66,5,FALSE) -> 4.15 | F35: 0.2273 | G35: =E35*(1+F35) -> 5.093295 | H35: 45017 | I35: 0 | J35: =ROUND(G35*(1+I35),2) -> 5.09
A36: SIURB | B36: 10-04-00 | C36: Corte superficial de concreto até 3 cm de profundidade | D36: m² | E36: =VLOOKUP(B36,Ref_Custos!$B$5:$F$66,5,FALSE) -> 82.13 | F36: 0.2273 | G36: =E36*(1+F36) -> 100.79815 | H36: 45108 | I36: 0 | J36: =ROUND(G36*(1+I36),2) -> 100.8
A37: SIURB | B37: 10-15-00 | C37: Cura química | D37: m² | E37: =VLOOKUP(B37,Ref_Custos!$B$5:$F$66,5,FALSE) -> 2.36 | F37: 0.2273 | G37: =E37*(1+F37) -> 2.896428 | H37: 45108 | I37: 0 | J37: =ROUND(G37*(1+I37),2) -> 2.9
A38: DER-SP | B38: 27.01.40 | C38: Tratamento de armadura com primer rico em zinco | D38: m² | E38: =VLOOKUP(B38,Ref_Custos!$B$5:$F$66,5,FALSE) -> 15.56 | F38: 0.2273 | G38: =E38*(1+F38) -> 19.096788 | H38: 45078 | I38: 0 | J38: =ROUND(G38*(1+I38),2) -> 19.1
A39: DER-SP | B39: 27.02.08 | C39: Limpeza manual com escova de aço p/aço | D39: m | E39: =VLOOKUP(B39,Ref_Custos!$B$5:$F$66,5,FALSE) -> 9.55 | F39: 0.2273 | G39: =E39*(1+F39) -> 11.720715 | H39: 45078 | I39: 0 | J39: =ROUND(G39*(1+I39),2) -> 11.72
A40: DER-SP | B40: 27.06.17 | C40: Chumbamento barras resina c/resina epóxi inj. | D40: kg | E40: =VLOOKUP(B40,Ref_Custos!$B$5:$F$66,5,FALSE) -> 118.46 | F40: 0.2273 | G40: =E40*(1+F40) -> 145.38596 | H40: 45078 | I40: 0 | J40: =ROUND(G40*(1+I40),2) -> 145.39
A41: DER-SP | B41: 27.16.01 | C41: Aplicação manual e preparo de pasta para estucamento em OAE, sem pintura | D41: m² | E41: =VLOOKUP(B41,Ref_Custos!$B$5:$F$66,5,FALSE) -> 24.03 | F41: 0.2273 | G41: =E41*(1+F41) -> 29.492019 | H41: 45078 | I41: 0 | J41: =ROUND(G41*(1+I41),2) -> 29.49
A42: DER-SP | B42: 27.14.04 | C42: Pintura acrílica - 2 demãos | D42: m² | E42: =VLOOKUP(B42,Ref_Custos!$B$5:$F$66,5,FALSE) -> 56.43 | F42: 0.2273 | G42: =E42*(1+F42) -> 69.256539 | H42: 45078 | I42: 0 | J42: =ROUND(G42*(1+I42),2) -> 69.26
A43: DER-PR | B43: 706160 | C43: Perfuração em concreto armado d=16,0mm | D43: m | E43: =VLOOKUP(B43,Ref_Custos!$B$5:$F$66,5,FALSE) -> 249.18 | F43: 0.2273 | G43: =E43*(1+F43) -> 305.81861 | H43: 44958 | I43: 0 | J43: =ROUND(G43*(1+I43),2) -> 305.82
A44: DER-PR | B44: 706200 | C44: Perfuração em concreto armado d=20,0mm | D44: m | E44: =VLOOKUP(B44,Ref_Custos!$B$5:$F$66,5,FALSE) -> 319.8 | F44: 0.2273 | G44: =E44*(1+F44) -> 392.49054 | H44: 44958 | I44: 0 | J44: =ROUND(G44*(1+I44),2) -> 392.49
A45: DER-PR | B45: 706120 | C45: Perfuração em concreto armado d=12,7mm | D45: m | E45: =VLOOKUP(B45,Ref_Custos!$B$5:$F$66,5,FALSE) -> 177.99 | F45: 0.2273 | G45: =E45*(1+F45) -> 218.44713 | H45: 44958 | I45: 0 | J45: =ROUND(G45*(1+I45),2) -> 218.45

Sheet Ref_Custos
E1: Data base: | F1: 45170
C2: *ATUALIZADO PELO INCC DO PERÍODO | E2: BDI: | F2: 0
A3: REFERENCIAL | B3: CÓDIGO | C3: DESCRIÇÃO | D3: UNIDADE | E3: VALOR TABELA | F3: CUSTO UNITÁRIO
A5: FDE | B5: 16.35.001 | C5: Definicao e demarcacao da area de reparo, com disco de corte | D5: m | E5: 6.407625 | F5: =ROUND((E5*(1+$F$2)),2) -> 6.41
A6: FDE | B6: 16.47.001 | C6: Preparação de ponte de aderência com adesivo acrilico | D6: m² | E6: 19.198465 | F6: =ROUND((E6*(1+$F$2)),2) -> 19.2
A7: FDE | B7: 16.35.019 | C7: Limpeza do substrato, com jato de ar comprimido | D7: m² | E7: 8.897445 | F7: =ROUND((E7*(1+$F$2)),2) -> 8.9
E9: Data base: | F9: 45017
E10: BDI: | F10: 0
A11: REFERENCIAL | B11: CÓDIGO | C11: DESCRIÇÃO | D11: UNIDADE | E11: VALOR TABELA | F11: CUSTO UNITÁRIO
A13: SICRO-PR | B13: 3806402 | C13: Limpeza em superficie de concreto com jateamento d’água sob pressão | D13: m² | E13: 2.56 | F13: =ROUND((E13*(1+$F$10)),2) -> 2.56
A14: SICRO-PR | B14: 1600408 | C14: Apicoamento manual de concreto | D14: m² | E14: 21.87 | F14: =ROUND((E14*(1+$F$10)),2) -> 21.87
A15: SICRO-PR | B15: 1109680 | C15: Argamassa para reparos e grauteamento - confecção em misturador e lançamento manual | D15: m³ | E15: 2995.07 | F15: =ROUND((E15*(1+$F$10)),2) -> 2995.07
A16: SICRO-PR | B16: 5915433 | C16: Carga, manobra e descarga de material demolido em caminhão basculante de 6 m³ - carga manual e descarga livre | D16: t | E16: 37.07 | F16: =ROUND((E16*(1+$F$10)),2) -> 37.07
A17: SICRO-PR | B17: 5914329 | C17: Transporte com caminhão basculante de 6 m³ - rodovia em revestimento primário | D17: txkm | E17: 1.04 | F17: =ROUND((E17*(1+$F$10)),2) -> 1.04
A18: SICRO-PR | B18: 4915639 | C18: Limpeza em superfície de concreto com escova de aço | D18: m² | E18: 5.11 | F18: =ROUND((E18*(1+$F$10)),2) -> 5.11
A19: SICRO-PR | B19: 4915651 | C19: Bico de perfuração para injeção de adesivo estrutural à base de resina epóxi - fornecimento, instalação e retirada | D19: un | E19: 9.28 | F19: =ROUND((E19*(1+$F$10)),2) -> 9.28
A20: SICRO-PR | B20: 4915650 | C20: Injeção de adesivo estrutural à base de resina epóxi de baixa viscosidade para tratamento de fissuras em estruturas de concreto - fornecimento e aplicação manual | D20: kg | E20: 373.11 | F20: =ROUND((E20*(1+$F$10)),2) -> 373.11
A21: SICRO-PR | B21: 1600436 | C21: Demolição de concreto simples | D21: m³ | E21: 464.43 | F21: =ROUND((E21*(1+$F$10)),2) -> 464.43
A22: SICRO-PR | B22: 407819 | C22: Armação em aço CA-50 - fornecimento, preparo e colocação | D22: kg | E22: 12.54 | F22: =ROUND((E22*(1+$F$10)),2) -> 12.54
A23: SICRO-PR | B23: 5213571 | C23: Placa em aço - película I + III - fornecimento e implantação | D23: m² | E23: 511.16 | F23: =ROUND((E23*(1+$F$10)),2) -> 511.16
A24: SICRO-PR | B24: 5213464 | C24: Placa de advertência em aço, lado de 0,60 m - película retrorrefletiva tipo I + SI - fornecimento e implantação | D24: un | E24: 255.05 | F24: =ROUND((E24*(1+$F$10)),2) -> 255.05
... A41: SICRO-PR | B41: 5212560 | C41: Placa de advertência para sinalização de obras montada em suporte metálico móvel, lado 1,00 m - utilização de 600 ciclos - fornecimento, 01 implantação e 01 retirada diária | D41: un.dia | E41: 4.15 | F41: =ROUND((E41*(1+$F$10)),2) -> 4.15
E43: Data base: | F43: 45108
E44: BDI: | F44: 0
A45: REFERENCIAL | B45: CÓDIGO | C45: DESCRIÇÃO | D45: UNIDADE | E45: VALOR TABELA | F45: CUSTO UNITÁRIO
A47: SIURB | B47: 10-04-00 | C47: Corte superficial de concreto até 3 cm de profundidade | D47: m² | E47: 82.13 | F47: =ROUND((E47*(1+$F$10)),2) -> 82.13
A48: SIURB | B48: 10-15-00 | C48: Cura química | D48: m² | E48: 2.36 | F48: =ROUND((E48*(1+$F$10)),2) -> 2.36
E50: Data base: | F50: 45078
E51: BDI: | F51: 0
A52: REFERENCIAL | B52: CÓDIGO | C52: DESCRIÇÃO | D52: UNIDADE | E52: VALOR TABELA | F52: CUSTO UNITÁRIO
A54: DER-SP | B54: 27.01.40 | C54: Tratamento de armadura com primer rico em zinco | D54: m² | E54: 15.56 | F54: =ROUND((E54*(1+$F$10)),2) -> 15.56
A55: DER-SP | B55: 27.02.08 | C55: Limpeza manual com escova de aço p/aço | D55: m | E55: 9.55 | F55: =ROUND((E55*(1+$F$10)),2) -> 9.55
A56: DER-SP | B56: 27.06.17 | C56: Chumbamento barras resina c/resina epóxi inj. | D56: kg | E56: 118.46 | F56: =ROUND((E56*(1+$F$10)),2) -> 118.46
A57: DER-SP | B57: 27.16.01 | C57: Aplicação manual e preparo de pasta para estucamento em OAE, sem pintura | D57: m² | E57: 24.03 | F57: =ROUND((E57*(1+$F$10)),2) -> 24.03
A58: DER-SP | B58: 27.14.04 | C58: Pintura acrílica - 2 demãos | D58: m² | E58: 56.43 | F58: =ROUND((E58*(1+$F$10)),2) -> 56.43
E60: Data base: | F60: 44958
E61: BDI: | F61: 0
A62: REFERENCIAL | B62: CÓDIGO | C62: DESCRIÇÃO | D62: UNIDADE | E62: VALOR TABELA | F62: CUSTO UNITÁRIO
A64: DER-PR | B64: 706160 | C64: Perfuração em concreto armado d=16,0mm | D64: m | E64: 249.18 | F64: =ROUND((E64*(1+$F$10)),2) -> 249.18
A65: DER-PR | B65: 706200 | C65: Perfuração em concreto armado d=20,0mm | D65: m | E65: 319.8 | F65: =ROUND((E65*(1+$F$10)),2) -> 319.8
A66: DER-PR | B66: 706120 | C66: Perfuração em concreto armado d=12,7mm | D66: m | E66: 177.99 | F66: =ROUND((E66*(1+$F$10)),2) -> 177.99
A67: DER-PR | B67: 706100 | C67: Perfuração em concreto armado d=10,0mm | D67: m | E67: 150.53 | F67: =ROUND((E67*(1+$F$10)),2) -> 150.53

Sheet BDI
