Workbook
Name _4.1.4: #REF!
Name _4.1.4: #REF!
Name _TOT20: [1]Indiretas!#REF!
Name _TOT20: [1]Indiretas!#REF!
Name CD: #REF!
Name CD: #REF!
Name CI: #REF!
Name CI: #REF!
Name PV: #REF!
Name PV: #REF!
Name PVA: #REF!
Name PVA: #REF!
Name STI: #REF!
Name STI: #REF!

Sheet Orçamento (2)
D1: ORIENTAÇÕES
D3: 1. Preencha apenas a aba "Orçamento" e apenas as células em amarelo
D4: 2. Indique o valor percentual de BDI na coluna K da aba "Orçamento"
D5: 3. Preencha a aba cronograma fisico-financeiro conforme proposta

Sheet Orçamento
D1: PLANILHA DE ORÇAMENTO - ESTIMATIVA DE PREÇO | K1: =L71 -> 0
D3: OBRA: | E3: MURO DE ARRIMO PARA A ESCOLA MARCIANO DE CARVALHO | G3: 1.2273 | H3: I-BDI | I3: =K3/100 -> 0 | J3: BDI:
D4: LOCAL: | E4: RUA FORTALEZA, Nº 672, CENTRO, MUNCÍPIO DE PIÊN/PR - CEP 83860-000 | J4: REFERÊNCIA:
D5: ÁREA: | E5: 86,10 M² | J5: DATA BASE:
B7: Item | C7: Descrição | G7: Referência SINAPI | H7: UNID. | I7: QUANT. | J7: CUSTO UNITÁRIO (sem BDI) | K7: PREÇO COM BDI | L7: PREÇO TOTAL
B8: 1 | C8: SERVIÇOS PRELIMINARES - DEMOLIÇÃO DO MURO ATUAL
B9: 1.1 | C9: DEMOLIÇÃO DE ALVENARIA DE BLOCO FURADO, DE FORMA MANUAL, SEM REAPROVEITAMENTO. AF_09/2023 | G9: 97622 | H9: m3 | I9: 12.3 | K9: =J9*$I$3 -> 0 | L9: =I9*K9 -> 0
B10: 1.2 | C10: CARGA, MANOBRA E DESCARGA DE ENTULHO EM CAMINHÃO BASCULANTE 14 M³ - CARGA COM ESCAVADEIRA HIDRÁULICA (CAÇAMBA DE 0,80 M³ / 111 HP) E DESCARGA LIVRE (UNIDADE: M3). AF_07/2020 | G10: 100983 | H10: m3 | I10: 12.3 | K10: =J10*$I$3 -> 0 | L10: =I10*K10 -> 0
B11: TOTAL DO ITEM 1 = | L11: =SUM(L9:L10) -> 0
B12: 2 | C12: FUNDAÇÕES
B13: 2.1 | C13: ESTACAS
B14: 2.1.1 | C14: ESTACA BROCA DE CONCRETO, DIÂMETRO DE 30CM, ESCAVAÇÃO MANUAL COM TRADO CONCHA, INTEIRAMENTE ARMADA. AF_05/2020_PA | G14: 101176 | H14: M | I14: =18*0.5 -> 9 | K14: =J14*$I$3 -> 0 | L14: =I14*K14 -> 0
B15: TOTAL DO ITEM 2.1 = | L15: =SUM(L14:L14) -> 0
B16: 2.2 | C16: SAPATAS
B17: 2.2.1 | C17: ESCAVAÇÃO MANUAL PARA BLOCO DE COROAMENTO OU SAPATA (INCLUINDO ESCAVAÇÃO PARA COLOCAÇÃO DE FÔRMAS). AF_06/2017 | G17: 96523 | H17: M³ | I17: =0.8*0.8*0.7*18 -> 8.064 | K17: =J17*$I$3 -> 0 | L17: =I17*K17 -> 0
B18: 2.2.2 | C18: LASTRO COM MATERIAL GRANULAR, APLICAÇÃO EM BLOCOS DE COROAMENTO, ESPESSURA DE *5 CM*. AF_01/2024 | G18: 96621 | H18: M³ | I18: =0.8*0.8*0.05*18 -> 0.576 | K18: =J18*$I$3 -> 0 | L18: =I18*K18 -> 0
B19: 2.2.3 | C19: LASTRO DE CONCRETO MAGRO, APLICADO EM BLOCOS DE COROAMENTO OU SAPATAS, ESP ESSURA DE 5 CM. AF_08/2017 | G19: 96619 | H19: M² | I19: =0.8*0.8*0.05*18 -> 0.576 | K19: =J19*$I$3 -> 0 | L19: =I19*K19 -> 0
B20: 2.2.4 | C20: FABRICAÇÃO, MONTAGEM E DESMONTAGEM DE FÔRMA PARA SAPATA, EM MADEIRA SERRADA, E=25 MM, 4 UTILIZAÇÕES. AF_06/2017 | G20: 96535 | H20: M² | I20: =(0.8+0.8+0.8+0.8)*0.25*18 -> 14.4 | K20: =J20*$I$3 -> 0 | L20: =I20*K20 -> 0
B21: 2.2.5 | C21: ARMAÇÃO DE SAPATA ISOLADA, VIGA BALDRAME E SAPATA CORRIDA UTILIZANDO AÇO CA-50 DE 8 MM - MONTAGEM. AF_01/2024 | G21: 104918 | H21: KG | I21: =(1.01*8*2*18)*0.395 -> 114.8976 | K21: =J21*$I$3 -> 0 | L21: =I21*K21 -> 0
B22: 2.2.6 | C22: CONCRETAGEM DE SAPATA, FCK 30 MPA, COM USO DE BOMBA - LANÇAMENTO, ADENSAMENTO E ACABAMENTO. AF_01/2024 | G22: 96558 | H22: M³ | I22: =0.8*0.8*0.25*18 -> 2.88 | K22: =J22*$I$3 -> 0 | L22: =I22*K22 -> 0
B23: 2.2.7 | C23: REATERRO MANUAL DE VALAS, COM COMPACTADOR DE SOLOS DE PERCUSSÃO. AF_08/2023 | G23: 93382 | H23: M³ | I23: =0.8*0.8*(0.7-0.25)*18 -> 5.184 | K23: =J23*$I$3 -> 0 | L23: =I23*K23 -> 0
B24: TOTAL DO ITEM 2.2 = | L24: =SUM(L17:L23) -> 0
B25: 2.3 | C25: VIGAS BALDRAME (VB)
B26: 2.3.1 | C26: ESCAVAÇÃO MANUAL PARA BLOCO DE COROAMENTO OU SAPATA (INCLUINDO ESCAVAÇÃO PARA COLOCAÇÃO DE FÔRMAS). AF_06/2017 | G26: 96523 | H26: M³ | I26: =0.25*0.3*42 -> 3.15 | K26: =J26*$I$3 -> 0 | L26: =I26*K26 -> 0
B27: 2.3.2 | C27: FABRICAÇÃO, MONTAGEM E DESMONTAGEM DE FÔRMA PARA VIGA BALDRAME, EM MADEIRA SERRADA, E=25 MM, 4 UTILIZAÇÕES. AF_06/2017 | G27: 96536 | H27: M² | I27: =(0.3+0.3)*42 -> 25.2 | K27: =J27*$I$3 -> 0 | L27: =I27*K27 -> 0
B28: 2.3.3 | C28: LASTRO DE CONCRETO MAGRO, APLICADO EM PISOS, LAJES SOBRE SOLO OU RADIERS, ESPESSURA DE 5 CM. AF_07/2016 | G28: 95241 | H28: M² | I28: =0.14*0.05*42 -> 0.294 | K28: =J28*$I$3 -> 0 | L28: =I28*K28 -> 0
B29: 2.3.7 | C29: ARMAÇÃO DE PILAR OU VIGA DE ESTRUTURA CONVENCIONAL DE CONCRETO ARMADO UTILIZANDO AÇO CA-60 DE 5,0 MM - MONTAGEM. AF_06/2022 | G29: 92759 | H29: KG | I29: =75*0.81*0.157 -> 9.53775 | K29: =J29*$I$3 -> 0 | L29: =I29*K29 -> 0
B30: 3.2.3 | C30: ARMAÇÃO DE PILAR OU VIGA DE ESTRUTURA CONVENCIONAL DE CONCRETO ARMADO UTILIZANDO AÇO CA-50 DE 8,0 MM - MONTAGEM. AF_06/2022 | G30: 92761 | H30: KG | I30: =(12*(42/12)*4*0.395) -> 66.36 | K30: =J30*$I$3 -> 0 | L30: =I30*K30 -> 0
B31: 2.3.5 | C31: ARMAÇÃO DE BLOCO, SAPATA ISOLADA, VIGA BALDRAME E SAPATA CORRIDA UTILIZANDO AÇO CA-50 DE 12,5 MM - MONTAGEM. AF_01/2024 | G31: 104920 | H31: KG | I31: =(12*(42/12)*4*0.964) -> 161.952 | K31: =J31*$I$3 -> 0 | L31: =I31*K31 -> 0
B32: 2.3.8 | C32: IMPERMEABILIZAÇÃO DE SUPERFÍCIE COM EMULSÃO ASFÁLTICA, 2 DEMÃOS. AF_09/2023 | G32: 98557 | H32: M² | I32: =(0.3+0.14+0.3)*42 -> 31.08 | K32: =J32*$I$3 -> 0 | L32: =I32*K32 -> 0
B33: 2.3.9 | C33: REATERRO MANUAL DE VALAS, COM COMPACTADOR DE SOLOS DE PERCUSSÃO. AF_08/2023 | G33: 93382 | H33: M³ | I33: =I26 -> 3.15 | K33: =J33*$I$3 -> 0 | L33: =I33*K33 -> 0
B34: TOTAL DO ITEM 2.3 = | L34: =SUM(L26:L33) -> 0
B35: TOTAL DO ITEM 2 = | L35: =L15+L24+L34 -> 0
B36: 3 | C36: ESTRUTURA
B37: 3.1 | C37: PILARES
B38: 3.1.1 | C38: FABRICAÇÃO DE FÔRMA PARA PILARES E ESTRUTURAS SIMILARES, EM CHAPA DE MADEIRA COMPENSADA RESINADA, E = 17 MM. AF_09/2020 | G38: 92263 | H38: M² | I38: =(0.15+0.15+0.3+0.3)*2.05*18 -> 33.21 | K38: =J38*$I$3 -> 0 | L38: =K38*I38 -> 0
B39: 3.1.2 | C39: ARMAÇÃO DE PILAR OU VIGA DE ESTRUTURA CONVENCIONAL DE CONCRETO ARMADO UTILIZANDO AÇO CA-60 DE 5,0 MM - MONTAGEM. AF_06/2022 | G39: 92759 | H39: KG | I39: =(30*0.81*18*0.157) -> 68.6718 | K39: =J39*$I$3 -> 0 | L39: =K39*I39 -> 0
B40: 3.1.3 | C40: ARMAÇÃO DE PILAR OU VIGA DE ESTRUTURA CONVENCIONAL DE CONCRETO ARMADO UTILIZANDO AÇO CA-50 DE 10,0 MM - MONTAGEM. AF_06/2022 (INCLUSO ARRANQUES DE PILAR) | G40: 92762 | H40: KG | I40: =8*(2.03+1.7)*18*0.617 -> 331.40304 | K40: =J40*$I$3 -> 0 | L40: =K40*I40 -> 0
B41: 3.1.5 | C41: CONCRETAGEM DE PILARES, FCK=25 MPA, COM USO DE JERICAS EM CREMALHEIRA - LANÇAMENTO, ADENSAMENTO E ACABAMENTO. AF_02/2022 | G41: 103688 | H41: M³ | I41: =0.15*0.3*2.05*18 -> 1.6605 | K41: =J41*$I$3 -> 0 | L41: =K41*I41 -> 0
B42: TOTAL DO ITEM 3.1 = | L42: =SUM(L38:L41) -> 0
...

Sheet Cronograma
D1: CRONOGRAMA FÍSICO FINANCEIRO
D3: OBRA/BLOCO: | E3: =Orçamento!E3 -> MURO DE ARRIMO PARA A ESCOLA MARCIANO DE CARVALHO
D4: LOCAL: | E4: =Orçamento!E4 -> RUA FORTALEZA, Nº 672, CENTRO, MUNCÍPIO DE PIÊN/PR - CEP 83860-000
D5: ÁREA: | E5: =Orçamento!E5 -> 86,10 M²
B7: Item | C7: Descrição | G7: VALOR DOS SERVIÇOS (R$) | H7: PESO (%) | I7: SERVIÇOS A EXECUTAR (%)
I8: MÊS 01 | K8: MÊS 02
I9: No mês | J9: Acum. | K9: No mês | L9: Acum.
B10: 1 | C10: =Orçamento!C8 -> SERVIÇOS PRELIMINARES - DEMOLIÇÃO DO MURO ATUAL
B11: 2 | C11: =Orçamento!C12 -> FUNDAÇÕES
B12: 3 | C12: =Orçamento!C36 -> ESTRUTURA
B13: 4 | C13: =Orçamento!C51 -> DRENAGEM
B14: 5 | C14: =Orçamento!C55 -> VEDAÇÕES
B15: 6 | C15: =Orçamento!C58 -> REVESTIMENTOS ARGAMSSADOS
B16: 7 | C16: =Orçamento!C64 -> PINTURA
B17: 8 | C17: =Orçamento!C68 -> LIMPEZA FINAL
B18: TOTAL:
B19: TOTAL SIMPLES (R$):
B20: TOTAL SIMPLES (%):
B21: TOTAL ACUMULADO (R$):
B22: TOTAL ACUMULADO (%):
