Workbook
Name _4.1.4: #REF!
Name _4.1.4: #REF!
Name _4.1.4: #REF!
Name _TOT20: [1]Indiretas!#REF!
Name _TOT20: [1]Indiretas!#REF!
Name _TOT20: [1]Indiretas!#REF!
Name CD: #REF!
Name CD: #REF!
Name CD: #REF!
Name CI: #REF!
Name CI: #REF!
Name CI: #REF!
Name PV: #REF!
Name PV: #REF!
Name PV: #REF!
Name PVA: #REF!
Name PVA: #REF!
Name PVA: #REF!
Name STI: #REF!
Name STI: #REF!
Name STI: #REF!

Sheet Orçamento
D1: PLANILHA DE ORÇAMENTO - ESTIMATIVA DE PREÇO | K1: =L114 -> 559760.75
D3: OBRA/BLOCO: | E3: COMPLEXO ESCOLA ESPECIAL / BLOCO 03 - PARTE A (ARENA EQUOTERAPIA (PICADEIRO)) | G3: 1.2273 | J3: BDI: | K3: 0.2273
D4: LOCAL: | E4: DISTRITO DE TRIGOLÂNDIA, MUNICÍPIO DE PIÊN-PR | J4: REFERÊNCIA: | K4: SINAPI (Não Desonerado)
D5: ÁREA: | E5: 387,07 M² | J5: DATA BASE: | K5: 45310
B7: Item | C7: Descrição | G7: Referência SINAPI | H7: UNID. | I7: QUANT. | J7: CUSTO UNITÁRIO (sem BDI) | K7: PREÇO COM BDI | L7: PREÇO TOTAL
B8: 1 | C8: SERVIÇOS PRELIMINARES
B9: 1.1 | C9: FORNECIMENTO E INSTALAÇÃO DE PLACA DE OBRA COM CHAPA GALVANIZADA E ESTRUTURA DE MADEIRA. AF_03/2022_PS | G9: 103689 | H9: M² | I9: 2 | J9: 316.94 | K9: =J9*$G$3 -> 388.98046 | L9: =I9*K9 -> 777.96092
B10: 1.2 | C10: TAPUME COM TELHA METÁLICA. AF_05/2018 | G10: 98459 | H10: M² | I10: =(200*2) -> 400 | J10: 123.86 | K10: =J10*$G$3 -> 152.01338 | L10: =I10*K10 -> 60805.351
B11: 1.3 | C11: EXECUÇÃO DE ALMOXARIFADO EM CANTEIRO DE OBRA EM CHAPA DE MADEIRA COMPENSADA, INCLUSO PRATELEIRAS. AF_02/2016 | G11: 93208 | H11: M² | I11: =2.2*3 -> 6.6 | J11: 1035.24 | K11: =J11*$G$3 -> 1270.5501 | L11: =I11*K11 -> 8385.6303
B12: 1.4 | C12: EXECUÇÃO DE SANITÁRIO E VESTIÁRIO EM CANTEIRO DE OBRA EM CHAPA DE MADEIRA COMPENSADA, NÃO INCLUSO MOBILIÁRIO. AF_02/2016 | G12: 93212 | H12: M² | I12: =1.5*3 -> 4.5 | J12: 1121.16 | K12: =J12*$G$3 -> 1375.9997 | L12: =I12*K12 -> 6191.9985
B13: 1.5 | C13: LOCACAO CONVENCIONAL DE OBRA, UTILIZANDO GABARITO DE TÁBUAS CORRIDAS PONTA LETADAS A CADA 2,00M - 2 UTILIZAÇÕES. AF_10/2018 | G13: 99059 | H13: M² | I13: =25.3+25.3+15.3+15.3 -> 81.2 | J13: 66.42 | K13: =J13*$G$3 -> 81.517266 | L13: =I13*K13 -> 6619.202
B14: TOTAL DO ITEM 1 = | L14: =SUM(L9:L13) -> 82780.143
B15: 2 | C15: FUNDAÇÕES
B16: 2.1 | C16: SAPATAS
B17: 2.1.1 | C17: ESCAVAÇÃO MANUAL PARA BLOCO DE COROAMENTO OU SAPATA (INCLUINDO ESCAVAÇÃO PARA COLOCAÇÃO DE FÔRMAS). AF_06/2017 | G17: 96523 | H17: M³ | I17: =1.92*18 -> 34.56 | J17: 121.41 | K17: =J17*$G$3 -> 149.00649 | L17: =I17*K17 -> 5149.6644
B18: 2.1.2 | C18: TRANSPORTE COM CAMINHÃO BASCULANTE DE 10 M³, EM VIA URBANA PAVIMENTADA, DMT ATÉ 30 KM (UNIDADE: TXKM). AF_07/2020 | G18: 95878 | H18: M³ | I18: =I17 -> 34.56 | J18: 1.7 | K18: =J18*$G$3 -> 2.08641 | L18: =I18*K18 -> 72.10633
B19: 2.1.3 | C19: LASTRO DE CONCRETO MAGRO, APLICADO EM BLOCOS DE COROAMENTO OU SAPATAS, ESP ESSURA DE 5 CM. AF_08/2017 | G19: 96619 | H19: M² | I19: 1.152 | J19: 34.56 | K19: =J19*$G$3 -> 42.415488 | L19: =I19*K19 -> 48.862642
B20: 2.1.4 | C20: PEDRA DE MAO OU PEDRA RACHAO PARA ARRIMO/FUNDACAO | G20: 4730 | H20: M³ | I20: 8 | J20: 61.72 | K20: =J20*$G$3 -> 75.748956 | L20: =I20*K20 -> 605.99165
B21: 2.1.5 | C21: CONCRETAGEM DE BLOCOS DE COROAMENTO E VIGAS BALDRAMES, FCK 30 MPA, COM USO DE BOMBA LANÇAMENTO, ADENSAMENTO E ACABAMENTO. AF_06/2017 | G21: 96557 | H21: M³ | I21: 6 | J21: 593.11 | K21: =J21*$G$3 -> 727.9239 | L21: =I21*K21 -> 4367.5434
B22: 2.1.6 | C22: IMPERMEABILIZAÇÃO DE SUPERFÍCIE COM EMULSÃO ASFÁLTICA, 2 DEMÃOS. AF_09/2023 | G22: 98557 | H22: M² | I22: =0.8*0.8*18 -> 11.52 | J22: 43.79 | K22: =J22*$G$3 -> 53.743467 | L22: =I22*K22 -> 619.12474
B23: TOTAL DO ITEM 2.1 = | L23: =SUM(L17:L22) -> 10863.293
B24: 2.2 | C24: VIGAS BALDRAME
B25: 2.2.1 | C25: ESCAVAÇÃO MANUAL PARA BLOCO DE COROAMENTO OU SAPATA (INCLUINDO ESCAVAÇÃO PARA COLOCAÇÃO DE FÔRMAS). AF_06/2017 | G25: 96523 | H25: M³ | I25: =(15.3+15.3+25.3+25.3)*0.25*0.3 -> 6.09 | J25: 121.41 | K25: =J25*$G$3 -> 149.00649 | L25: =I25*K25 -> 907.44954
B26: 2.2.2 | C26: FABRICAÇÃO, MONTAGEM E DESMONTAGEM DE FÔRMA PARA VIGA BALDRAME, EM MADEIRA SERRADA, E=25 MM, 4 UTILIZAÇÕES. AF_06/2017 | G26: 96536 | H26: M² | I26: =(15.3+15.3+25.3+25.3)*0.6 -> 48.72 | J26: 90.79 | K26: =J26*$G$3 -> 111.42657 | L26: =I26*K26 -> 5428.7023
B27: 2.2.3 | C27: LASTRO COM MATERIAL GRANULAR, APLICADO EM BLOCOS DE COROAMENTO, ESPESSURADE *10 CM*. AF_08/2017 | G27: 96623 | H27: M³ | I27: 0.57 | J27: 201.15 | K27: =J27*$G$3 -> 246.8714 | L27: =I27*K27 -> 140.7167
B28: 2.2.4 | C28: ARMAÇÃO DE ESTRUTURAS DIVERSAS DE CONCRETO ARMADO, EXCETO VIGAS, PILARES, LAJES E FUNDAÇÕES, UTILIZANDO AÇO CA-60 DE 5,0 MM - MONTAGEM. AF_06/2022 | G28: 92915 | H28: KG | I28: =((30.6+50.6)/0.1)*0.86*0.22 -> 153.6304 | J28: 17.97 | K28: =J28*$G$3 -> 22.054581 | L28: =I28*K28 -> 3388.2541
B29: 2.2.5 | C29: ARMAÇÃO DE ESTRUTURAS DIVERSAS DE CONCRETO ARMADO, EXCETO VIGAS, PILARES, LAJES E FUNDAÇÕES, UTILIZANDO AÇO CA-50 DE 8,0 MM - MONTAGEM. AF_06/2022 | G29: 92917 | H29: KG | I29: 200.4 | J29: 13.84 | K29: =J29*$G$3 -> 16.985832 | L29: =I29*K29 -> 3403.9607
B30: 2.2.6 | C30: CONCRETAGEM DE BLOCOS DE COROAMENTO E VIGAS BALDRAME, FCK 30 MPA, COM USO DE JERICA LANÇAMENTO, ADENSAMENTO E ACABAMENTO. AF_06/2017 | G30: 96555 | H30: M³ | I30: =81.2*0.14*0.3 -> 3.4104 | J30: 698.55 | K30: =J30*$G$3 -> 857.33042 | L30: =I30*K30 -> 2923.8396
B31: 2.2.7 | C31: IMPERMEABILIZAÇÃO DE SUPERFÍCIE COM EMULSÃO ASFÁLTICA, 2 DEMÃOS. AF_09/2023 | G31: 98557 | H31: M² | I31: =I26 -> 48.72 | J31: 43.79 | K31: =J31*$G$3 -> 53.743467 | L31: =I31*K31 -> 2618.3817
B32: 2.2.8 | C32: REATERRO MANUAL DE VALAS, COM COMPACTADOR DE SOLOS DE PERCUSSÃO. AF_08/2023 | G32: 93382 | H32: M³ | I32: =I25/2 -> 3.045 | J32: 30.86 | K32: =J32*$G$3 -> 37.874478 | L32: =I32*K32 -> 115.32779
B33: TOTAL DO ITEM 2.1 = | L33: =SUM(L25:L32) -> 18926.633
B34: TOTAL DO ITEM 2 = | L34: =L33+L23 -> 29789.926
B35: 3 | C35: SUPRA ESTRUTURA
B36: 3.1 | C36: PILARES PRÉ FABRICADOS
B37: 3.1.1 | C37: FABRICAÇÃO E INSTALAÇÃO DE PILARES PRÉ MOLDADOS | G37: COMP. 1 | H37: UNID. | I37: 1 | J37: ='COMPOSIÇÕES '!L17 -> 61835.119 | K37: =J37 -> 61835.119 | L37: =I37*K37 -> 61835.119
B38: TOTAL DO ITEM 3 = | L38: =SUM(L37) -> 61835.119
B39: 4 | C39: VEDAÇÕES
B40: 4.1 | C40: ALVENARIAS
B41: 4.1.1 | C41: ALVENARIA DE VEDAÇÃO DE BLOCOS VAZADOS DE CONCRETO DE 14X19X39 CM (ESPESSURA 14 CM) E ARGAMASSA DE ASSENTAMENTO COM PREPARO EM BETONEIRA. AF_12/2021 | G41: 103318 | H41: M² | I41: =(81.2*1.6)-24.43 -> 105.49 | J41: 97.25 | K41: =J41*$G$3 -> 119.35493 | L41: =I41*K41 -> 12590.751
B42: 4.1.2 | C42: CANALETA DE CONCRETO ESTRUTURAL 14 X 19 X 39 CM, FBK 14 MPA (NBR 6136) (VIGA CINTA) | G42: 38600 | H42: UNID. | I42: =(15.3+15.3+25.3+25.3)/0.4 -> 203 | J42: 4.97 | K42: =J42*$G$3 -> 6.099681 | L42: =I42*K42 -> 1238.2352
B43: 4.1.3 | C43: ARMAÇÃO DE ESTRUTURAS DIVERSAS DE CONCRETO ARMADO, EXCETO VIGAS, PILARES, LAJES E FUNDAÇÕES, UTILIZANDO AÇO CA-60 DE 5,0 MM - MONTAGEM. AF_06/2022 (VIGA CINTA) | G43: 92915 | H43: KG | I43: =I44*80 -> 97.44 | J43: 17.97 | K43: =J43*$G$3 -> 22.054581 | L43: =I43*K43 -> 2148.9984
B44: 4.1.4 | C44: CONCRETAGEM DE VIGAS E LAJES, FCK=25 MPA, PARA LAJES MACIÇAS OU NERVURADAS COM USO DE BOMBA - LANÇAMENTO, ADENSAMENTO E ACABAMENTO. AF_02/2022_PS (VIGA CINTA) | G44: 103675 | H44: M³ | I44: =(15.3+15.3+25.3+25.3)*0.15*0.1 -> 1.218 | J44: 579.27 | K44: =J44*$G$3 -> 710.93807 | L44: =I44*K44 -> 865.92257
B45: 4.1.5 | C45: IMPERMEABILIZAÇÃO DE SUPERFÍCIE COM MEMBRANA À BASE DE RESINA ACRÍLICA, 3 DEMÃOS. AF_09/2023 | G45: 98554 | H45: M² | I45: =I41 -> 105.49 | J45: 52.56 | K45: =J45*$G$3 -> 64.506888 | L45: =I45*K45 -> 6804.8316
B46: TOTAL DO ITEM 4.1 = | L46: =SUM(L41:L45) -> 23648.739
B47: 4.2 | C47: FECHAMENTO METÁLICO (LATERIAS E OITÕES DA ARENA)
B48: 4.2.1 | C48: TRAMA DE AÇO COMPOSTA POR TERÇAS PARA TELHADOS DE ATÉ 2 ÁGUAS PARA TELHA ONDULADA DE FIBROCIMENTO, METÁLICA, PLÁSTICA OU TERMOACÚSTICA, INCLUSO TRANSPORTE VERTICAL. AF_07/2019 | G48: 92580 | H48: M² | I48: 359.14 | J48: 45.25 | K48: =J48*$G$3 -> 55.535325 | L48: =I48*K48 -> 19944.957
B49: 4.2.2 | C49: TELHAMENTO COM TELHA DE AÇO/ALUMÍNIO E = 0,5 MM, COM ATÉ 2 ÁGUAS, INCLUSO IÇAMENTO. AF_07/2019 | G49: 94213 | H49: M² | I49: 359.14 | J49: 66.84 | K49: =J49*$G$3 -> 82.032732 | L49: =I49*K49 -> 29461.235
B50: 4.2.3 | C50: PINTURA COM TINTA ALQUÍDICA DE FUNDO (TIPO ZARCÃO) PULVERIZADA SOBRE PERFIL METÁLICO EXECUTADO EM FÁBRICA (POR DEMÃO). AF_01/2020_PE | G50: 100719 | H50: M² | I50: =359.14*1.5*(0.1+0.05) -> 80.8065 | J50: 15.13 | K50: =J50*$G$3 -> 18.569049 | L50: =I50*K50 -> 1500.4999
B51: TOTAL DO ITEM 4.2 = | L51: =SUM(L48:L50) -> 50906.692
B52: TOTAL DO ITEM 4 = | L52: =L51+L46 -> 74555.431
B53: 5 | C53: COBERTURA
B54: 5.1.1 | C54: FABRICAÇÃO E INSTALAÇÃO DE TESOURA INTEIRA EM AÇO, VÃO DE 12 M, PARA TELHA ONDULADA DE FIBROCIMENTO, METÁLICA, PLÁSTICA OU TERMOACÚSTICA, INCLUSO IÇAMENTO. AF_12/2015 | G54: 92620 | H54: UNID. | I54: 11 | J54: 1957.74 | K54: =J54*$G$3 -> 2402.7343 | L54: =I54*K54 -> 26430.077
B55: 5.1.2 | C55: CONTRAVENTAMENTO COM CANTONEIRAS DE AÇO, ABAS IGUAIS, COM CONEXÕES SOLDADAS, INCLUSOS MÃO DE OBRA, TRANSPORTE E IÇAMENTO UTILIZANDO TALHA MANUAL, PARA EDIFÍCIOS DE ATÉ 2 PAVIMENTOS - FORNECIMENTO E INSTALAÇÃO. AF_01/2020_P | G55: 100768 | H55: KG | I55: 64.97 | J55: 15.75 | K55: =J55*$G$3 -> 19.329975 | L55: =I55*K55 -> 1255.8685
B56: 5.1.3 | C56: TRAMA DE AÇO COMPOSTA POR TERÇAS PARA TELHADOS DE ATÉ 2 ÁGUAS PARA TELHA ONDULADA DE FIBROCIMENTO, METÁLICA, PLÁSTICA OU TERMOACÚSTICA, INCLUSO TRANSPORTE VERTICAL. AF_07/2019 | G56: 92580 | H56: M² | I56: 445.89 | J56: 45.25 | K56: =J56*$G$3 -> 55.535325 | L56: =I56*K56 -> 24762.646
B57: 5.1.4 | C57: TELHAMENTO COM TELHA METÁLICA TERMOACÚSTICA E = 30 MM, COM ATÉ 2 ÁGUAS, INCLUSO IÇAMENTO. AF_07/2019 | G57: 94216 | H57: M² | I57: =I56 -> 445.89 | J57: 191 | K57: =J57*$G$3 -> 234.4143 | L57: =I57*K57 -> 104522.99
B58: 5.1.5 | C58: FABRICAÇÃO E INSTALAÇÃO DE TESOURA INTEIRA EM AÇO, VÃO DE 3 M, PARA TELHA ONDULADA DE FIBROCIMENTO, METÁLICA, PLÁSTICA OU TERMOACÚSTICA, INCLUSO IÇAMENTO. AF_12/2015 (LANTERNIM) | G58: 92602 | H58: UNID. | I58: 7 | J58: 682.98 | K58: =J58*$G$3 -> 838.22135 | L58: =I58*K58 -> 5867.5495
B59: 5.1.6 | C59: TRAMA DE AÇO COMPOSTA POR TERÇAS PARA TELHADOS DE ATÉ 2 ÁGUAS PARA TELHA ONDULADA DE FIBROCIMENTO, METÁLICA, PLÁSTICA OU TERMOACÚSTICA, INCLUSO TRANSPORTE VERTICAL. AF_07/2019 | G59: 92580 | H59: M² | I59: =3.4*26.7 -> 90.78 | J59: 45.25 | K59: =J59*$G$3 -> 55.535325 | L59: =I59*K59 -> 5041.4968
B60: 5.1.7 | C60: TELHAMENTO COM TELHA METÁLICA TERMOACÚSTICA E = 30 MM, COM ATÉ 2 ÁGUAS, INCLUSO IÇAMENTO. AF_07/2019 (LANTERNIM) | G60: 94216 | H60: M² | I60: =I59 -> 90.78 | J60: 191 | K60: =J60*$G$3 -> 234.4143 | L60: =I60*K60 -> 21280.13
B61: 5.1.8 | C61: CALHA EM CHAPA DE AÇO GALVANIZADO NÚMERO 24, DESENVOLVIMENTO DE 100 CM, INCLUSO TRANSPORTE VERTICAL. AF_07/2019 | G61: 94229 | H61: M | I61: =26.7+26.7 -> 53.4 | J61: 172.48 | K61: =J61*$G$3 -> 211.6847 | L61: =I61*K61 -> 11303.963
B62: 5.1.9 | C62: PINTURA COM TINTA ALQUÍDICA DE FUNDO (TIPO ZARCÃO) PULVERIZADA SOBRE PERFIL METÁLICO EXECUTADO EM FÁBRICA (POR DEMÃO). AF_01/2020_PE | G62: 100719 | H62: M² | I62: 226 | J62: 11.06 | K62: =J62*$G$3 -> 13.573938 | L62: =I62*K62 -> 3067.71
B63: 5.1.10 | C63: COMPOSIÇÃO PARAMÉTRICA DE INSTALAÇÃO DE TUBOS DE PVC, SÉRIE R, PARA COLETA DE ÁGUA PLUVIAL EM VARANDA, INSTALADO EM RAMAL DE ENCAMINHAMENTO E CONDUTOR VERTICAL, COM CONEXÕES, RALOS, CORTES E FIXAÇÕES, PARA PRÉDIO. AF_05/2023 | G63: 104674 | H63: UNID. | I63: 14 | J63: 247.05 | K63: =J63*$G$3 -> 303.20447 | L63: =I63*K63 -> 4244.8625
B64: TOTAL DO ITEM 5 = | L64: =SUM(L54:L63) -> 207777.3
B65: 6 | C65: PISOS INTERNOS
B66: 6.1 | C66: REATERRO MANUAL DE VALAS, COM COMPACTADOR DE SOLOS DE PERCUSSÃO. AF_08/2023 | G66: 93382 | H66: M³ | I66: =375.8*0.1 -> 37.58 | J66: 30.86 | K66: =J66*$G$3 -> 37.874478 | L66: =I66*K66 -> 1423.3229
B67: 6.2 | C67: ATERRO MECANIZADO, COM AREIA PARA ATERRO. AF_08/2023 | G67: 104739 | H67: M³ | I67: =375.8*0.3 -> 112.74 | J67: 112.44 | K67: =J67*$G$3 -> 137.99761 | L67: =I67*K67 -> 15557.851
B68: 6.3 | C68: PISO EM CONCRETO 20 MPA PREPARO MECÂNICO, ESPESSURA 7CM. AF_09/2020 (RAMPA PARA EMBARQUE NO CAVALO) | G68: 101747 | H68: M² | I68: =24.14*1.5 -> 36.21 | J68: 77.22 | K68: =J68*$G$3 -> 94.772106 | L68: =I68*K68 -> 3431.698
B69: 6.4 | C69: TABUA APARELHADA *2,5 X 15* CM, EM MACARANDUBA/MASSARANDUBA, ANGELIM OU EQUIVALENTE DA REGIAO (RAMPA PARA EMBARQUE NO CAVALO) | G69: 3993 | H69: M² | I69: =(16.5*1.5)+16 -> 40.75 | J69: 134.18 | K69: =J69*$G$3 -> 164.67911 | L69: =I69*K69 -> 6710.6739
B70: 6.5 | C70: CAIBRO APARELHADO *7,5 X 7,5* CM, EM MACARANDUBA/MASSARANDUBA, ANGELIM OU EQUIVALENTE DA REGIAO (RAMPA PARA EMBARQUE NO CAVALO) | G70: 20209 | H70: M | I70: 102 | J70: 29.98 | K70: =J70*$G$3 -> 36.794454 | L70: =I70*K70 -> 3753.0343
B71: 6.6 | C71: PREGO DE ACO POLIDO COM CABECA 17 X 21 (2 X 11) (RAMPA PARA EMBARQUE NO CAVALO) | G71: 5068 | H71: KG | I71: 3 | J71: 15.26 | K71: =J71*$G$3 -> 18.728598 | L71: =I71*K71 -> 56.185794
B72: 6.7 | C72: AJUDANTE DE CARPINTEIRO COM ENCARGOS COMPLEMENTARES (RAMPA PARA EMBARQUE NO CAVALO) | G72: 88239 | H72: H | I72: 8 | J72: 28.29 | K72: =J72*$G$3 -> 34.720317 | L72: =I72*K72 -> 277.76254
B73: 6.8 | C73: CARPINTEIRO DE FORMAS COM ENCARGOS COMPLEMENTARES (RAMPA PARA EMBARQUE NO CAVALO) | G73: 88262 | H73: H | I73: 8 | J73: 34.31 | K73: =J73*$G$3 -> 42.108663 | L73: =I73*K73 -> 336.8693
B74: 6.9 | C74: SERRA CIRCULAR DE BANCADA COM MOTOR ELÉTRICO POTÊNCIA DE 5HP, COM COIFA PARA DISCO 10" - CHP DIURNO. AF_08/2015 (RAMPA PARA EMBARQUE NO CAVALO) | G74: 91692 | H74: H | I74: 3 | J74: 34.01 | K74: =J74*$G$3 -> 41.740473 | L74: =I74*K74 -> 125.22142
B75: 6.10 | C75: PINTURA VERNIZ (INCOLOR) POLIURETÂNICO (RESINA ALQUÍDICA MODIFICADA) EM MADEIRA, 1 DEMÃO. AF_01/2021 (RAMPA PARA EMBARQUE NO CAVALO) | G75: 102205 | H75: M² | I75: =I69 -> 40.75 | J75: 11.12 | K75: =J75*$G$3 -> 13.647576 | L75: =I75*K75 -> 556.13872
B76: 6.11 | C76: ASSENTAMENTO DE GUIA (MEIO-FIO) EM TRECHO RETO, CONFECCIONADA EM CONCRETO PRÉ-FABRICADO, DIMENSÕES 100X15X13X20 CM (COMPRIMENTO X BASE INFERIOR X BASE SUPERIOR X ALTURA), PARA URBANIZAÇÃO INTERNA DE EMPREENDIMENTOS. AF_06/2016 | G76: 94275 | H76: M² | I76: 12.79 | J76: 54.1 | K76: =J76*$G$3 -> 66.39693 | L76: =I76*K76 -> 849.21673
B77: 6.12 | C77: EXECUÇÃO DE PASSEIO EM PISO INTERTRAVADO, COM BLOCO RETANGULAR COR NATURAL DE 20 X 10 CM, ESPESSURA 6 CM. AF_10/2022 | G77: 92396 | H77: M² | I77: 16.93 | J77: 68.7 | K77: =J77*$G$3 -> 84.31551 | L77: =I77*K77 -> 1427.4616
B78: TOTAL DO ITEM 6 = | L78: =SUM(L66:L75) -> 32228.758
B79: 7 | C79: PINTURA
B80: 7.1 | C80: PINTURA COM TINTA ALQUÍDICA DE FUNDO E ACABAMENTO (ESMALTE SINTÉTICO GRAFITE) PULVERIZADA SOBRE SUPERFÍCIES METÁLICAS (EXCETO PERFIL) EXECUTADO EM OBRA (POR DEMÃO). AF_01/2020_PE (FECHAMENTO METALICO DA ECOTERAPIA) | G80: 100725 | H80: M² | I80: =I49*2 -> 718.28 | J80: 28.81 | K80: =J80*$G$3 -> 35.358513 | L80: =I80*K80 -> 25397.313
B81: TOTAL DO ITEM 7 = | L81: =SUM(L80:L80) -> 25397.313
B82: 8 | C82: INSTALAÇÕES ELÉTRICAS
B83: 8.1 | C83: KIT PADRÃO DE ENTRADA DE ENERGIA COPEL 125 A CABO DE 50 MM | G83: COT. 01 | H83: UNID. | I83: 1 | J83: 5800 | K83: =J83*$G$3 -> 7118.34 | L83: =I83*K83 -> 7118.34
B84: 8.2 | C84: HASTE DE ATERRAMENTO, DIÂMETRO 5/8", COM 3 METROS - FORNECIMENTO E INSTALAÇÃO. AF_08/2023 | G84: 96985 | H84: M | I84: 5 | J84: 87.03 | K84: =J84*$G$3 -> 106.81192 | L84: =I84*K84 -> 534.0596
B85: 8.3 | C85: CORDOALHA DE COBRE NU 35 MM², NÃO ENTERRADA, COM ISOLADOR - FORNECIMENTO E INSTALAÇÃO. AF_08/2023 | G85: 96973 | H85: M | I85: 20 | J85: 73.15 | K85: =J85*$G$3 -> 89.776995 | L85: =I85*K85 -> 1795.5399
B86: 8.4 | C86: QUADRO DE DISTRIBUIÇÃO DE ENERGIA EM CHAPA DE AÇO GALVANIZADO, DE EMBUTIR, COM BARRAMENTO TRIFÁSICO, PARA 24 DISJUNTORES DIN 100A - FORNECIMENTO E INSTALAÇÃO. AF_10/2020 | G86: 101879 | H86: UNID. | I86: 3 | J86: 545.93 | K86: =J86*$G$3 -> 670.01989 | L86: =I86*K86 -> 2010.0597
B87: 8.5 | C87: DISJUNTOR MONOPOLAR TIPO DIN, CORRENTE NOMINAL DE 25A - FORNECIMENTO E INSTALAÇÃO. AF_10/2020 | G87: 93656 | H87: UNID. | I87: 1 | J87: 15.08 | K87: =J87*$G$3 -> 18.507684 | L87: =I87*K87 -> 18.507684
B88: 8.6 | C88: DISJUNTOR MONOPOLAR TIPO DIN, CORRENTE NOMINAL DE 16A - FORNECIMENTO E INSTALAÇÃO. AF_10/2020 | G88: 93654 | H88: UNID. | I88: 2 | J88: 13.58 | K88: =J88*$G$3 -> 16.666734 | L88: =I88*K88 -> 33.333468
B89: 8.7 | C89: PERFILADO PERFURADO SIMPLES 38 X 38 MM, CHAPA 22 | G89: 39028 | H89: M | I89: =33*3 -> 99 | J89: 9.64 | K89: =J89*$G$3 -> 11.831172 | L89: =I89*K89 -> 1171.286
B90: 8.8 | C90: CABO DE COBRE FLEXÍVEL ISOLADO, 10 MM², ANTI-CHAMA 0,6/1,0 KV, PARA CIRCUITOS TERMINAIS - FORNECIMENTO E INSTALAÇÃO. AF_03/2023 | G90: 91933 | H90: M | I90: =70*4 -> 280 | J90: 16.56 | K90: =J90*$G$3 -> 20.324088 | L90: =I90*K90 -> 5690.7446
B91: 8.9 | C91: CABO DE COBRE FLEXÍVEL ISOLADO, 2,5 MM², ANTI-CHAMA 450/750 V, PARA CIRCUITOS TERMINAIS - FORNECIMENTO E INSTALAÇÃO. AF_03/2023 | G91: 91926 | H91: M | I91: =121.5*2 -> 243 | J91: 4.57 | K91: =J91*$G$3 -> 5.608761 | L91: =I91*K91 -> 1362.9289
B92: 8.10 | C92: ELETRODUTO RÍGIDO SOLDÁVEL, PVC, DN 25 MM (3/4''), APARENTE - FORNECIMENTO E INSTALAÇÃO. AF_10/2022 | G92: 95727 | H92: M | I92: =20*3 -> 60 | J92: 24.84 | K92: =J92*$G$3 -> 30.486132 | L92: =I92*K92 -> 1829.1679
B93: 8.11 | C93: LUVA PARA ELETRODUTO, PVC, ROSCÁVEL, DN 25 MM (3/4"), PARA CIRCUITOS TERMINAIS, INSTALADA EM FORRO - FORNECIMENTO E INSTALAÇÃO. AF_03/2023 | G93: 91875 | H93: UNID. | I93: 10 | J93: 10.34 | K93: =J93*$G$3 -> 12.690282 | L93: =I93*K93 -> 126.90282
B94: 8.12 | C94: CURVA 90 GRAUS PARA ELETRODUTO, PVC, ROSCÁVEL, DN 25 MM (3/4"), PARA CIRCU ITOS TERMINAIS, INSTALADA EM FORRO - FORNECIMENTO E INSTALAÇÃO. AF_03/2023 | G94: 91890 | H94: UNID. | I94: 10 | J94: 16.8 | K94: =J94*$G$3 -> 20.61864 | L94: =I94*K94 -> 206.1864
B95: 8.13 | C95: COMPOSIÇÃO PARAMÉTRICA DE PONTO ELÉTRICO DE ILUMINAÇÃO, COM INTERRUPTOR SIMPLES, EM EDIFÍCIO RESIDENCIAL COM ELETRODUTO EMBUTIDO EM RASGOS NAS PAREDES, INCLUSO TOMADA, ELETRODUTO, CABO, RASGO E CHUMBAMENTO (SEM LUMINÁRIA ELÂMPADA). AF_11/2022 (TROCAR O ITEM) | G95: 104473 | H95: UNID. | I95: 15 | J95: 198.41 | K95: =J95*$G$3 -> 243.50859 | L95: =I95*K95 -> 3652.6289
B96: 8.14 | C96: REFLETOR RETANGULAR FECHADO, COM LÂMPADA VAPOR METÁLICO 400 W - FORNECIMENTO E INSTALAÇÃO. AF_08/2020 (ACHAR OUTRO REFLETOR) | G96: 101666 | H96: UNID. | I96: 15 | J96: 448.53 | K96: =J96*$G$3 -> 550.48087 | L96: =I96*K96 -> 8257.213
B97: TOTAL DO ITEM 8 = | L97: =SUM(L83:L96) -> 33806.899
B98: 9 | C98: ESQUADRIAS
B99: 9.1 | C99: PORTA DE CORRER EM MADEIRA MACIÇA P 01 150X140 CM | G99: COMP. 2 | H99: UNID. | I99: 3 | J99: ='COMPOSIÇÕES '!L30 -> 1768.2303 | K99: =J99 -> 1768.2303 | L99: =I99*K99 -> 5304.6908
B100: 9.2 | C100: PORTÃO EM MADEIRA DE GIRO ACESSO DA ARENA PARA A CEDE 298X140 | G100: COMP. 13 | H100: UNID. | I100: 1 | J100: ='COMPOSIÇÕES '!L108 -> 2144.961 | K100: =J100 -> 2144.961 | L100: =I100*K100 -> 2144.961
B101: 9.3 | C101: DIVISÓRIA FIXA EM VIDRO TEMPERADO 10 MM, SEM ABERTURA. AF_01/2021_PS (VIDRO FIXO NA FACHADA DA ARENA) | G101: 102235 | H101: M² | I101: 4.5 | J101: 513.02 | K101: =J101 -> 513.02 | L101: =I101*K101 -> 2308.59
B102: TOTAL DO ITEM 9 = | L102: =SUM(L99:L100) -> 7449.6518
...

Sheet Cronograma
D1: CRONOGRAMA FÍSICO FINANCEIRO
D3: OBRA: | E3: COMPLEXO ESCOLA ESPECIAL / BLOCO 03 - PARTE A (ARENA EQUOTERAPIA (PICADEIRO))
D4: LOCAL: | E4: DISTRITO DE TRIGOLÂNDIA, MUNICÍPIO DE PIÊN-PR
D5: ÁREA: | E5: 387,07 M²
B8: Item | C8: Descrição | G8: VALOR DOS SERVIÇOS (R$) | H8: PESO (%) | I8: SERVIÇOS A EXECUTAR (%)
I9: MÊS 01 | K9: MÊS 02 | M9: MÊS 03 | O9: MÊS 04
I10: No mês | J10: VALOR (R$): | K10: No mês | L10: VALOR (R$): | M10: No mês | N10: VALOR (R$): | O10: No mês | P10: VALOR (R$):
B11: 1 | C11: =Orçamento!C8 -> SERVIÇOS PRELIMINARES | G11: =Orçamento!L14 -> 82780.143 | H11: =G11/$G$23 -> 0.14788487 | I11: 1 | J11: =I11*G11 -> 82780.143 | K11: 0 | L11: =K11*G11 -> 0 | M11: 0 | N11: =M11*G11 -> 0 | O11: 0 | P11: =O11*G11 -> 0
B12: 2 | C12: =Orçamento!C15 -> FUNDAÇÕES | G12: =Orçamento!L34 -> 29789.926 | H12: =G12/$G$23 -> 0.053219033 | I12: 0.3 | J12: =I12*G12 -> 8936.9777 | K12: 0.7 | L12: =K12*G12 -> 20852.948 | M12: 0 | N12: =M12*G12 -> 0 | O12: 0 | P12: =O12*G12 -> 0
B13: 3 | C13: =Orçamento!C35 -> SUPRA ESTRUTURA | G13: =Orçamento!L38 -> 61835.119 | H13: =G13/G23 -> 0.11046705 | I13: 0 | J13: =I13*G13 -> 0 | K13: 1 | L13: =K13*G13 -> 61835.119 | M13: 0 | N13: =M13*G13 -> 0 | O13: 0 | P13: =O13*G13 -> 0
B14: 4 | C14: =Orçamento!C39 -> VEDAÇÕES | G14: =Orçamento!L52 -> 74555.431 | H14: =G14/$G$23 -> 0.1331916 | I14: 0 | J14: =I14*G14 -> 0 | K14: 0.3 | L14: =K14*G14 -> 22366.629 | M14: 0.7 | N14: =M14*G14 -> 52188.801 | O14: 0 | P14: =O14*G14 -> 0
B15: 5 | C15: =Orçamento!C53 -> COBERTURA | G15: =Orçamento!L64 -> 207777.3 | H15: =G15/$G$23 -> 0.37118947 | I15: 0 | J15: =I15*G15 -> 0 | K15: 0 | L15: =K15*G15 -> 0 | M15: 1 | N15: =M15*G15 -> 207777.3 | O15: 0 | P15: =O15*G15 -> 0
B16: 6 | C16: =Orçamento!C65 -> PISOS INTERNOS | G16: =Orçamento!L78 -> 32228.758 | H16: =G16/$G$23 -> 0.057575952 | I16: 0 | J16: =I16*G16 -> 0 | K16: 0 | L16: =K16*G16 -> 0 | M16: 0 | N16: =M16*G16 -> 0 | O16: 1 | P16: =O16*G16 -> 32228.758
B17: 7 | C17: =Orçamento!C79 -> PINTURA | G17: =Orçamento!L81 -> 25397.313 | H17: =G17/$G$23 -> 0.045371729 | I17: 0 | J17: =I17*G17 -> 0 | K17: 0 | L17: =K17*G17 -> 0 | M17: 0 | N17: =M17*G17 -> 0 | O17: 1 | P17: =O17*G17 -> 25397.313
B18: 8 | C18: =Orçamento!C82 -> INSTALAÇÕES ELÉTRICAS | G18: =Orçamento!L97 -> 33806.899 | H18: =G18/$G$23 -> 0.060395266 | I18: 0.21 | J18: =I18*G18 -> 7099.4488 | K18: 0 | L18: =K18*G18 -> 0 | M18: 0 | N18: =M18*G18 -> 0 | O18: 0.79 | P18: =O18*G18 -> 26707.45
B19: 9 | C19: =Orçamento!C98 -> ESQUADRIAS | G19: =Orçamento!L102 -> 7449.6518 | H19: =G19/$G$23 -> 0.013308636 | I19: 0 | J19: =I19*G19 -> 0 | K19: 0 | L19: =K19*G19 -> 0 | M19: 0 | N19: =M19*G19 -> 0 | O19: 1 | P19: =O19*G19 -> 7449.6518
B20: 10 | C20: =Orçamento!C103 -> ACESSIBILIDADE | G20: =Orçamento!L105 -> 2317.4874 | H20: =G20/$G$23 -> 0.0041401392 | I20: 0 | J20: =I20*G20 -> 0 | K20: 0 | L20: =K20*G20 -> 0 | M20: 0 | N20: =M20*G20 -> 0 | O20: 1 | P20: =O20*G20 -> 2317.4874
B21: 11 | C21: =Orçamento!C106 -> INSTALAÇÕES DO SISTEMA PREVENTICO CONTRA INCÊNDIO | G21: =Orçamento!L110 -> 677.85006 | H21: =G21/$G$23 -> 0.0012109639 | I21: 0 | J21: =I21*G21 -> 0 | K21: 0 | L21: =K21*G21 -> 0 | M21: 0 | N21: =M21*G21 -> 0 | O21: 1 | P21: =O21*G21 -> 677.85006
B22: 12 | C22: =Orçamento!C111 -> LIMPEZA FINAL | G22: =Orçamento!L113 -> 1144.8729 | H22: =G22/$G$23 -> 0.0020452898 | I22: 0 | J22: =I22*G22 -> 0 | K22: 0 | L22: =K22*G22 -> 0 | M22: 0 | N22: =M22*G22 -> 0 | O22: 1 | P22: =O22*G22 -> 1144.8729
B23: TOTAL = | G23: =SUM(G11:G22) -> 559760.75 | H23: =SUM(H11:H22) -> 1
B24: TOTAL SIMPLES (R$): | I24: =SUM(J11:J22) -> 98816.569 | K24: =SUM(L11:L22) -> 105054.7 | M24: =SUM(N11:N22) -> 259966.1 | O24: =SUM(P11:P22) -> 95923.383
B25: TOTAL SIMPLES (%): | I25: =I24/G23 -> 0.17653358 | K25: =K24/G23 -> 0.18767785 | M25: =M24/G23 -> 0.46442359 | O25: =O24/G23 -> 0.17136497
B26: TOTAL ACUMULADO (R$): | I26: =I24 -> 98816.569 | K26: =I24+K24 -> 203871.27 | M26: =K26+M24 -> 463837.36 | O26: =M26+O24 -> 559760.75
B27: TOTAL ACUMULADO (%): | I27: =I25 -> 0.17653358 | K27: =I25+K25 -> 0.36421144 | M27: =K27+M25 -> 0.82863503 | O27: =M27+O25 -> 1
B29: Guatambú/SC, 26 de janeiro de 2024
F32: _____________________________________________________ | K32: _____________________________________________________
F33: Responsável Técnico(a): | K33: Proprietário:
F34: ENG. ANDRÉIA FÁTIMA TRICHÊS | K34: PREFEITURA MUNICIPAL DE PIÊN/PR
F35: TR Construtora e Engenharia Ltda | K35: CNPJ: 76.002.666/0001-40
F36: CREA-SC 154766-9

Sheet COMPOSIÇÕES 
D1: PLANILHA DE COMPOSIÇÕES
D3: OBRA/BLOCO: | E3: COMPLEXO ESCOLA ESPECIAL / BLOCO 03 - PARTE A (ARENA EQUOTERAPIA (PICADEIRO)) | G3: 1.2273 | J3: BDI: | K3: 0.2273
D4: LOCAL: | E4: DISTRITO DE TRIGOLÂNDIA, MUNICÍPIO DE PIÊN-PR | J4: REFERÊNCIA: | K4: SINAPI (Não Desonerado)
D5: ÁREA: | E5: 387,07 M² | J5: DATA BASE: | K5: 45292
B7: Item | C7: Descrição da Composição | G7: Referência SINAPI | H7: UNID. | I7: QUANT. | J7: CUSTO UNITÁRIO (sem BDI) | K7: PREÇO COM BDI | L7: PREÇO TOTAL
B8: 1 | C8: PILARES PRÉ FABRICADOS
B9: 1.1 | C9: MONTAGEM E DESMONTAGEM DE FÔRMA DE PILARES RETANGULARES E ESTRUTURAS SIMILARES, PÉ-DIREITO SIMPLES, EM CHAPA DE MADEIRA COMPENSADA RESINADA, 2 UTILIZAÇÕES. AF_09/2020 | G9: 92415 | H9: M² | I9: =(0.25+0.25+0.35+0.35)*7.4*18 -> 159.84 | J9: 140.67 | K9: =J9*$G$3 -> 172.64429 | L9: =K9*I9 -> 27595.463
B10: 1.2 | C10: ARMAÇÃO DE ESTRUTURAS DIVERSAS DE CONCRETO ARMADO, EXCETO VIGAS, PILARES, LAJES E FUNDAÇÕES, UTILIZANDO AÇO CA-60 DE 5,0 MM - MONTAGEM. AF_06/2022 | G10: 92915 | H10: KG | I10: =1.85*80 -> 148 | J10: 17.97 | K10: =J10*$G$3 -> 22.054581 | L10: =K10*I10 -> 3264.078
B11: 1.5 | C11: ARMAÇÃO DE ESTRUTURAS DIVERSAS DE CONCRETO ARMADO, VIGAS, PILARES, LAJES E FUNDAÇÕES, UTILIZANDO AÇO CA-50 DE 12,5 MM - MONTAGEM. AF_06/2022 | G11: 92921 | H11: KG | I11: =11.6*115 -> 1334 | J11: 9.61 | K11: =J11*$G$3 -> 11.794353 | L11: =I11*K11 -> 15733.667
B12: 1.6 | C12: CONCRETAGEM DE PILARES, FCK=25 MPA, COM USO DE JERICAS EM CREMALHEIRA - LANÇAMENTO, ADENSAMENTO E ACABAMENTO. AF_02/2022 | G12: 103688 | H12: M³ | I12: =0.25*0.35*7.4*18 -> 11.655 | J12: 778.48 | K12: =J12*$G$3 -> 955.4285 | L12: =I12*K12 -> 11135.519
B13: 1.7 | C13: AJUDANTE DE ESTRUTURA METÁLICA COM ENCARGOS COMPLEMENTARES | G13: 88240 | H13: H | I13: 12 | J13: 27.17 | K13: =J13*$G$3 -> 33.345741 | L13: =I13*K13 -> 400.14889
B14: 1.8 | C14: MONTADOR DE ESTRUTURA METÁLICA COM ENCARGOS COMPLEMENTARES | G14: 88278 | H14: H | I14: 12 | J14: 30.19 | K14: =J14*$G$3 -> 37.052187 | L14: =I14*K14 -> 444.62624
B15: 1.9 | C15: GUINDASTE HIDRÁULICO AUTOPROPELIDO, COM LANÇA TELESCÓPICA 40 M, CAPACIDADE MÁXIMA 60 T, POTÊNCIA 260 KW - CHP DIURNO. AF_03/2016 | G15: 93287 | H15: H | I15: 6 | J15: 352.24 | K15: =J15*$G$3 -> 432.30415 | L15: =I15*K15 -> 2593.8249
B16: 1.10 | C16: GUINDASTE HIDRÁULICO AUTOPROPELIDO, COM LANÇA TELESCÓPICA 40 M, CAPACIDADE MÁXIMA 60 T, POTÊNCIA 260 KW - CHI DIURNO. AF_03/2016 | G16: 93288 | H16: CR | I16: =11.66*0.25 -> 2.915 | J16: 186.66 | K16: =J16*$G$3 -> 229.08782 | L16: =I16*K16 -> 667.79099
B17: TOTAL DA COMPOSIÇÃO 1 = | L17: =SUM(L9:L16) -> 61835.119
B18: 2 | C18: PORTAS P 01
B19: 2.1 | C19: TABUA APARELHADA *2,5 X 15* CM, EM MACARANDUBA/MASSARANDUBA, ANGELIM OU EQUIVALENTE DA REGIAO (FOLHA DA PORTA) | G19: 3993 | H19: M² | I19: =1.5*1.4 -> 2.1 | J19: 134.18 | K19: =J19*$G$3 -> 164.67911 | L19: =I19*K19 -> 345.82614
B20: 2.2 | C20: PREGO DE ACO POLIDO COM CABECA 17 X 27 (2 1/2 X 11) | G20: 5069 | H20: KG | I20: =70*0.004 -> 0.28 | J20: 15.55 | K20: =J20*$G$3 -> 19.084515 | L20: =I20*K20 -> 5.3436642
B21: 2.3 | C21: CAIBRO APARELHADO *7,5 X 7,5* CM, EM MACARANDUBA/MASSARANDUBA, ANGELIM OU EQUIVALENTE DA REGIAO (FOLHA DA PORTA) | G21: 20209 | H21: M | I21: =1.5+1.5+1.4+1.4+2 -> 7.8 | J21: 29.98 | K21: =J21*$G$3 -> 36.794454 | L21: =I21*K21 -> 286.99674
B22: 2.4 | C22: AJUDANTE DE CARPINTEIRO COM ENCARGOS COMPLEMENTARES | G22: 88239 | H22: H | I22: 2 | J22: 28.29 | K22: =J22*$G$3 -> 34.720317 | L22: =I22*K22 -> 69.440634
B23: 2.5 | C23: CARPINTEIRO DE FORMAS COM ENCARGOS COMPLEMENTARES | G23: 88262 | H23: H | I23: 2 | J23: 34.31 | K23: =J23*$G$3 -> 42.108663 | L23: =I23*K23 -> 84.217326
B24: 2.6 | C24: SERRA CIRCULAR DE BANCADA COM MOTOR ELÉTRICO POTÊNCIA DE 5HP, COM COIFA PARA DISCO 10" - CHP DIURNO. AF_08/2015 | G24: 91692 | H24: H | I24: 0.1 | J24: 34.01 | K24: =J24*$G$3 -> 41.740473 | L24: =I24*K24 -> 4.1740473
B25: 2.7 | C25: GUARNICAO / ALIZAR / VISTA LISA EM MADEIRA MACICA, PARA PORTA , E = *1* COM, L = *5* CM, CEDRINHO / ANGELIM COMERCIAL / TAURI/ CURUPIXA / PEROBA / C UMARU OU EQUIVALENTE DA REGIAO (VISTAS) | G25: 20017 | H25: M | I25: =(1.5+1.5+1.4+1.4)*2 -> 11.6 | J25: 10.18 | K25: =J25*$G$3 -> 12.493914 | L25: =I25*K25 -> 144.9294
B26: 2.8 | C26: FECHO DE EMBUTIR TIPO UNHA 40CM. AF_12/2019 (FECHADURA) | G26: 100708 | H26: UNID. | I26: 1 | J26: 193.88 | K26: =J26*$G$3 -> 237.94892 | L26: =I26*K26 -> 237.94892
B27: 2.9 | C27: CANTONEIRA ACO ABAS IGUAIS (QUALQUER BITOLA), ESPESSURA ENTRE 1/8" E 1/4" (ESTRUTURA PARA PORTA DE CORRER) | G27: 4777 | H27: KG | I27: =1.52*6 -> 9.12 | J27: 7.36 | K27: =J27*$G$3 -> 9.032928 | L27: =I27*K27 -> 82.380303
B28: 2.10 | C28: BUCHA DE NYLON SEM ABA S10, COM PARAFUSO DE 6,10 X 65 MM EM ACO ZINCADO COM ROSCA SOBERBA, CABECA CHATA E FENDA PHILLIPS (FIXAÇÃO) | G28: 7568 | H28: UNID. | I28: 12 | J28: 0.49 | K28: =J28*$G$3 -> 0.601377 | L28: =I28*K28 -> 7.216524
B29: 2.11 | C29: BATENTE PARA PORTA DE MADEIRA, PADRÃO MÉDIO - FORNECIMENTO E MONTAGEM. AF_12/2019 (ESTRUTURA PARA PORTA DE CORRER) | G29: 90801 | H29: UNID. | I29: 1 | J29: 407.2 | K29: =J29*$G$3 -> 499.75656 | L29: =I29*K29 -> 499.75656
B30: TOTAL DA COMPOSIÇÃO 2 = | L30: =SUM(L19:L29) -> 1768.2303
B31: 3 | C31: PORTAS P 02
B32: 3.1 | C32: TABUA APARELHADA *2,5 X 15* CM, EM MACARANDUBA/MASSARANDUBA, ANGELIM OU EQUIVALENTE DA REGIAO (FOLHA DA PORTA) | G32: 3993 | H32: M² | I32: =1.5*2.1 -> 3.15 | J32: 134.18 | K32: =J32*$G$3 -> 164.67911 | L32: =I32*K32 -> 518.73921
B33: 3.2 | C33: PREGO DE ACO POLIDO COM CABECA 17 X 21 (2 X 11) | G33: 5068 | H33: KG | I33: =90*0.004 -> 0.36 | J33: 15.26 | K33: =J33*$G$3 -> 18.728598 | L33: =I33*K33 -> 6.7422953
B34: 3.3 | C34: CAIBRO APARELHADO *7,5 X 7,5* CM, EM MACARANDUBA/MASSARANDUBA, ANGELIM OU EQUIVALENTE DA REGIAO (FOLHA DA PORTA) | G34: 20209 | H34: M | I34: =2.1+2.1+1.5+1.5+3+1.5 -> 11.7 | J34: 29.98 | K34: =J34*$G$3 -> 36.794454 | L34: =I34*K34 -> 430.49511
B35: 3.4 | C35: AJUDANTE DE CARPINTEIRO COM ENCARGOS COMPLEMENTARES | G35: 88239 | H35: H | I35: 3 | J35: 28.29 | K35: =J35*$G$3 -> 34.720317 | L35: =I35*K35 -> 104.16095
B36: 3.5 | C36: CARPINTEIRO DE FORMAS COM ENCARGOS COMPLEMENTARES | G36: 88262 | H36: H | I36: 3 | J36: 34.31 | K36: =J36*$G$3 -> 42.108663 | L36: =I36*K36 -> 126.32599
B37: 3.6 | C37: SERRA CIRCULAR DE BANCADA COM MOTOR ELÉTRICO POTÊNCIA DE 5HP, COM COIFA PARA DISCO 10" - CHP DIURNO. AF_08/2015 | G37: 91692 | H37: H | I37: 0.1 | J37: 34.01 | K37: =J37*$G$3 -> 41.740473 | L37: =I37*K37 -> 4.1740473
B38: 3.7 | C38: GUARNICAO / ALIZAR / VISTA LISA EM MADEIRA MACICA, PARA PORTA , E = *1* COM, L = *5* CM, CEDRINHO / ANGELIM COMERCIAL / TAURI/ CURUPIXA / PEROBA / C UMARU OU EQUIVALENTE DA REGIAO (VISTAS) | G38: 20017 | H38: M | I38: =(2.1+2.1+1.5+1.5)*2 -> 14.4 | J38: 10.18 | K38: =J38*$G$3 -> 12.493914 | L38: =I38*K38 -> 179.91236
B39: 3.8 | C39: FECHO DE EMBUTIR TIPO UNHA 40CM. AF_12/2019 (FECHADURA) | G39: 100708 | H39: UNID. | I39: 1 | J39: 193.88 | K39: =J39*$G$3 -> 237.94892 | L39: =I39*K39 -> 237.94892
B40: 3.9 | C40: CANTONEIRA ACO ABAS IGUAIS (QUALQUER BITOLA), ESPESSURA ENTRE 1/8" E 1/4" (ESTRUTURA PARA PORTA DE CORRER) | G40: 4777 | H40: KG | I40: =1.52*6 -> 9.12 | J40: 7.36 | K40: =J40*$G$3 -> 9.032928 | L40: =I40*K40 -> 82.380303
B41: 3.10 | C41: BUCHA DE NYLON SEM ABA S10, COM PARAFUSO DE 6,10 X 65 MM EM ACO ZINCADO COM ROSCA SOBERBA, CABECA CHATA E FENDA PHILLIPS (FIXAÇÃO) | G41: 7568 | H41: UNID. | I41: 16 | J41: 0.49 | K41: =J41*$G$3 -> 0.601377 | L41: =I41*K41 -> 9.622032
B42: 3.11 | C42: BATENTE PARA PORTA DE MADEIRA, PADRÃO MÉDIO - FORNECIMENTO E MONTAGEM. AF_12/2019 (ESTRUTURA PARA PORTA DE CORRER) | G42: 90801 | H42: UNID. | I42: 1 | J42: 407.2 | K42: =J42*$G$3 -> 499.75656 | L42: =I42*K42 -> 499.75656
B43: TOTAL DA COMPOSIÇÃO 3 = | L43: =SUM(L32:L42) -> 2200.2578
B44: 4 | C44: PORTAS P 03
B45: 4.1 | C45: TABUA APARELHADA *2,5 X 15* CM, EM MACARANDUBA/MASSARANDUBA, ANGELIM OU EQUIVALENTE DA REGIAO (FOLHA DA PORTA) | G45: 3993 | H45: M² | I45: =1.2+2.1 -> 3.3 | J45: 134.18 | K45: =J45*$G$3 -> 164.67911 | L45: =I45*K45 -> 543.44108
B46: 4.2 | C46: PREGO DE ACO POLIDO COM CABECA 17 X 21 (2 X 11) | G46: 5068 | H46: KG | I46: =80*0.004 -> 0.32 | J46: 15.26 | K46: =J46*$G$3 -> 18.728598 | L46: =I46*K46 -> 5.9931514
B47: 4.3 | C47: CAIBRO APARELHADO *7,5 X 7,5* CM, EM MACARANDUBA/MASSARANDUBA, ANGELIM OU EQUIVALENTE DA REGIAO (FOLHA DA PORTA) | G47: 20209 | H47: M | I47: =2.1+2.1+1.2+1.2+3+1.2 -> 10.8 | J47: 29.98 | K47: =J47*$G$3 -> 36.794454 | L47: =I47*K47 -> 397.3801
B48: 4.4 | C48: AJUDANTE DE CARPINTEIRO COM ENCARGOS COMPLEMENTARES | G48: 88239 | H48: H | I48: 3 | J48: 28.29 | K48: =J48*$G$3 -> 34.720317 | L48: =I48*K48 -> 104.16095
B49: 4.5 | C49: CARPINTEIRO DE FORMAS COM ENCARGOS COMPLEMENTARES | G49: 88262 | H49: H | I49: 3 | J49: 34.31 | K49: =J49*$G$3 -> 42.108663 | L49: =I49*K49 -> 126.32599
B50: 4.6 | C50: SERRA CIRCULAR DE BANCADA COM MOTOR ELÉTRICO POTÊNCIA DE 5HP, COM COIFA PARA DISCO 10" - CHP DIURNO. AF_08/2015 | G50: 91692 | H50: H | I50: 0.1 | J50: 34.01 | K50: =J50*$G$3 -> 41.740473 | L50: =I50*K50 -> 4.1740473
B51: 4.7 | C51: GUARNICAO / ALIZAR / VISTA LISA EM MADEIRA MACICA, PARA PORTA , E = *1* COM, L = *5* CM, CEDRINHO / ANGELIM COMERCIAL / TAURI/ CURUPIXA / PEROBA / C UMARU OU EQUIVALENTE DA REGIAO (VISTAS) | G51: 20017 | H51: M | I51: =(1.2+1.2+2.1+2.1)*2 -> 13.2 | J51: 10.18 | K51: =J51*$G$3 -> 12.493914 | L51: =I51*K51 -> 164.91966
B52: 4.8 | C52: FECHO DE EMBUTIR TIPO UNHA 40CM. AF_12/2019 (FECHADURA) | G52: 100708 | H52: UNID. | I52: 1 | J52: 193.88 | K52: =J52*$G$3 -> 237.94892 | L52: =I52*K52 -> 237.94892
B53: 4.9 | C53: CANTONEIRA ACO ABAS IGUAIS (QUALQUER BITOLA), ESPESSURA ENTRE 1/8" E 1/4" (ESTRUTURA PARA PORTA DE CORRER) | G53: 4777 | H53: KG | I53: =1.52*4.8 -> 7.296 | J53: 7.36 | K53: =J53*$G$3 -> 9.032928 | L53: =I53*K53 -> 65.904243
B54: 4.10 | C54: BUCHA DE NYLON SEM ABA S10, COM PARAFUSO DE 6,10 X 65 MM EM ACO ZINCADO COM ROSCA SOBERBA, CABECA CHATA E FENDA PHILLIPS (FIXAÇÃO) | G54: 7568 | H54: UNID. | I54: 16 | J54: 0.49 | K54: =J54*$G$3 -> 0.601377 | L54: =I54*K54 -> 9.622032
B55: 4.11 | C55: BATENTE PARA PORTA DE MADEIRA, PADRÃO MÉDIO - FORNECIMENTO E MONTAGEM. AF_12/2019 (ESTRUTURA PARA PORTA DE CORRER) | G55: 90801 | H55: UNID. | I55: 1 | J55: 407.2 | K55: =J55*$G$3 -> 499.75656 | L55: =I55*K55 -> 499.75656
B56: TOTAL DA COMPOSIÇÃO 4 = | L56: =SUM(L45:L55) -> 2159.6267
B57: 5 | C57: PORTAS P 04
B58: 5.1 | C58: KIT DE PORTA DE MADEIRA PARA PINTURA, SEMI-OCA (LEVE OU MÉDIA), PADRÃO MÉDIO, 90X210CM, ESPESSURA DE 3,5CM, ITENS INCLUSOS: DOBRADIÇAS, MONTAGEM E INSTALAÇÃO DO BATENTE, FECHADURA COM EXECUÇÃO DO FURO - FORNECIMENTO E INSTALAÇÃO. AF_12/2019 (P06) | G58: 90844 | H58: UNID. | I58: =1.11*2 -> 2.22 | J58: 1322.03 | K58: =J58*$G$3 -> 1622.5274 | L58: =I58*K58 -> 3602.0109
B59: TOTAL DA COMPOSIÇÃO 5 = | L59: =SUM(L58) -> 3602.0109
B60: 6 | C60: PORTAS P 05
B61: 6.1 | C61: KIT DE PORTA DE MADEIRA PARA PINTURA, SEMI-OCA (LEVE OU MÉDIA), PADRÃO MÉDIO, 90X210CM, ESPESSURA DE 3,5CM, ITENS INCLUSOS: DOBRADIÇAS, MONTAGEM E INSTALAÇÃO DO BATENTE, FECHADURA COM EXECUÇÃO DO FURO - FORNECIMENTO E INSTALAÇÃO. AF_12/2019 (P06) | G61: 90844 | H61: UNID. | I61: =1.11 -> 1.11 | J61: 1322.03 | K61: =J61*$G$3 -> 1622.5274 | L61: =I61*K61 -> 1801.0054
B62: TOTAL DA COMPOSIÇÃO 6 = | L62: =SUM(L61) -> 1801.0054
B63: 7 | C63: PORTAS P 09
B64: 7.1 | C64: KIT DE PORTA DE MADEIRA TIPO MEXICANA, MACIÇA (PESADA OU SUPERPESADA), PADRÃO MÉDIO, 80X210CM, ESPESSURA DE 3CM, ITENS INCLUSOS: DOBRADIÇAS, MONTAGEM E INSTALAÇÃO DO BATENTE, SEM FECHADURA - FORNECIMENTO E INSTALAÇÃO. AF_12/2019 | G64: 91336 | H64: UNID. | I64: 2 | J64: 2194.58 | K64: =J64*$G$3 -> 2693.408 | L64: =I64*K64 -> 5386.8161
B65: TOTAL DA COMPOSIÇÃO 7 = | L65: =SUM(L64) -> 5386.8161
B66: 8 | C66: PORTAS P 07
B67: 8.1 | C67: KIT DE PORTA DE MADEIRA PARA PINTURA, SEMI-OCA (LEVE OU MÉDIA), PADRÃO MÉDIO, 90X210CM, ESPESSURA DE 3,5CM, ITENS INCLUSOS: DOBRADIÇAS, MONTAGEM E INSTALAÇÃO DO BATENTE, FECHADURA COM EXECUÇÃO DO FURO - FORNECIMENTO E INSTALAÇÃO. AF_12/2019 (P06) | G67: 90844 | H67: UNID. | I67: =1.11 -> 1.11 | J67: 1322.03 | K67: =J67*$G$3 -> 1622.5274 | L67: =I67*K67 -> 1801.0054
B68: 8.2 | C68: CANTONEIRA ACO ABAS IGUAIS (QUALQUER BITOLA), ESPESSURA ENTRE 1/8" E 1/4" (ESTRUTURA PARA PORTA DE CORRER) | G68: 4777 | H68: KG | I68: =1.52*3.6 -> 5.472 | J68: 7.36 | K68: =J68*$G$3 -> 9.032928 | L68: =I68*K68 -> 49.428182
B69: 8.3 | C69: BUCHA DE NYLON SEM ABA S10, COM PARAFUSO DE 6,10 X 65 MM EM ACO ZINCADO COM ROSCA SOBERBA, CABECA CHATA E FENDA PHILLIPS (FIXAÇÃO) | G69: 7568 | H69: UNID. | I69: 16 | J69: 0.49 | K69: =J69*$G$3 -> 0.601377 | L69: =I69*K69 -> 9.622032
B70: 8.4 | C70: BATENTE PARA PORTA DE MADEIRA, PADRÃO MÉDIO - FORNECIMENTO E MONTAGEM. AF_12/2019 (ESTRUTURA PARA PORTA DE CORRER) | G70: 90801 | H70: UNID. | I70: 1 | J70: 407.2 | K70: =J70*$G$3 -> 499.75656 | L70: =I70*K70 -> 499.75656
B71: 8.5 | C71: AJUDANTE DE CARPINTEIRO COM ENCARGOS COMPLEMENTARES | G71: 88239 | H71: H | I71: 1.5 | J71: 28.29 | K71: =J71*$G$3 -> 34.720317 | L71: =I71*K71 -> 52.080476
B72: 8.6 | C72: CARPINTEIRO DE FORMAS COM ENCARGOS COMPLEMENTARES | G72: 88262 | H72: H | I72: 1.5 | J72: 34.31 | K72: =J72*$G$3 -> 42.108663 | L72: =I72*K72 -> 63.162995
B73: TOTAL DA COMPOSIÇÃO 8 = | L73: =SUM(L67:L72) -> 2475.0557
B74: 9 | C74: JANELAS COM FOLHAS DE VIDRO E MARCO E VISTAS EM MADEIRA J 02
B75: 9.1 | C75: JANELA DE ALUMÍNIO DE CORRER COM 2 FOLHAS PARA VIDROS, COM VIDROS, BATENTE, ACABAMENTO COM ACETATO OU BRILHANTE E FERRAGENS. EXCLUSIVE ALIZAR E CONTRAMARCO. FORNECIMENTO E INSTALAÇÃO. AF_12/2019 | G75: 94570 | H75: M² | I75: =1.5*1.2 -> 1.8 | J75: 692.4 | K75: =J75*$G$3 -> 849.78252 | L75: =I75*K75 -> 1529.6085
B76: 9.2 | C76: GUARNICAO / ALIZAR / VISTA LISA EM MADEIRA MACICA, PARA PORTA , E = *1* COM, L = *5* CM, CEDRINHO / ANGELIM COMERCIAL / TAURI/ CURUPIXA / PEROBA / C UMARU OU EQUIVALENTE DA REGIAO (VISTAS) | G76: 20017 | H76: M | I76: =(1.5+1.5+1.2+1.2)*2 -> 10.8 | J76: 10.18 | K76: =J76*$G$3 -> 12.493914 | L76: =I76*K76 -> 134.93427
B77: 9.3 | C77: BATENTE PARA PORTA DE MADEIRA, PADRÃO MÉDIO - FORNECIMENTO E MONTAGEM. AF_12/2019 (ESTRUTURA PARA PORTA DE CORRER) | G77: 90801 | H77: UNID. | I77: 1.08 | J77: 407.2 | K77: =J77*$G$3 -> 499.75656 | L77: =I77*K77 -> 539.73708
B78: 9.4 | C78: BUCHA DE NYLON SEM ABA S10, COM PARAFUSO DE 6,10 X 65 MM EM ACO ZINCADO COM ROSCA SOBERBA, CABECA CHATA E FENDA PHILLIPS (FIXAÇÃO) | G78: 7568 | H78: UNID. | I78: 12 | J78: 0.49 | K78: =J78*$G$3 -> 0.601377 | L78: =I78*K78 -> 7.216524
B79: TOTAL DA COMPOSIÇÃO 9 = | L79: =SUM(L75:L78) -> 2211.4964
B80: 10 | C80: JANELAS COM FOLHAS DE VIDRO MAXI AR E MARCO E VISTAS EM MADEIRA J 03
B81: 10.1 | C81: JANELA DE ALUMÍNIO TIPO MAXIM-AR, COM VIDROS, BATENTE E FERRAGENS. EXCLUSI VE ALIZAR, ACABAMENTO E CONTRAMARCO. FORNECIMENTO E INSTALAÇÃO. AF_12/2019 | G81: 94569 | H81: M² | I81: =0.8*0.6 -> 0.48 | J81: 1320.01 | K81: =J81*$G$3 -> 1620.0483 | L81: =I81*K81 -> 777.62317
B82: 10.2 | C82: GUARNICAO / ALIZAR / VISTA LISA EM MADEIRA MACICA, PARA PORTA , E = *1* COM, L = *5* CM, CEDRINHO / ANGELIM COMERCIAL / TAURI/ CURUPIXA / PEROBA / C UMARU OU EQUIVALENTE DA REGIAO (VISTAS) | G82: 20017 | H82: M | I82: =(1.5+1.5+1.2+1.2)*2 -> 10.8 | J82: 10.18 | K82: =J82*$G$3 -> 12.493914 | L82: =I82*K82 -> 134.93427
B83: 10.3 | C83: BATENTE PARA PORTA DE MADEIRA, PADRÃO MÉDIO - FORNECIMENTO E MONTAGEM. AF_12/2019 (ESTRUTURA PARA PORTA DE CORRER) | G83: 90801 | H83: UNID. | I83: 0.56 | J83: 407.2 | K83: =J83*$G$3 -> 499.75656 | L83: =I83*K83 -> 279.86367
B84: 10.4 | C84: BUCHA DE NYLON SEM ABA S10, COM PARAFUSO DE 6,10 X 65 MM EM ACO ZINCADO COM ROSCA SOBERBA, CABECA CHATA E FENDA PHILLIPS (FIXAÇÃO) | G84: 7568 | H84: UNID. | I84: 12 | J84: 0.49 | K84: =J84*$G$3 -> 0.601377 | L84: =I84*K84 -> 7.216524
B85: TOTAL DA COMPOSIÇÃO 10 = | L85: =SUM(L81:L84) -> 1199.6376
B86: 11 | C86: JANELAS COM VIDRO FIXO SEM ABERTURA COM MARCO E VISTAS EM MADEIRA J 04
B87: 11.1 | C87: INSTALAÇÃO DE VIDRO TEMPERADO, E = 10 MM, ENCAIXADO EM PERFIL U. AF_01/2021_PS | G87: 102181 | H87: M² | I87: =3*1.55 -> 4.65 | J87: 541.75 | K87: =J87*$G$3 -> 664.88977 | L87: =I87*K87 -> 3091.7375
B88: 11.2 | C88: GUARNICAO / ALIZAR / VISTA LISA EM MADEIRA MACICA, PARA PORTA , E = *1* COM, L = *5* CM, CEDRINHO / ANGELIM COMERCIAL / TAURI/ CURUPIXA / PEROBA / C UMARU OU EQUIVALENTE DA REGIAO (VISTAS) | G88: 20017 | H88: M | I88: =(3+3+1.55+1.55)*2 -> 18.2 | J88: 10.18 | K88: =J88*$G$3 -> 12.493914 | L88: =I88*K88 -> 227.38923
B89: 11.3 | C89: BATENTE PARA PORTA DE MADEIRA, PADRÃO MÉDIO - FORNECIMENTO E MONTAGEM. AF_12/2019 (ESTRUTURA PARA PORTA DE CORRER) | G89: 90801 | H89: UNID. | I89: 1.82 | J89: 407.2 | K89: =J89*$G$3 -> 499.75656 | L89: =I89*K89 -> 909.55694
B90: 11.4 | C90: BUCHA DE NYLON SEM ABA S10, COM PARAFUSO DE 6,10 X 65 MM EM ACO ZINCADO COM ROSCA SOBERBA, CABECA CHATA E FENDA PHILLIPS (FIXAÇÃO) | G90: 7568 | H90: UNID. | I90: 12 | J90: 0.49 | K90: =J90*$G$3 -> 0.601377 | L90: =I90*K90 -> 7.216524
B91: TOTAL DA COMPOSIÇÃO 11 = | L91: =SUM(L87:L90) -> 4235.9002
B92: 12 | C92: JANELAS COM VIDRO FIXO SEM ABERTURA COM MARCO E VISTAS EM MADEIRA J 05
B93: 12.1 | C93: INSTALAÇÃO DE VIDRO TEMPERADO, E = 10 MM, ENCAIXADO EM PERFIL U. AF_01/2021_PS | G93: 102181 | H93: M² | I93: =1.5*0.8 -> 1.2 | J93: 541.75 | K93: =J93*$G$3 -> 664.88977 | L93: =I93*K93 -> 797.86773
B94: 12.2 | C94: GUARNICAO / ALIZAR / VISTA LISA EM MADEIRA MACICA, PARA PORTA , E = *1* COM, L = *5* CM, CEDRINHO / ANGELIM COMERCIAL / TAURI/ CURUPIXA / PEROBA / C UMARU OU EQUIVALENTE DA REGIAO (VISTAS) | G94: 20017 | H94: M | I94: =(1.5+1.5+0.8+0.8)*2 -> 9.2 | J94: 10.18 | K94: =J94*$G$3 -> 12.493914 | L94: =I94*K94 -> 114.94401
B95: 12.3 | C95: BATENTE PARA PORTA DE MADEIRA, PADRÃO MÉDIO - FORNECIMENTO E MONTAGEM. AF_12/2019 (ESTRUTURA PARA PORTA DE CORRER) | G95: 90801 | H95: UNID. | I95: 0.92 | J95: 407.2 | K95: =J95*$G$3 -> 499.75656 | L95: =I95*K95 -> 459.77604
B96: 12.4 | C96: BUCHA DE NYLON SEM ABA S10, COM PARAFUSO DE 6,10 X 65 MM EM ACO ZINCADO COM ROSCA SOBERBA, CABECA CHATA E FENDA PHILLIPS (FIXAÇÃO) | G96: 7568 | H96: UNID. | I96: 12 | J96: 0.49 | K96: =J96*$G$3 -> 0.601377 | L96: =I96*K96 -> 7.216524
B97: TOTAL DA COMPOSIÇÃO 12 = | L97: =SUM(L93:L96) -> 1379.8043
B98: 13 | C98: PORTAS P NOVA
B99: 13.1 | C99: TABUA APARELHADA *2,5 X 15* CM, EM MACARANDUBA/MASSARANDUBA, ANGELIM OU EQUIVALENTE DA REGIAO (FOLHA DA PORTA) | G99: 3993 | H99: M² | I99: =2.98*1.4 -> 4.172 | J99: 134.18 | K99: =J99*$G$3 -> 164.67911 | L99: =I99*K99 -> 687.04126
B100: 13.2 | C100: PREGO DE ACO POLIDO COM CABECA 17 X 21 (2 X 11) | G100: 5068 | H100: KG | I100: =80*0.004 -> 0.32 | J100: 15.26 | K100: =J100*$G$3 -> 18.728598 | L100: =I100*K100 -> 5.9931514
B101: 13.3 | C101: CAIBRO APARELHADO *7,5 X 7,5* CM, EM MACARANDUBA/MASSARANDUBA, ANGELIM OU EQUIVALENTE DA REGIAO (FOLHA DA PORTA) | G101: 20209 | H101: M | I101: =2.1+2.1+1.2+1.2+3+1.2 -> 10.8 | J101: 29.98 | K101: =J101*$G$3 -> 36.794454 | L101: =I101*K101 -> 397.3801
B102: 13.4 | C102: AJUDANTE DE CARPINTEIRO COM ENCARGOS COMPLEMENTARES | G102: 88239 | H102: H | I102: 3 | J102: 28.29 | K102: =J102*$G$3 -> 34.720317 | L102: =I102*K102 -> 104.16095
...

Sheet COTAÇÕES
D1: PLANILHA DE COTAÇÕES
D3: OBRA/BLOCO: | E3: COMPLEXO ESCOLA ESPECIAL / BLOCO 03 - PARTE A (ARENA EQUOTERAPIA (PICADEIRO))
D4: LOCAL: | E4: DISTRITO DE TRIGOLÂNDIA, MUNICÍPIO DE PIÊN-PR
D5: ÁREA: | E5: 387,09 M²
B7: Item | C7: Descrição da COMPOSIÇÃO | G7: UNID. | H7: QUANT. | I7: EMPRESA | J7: CNPJ | K7: PREÇO TOTAL
B8: 1.1 | C8: KIT PADRÃO DE ENTRADA DE ENERGIA COPEL 125 A CABO DE 50 MM | G8: UND | H8: 1 | I8: DINAMICA ELETRICA | J8: 12.813.311/0001-59 | K8: 5800
B9: TOTAL = | K9: =K8 -> 5800
B11: Guatambú/SC, 26 de janeiro de 2024
F14: _____________________________________________________ | I14: _____________________________________________________
F15: Responsável Técnico(a): | I15: Proprietário:
F16: ENG. ANDRÉIA FÁTIMA TRICHÊS | I16: PREFEITURA MUNICIPAL DE PIÊN/PR
F17: TR Construtora e Engenharia Ltda | I17: CNPJ: 76.002.666/0001-40
F18: CREA-SC 154766-9
