Workbook
Name _4.1.4: #REF!
Name _4.1.4: #REF!
Name _4.1.4: #REF!
Name _TOT20: [1]Indiretas!#REF!
Name _TOT20: [1]Indiretas!#REF!
Name _TOT20: [1]Indiretas!#REF!
Name CD: #REF!
Name CD: #REF!
Name CD: #REF!
Name CI: #REF!
Name CI: #REF!
Name CI: #REF!
Name PV: #REF!
Name PV: #REF!
Name PV: #REF!
Name PVA: #REF!
Name PVA: #REF!
Name PVA: #REF!
Name STI: #REF!
Name STI: #REF!
Name STI: #REF!

Sheet Orçamento
D1: PLANILHA DE ORÇAMENTO - ESTIMATIVA DE PREÇO | K1: =L114 -> 559760.75
D3: OBRA/BLOCO: | E3: COMPLEXO ESCOLA ESPECIAL / BLOCO 03 - PARTE A (ARENA EQUOTERAPIA (PICADEIRO)) | G3: 1.2273 | J3: BDI: | K3: 0.2273
D4: LOCAL: | E4: DISTRITO DE TRIGOLÂNDIA, MUNICÍPIO DE PIÊN-PR | J4: REFERÊNCIA: | K4: SINAPI (Não Desonerado)
D5: ÁREA: | E5: 387,07 M² | J5: DATA BASE: | K5: 45310
B7: Item | C7: Descrição | G7: Referência SINAPI | H7: UNID. | I7: QUANT. | J7: CUSTO UNITÁRIO (sem BDI) | K7: PREÇO COM BDI | L7: PREÇO TOTAL
B8: 1 | C8: SERVIÇOS PRELIMINARES
B9: 1.1 | C9: FORNECIMENTO E INSTALAÇÃO DE PLACA DE OBRA COM CHAPA GALVANIZADA E ESTRUTURA DE MADEIRA. AF_03/2022_PS | G9: 103689 | H9: M² | I9: 2 | J9: 316.94 | K9: =J9*$G$3 -> 388.98046 | L9: =I9*K9 -> 777.96092
B10: 1.2 | C10: TAPUME COM TELHA METÁLICA. AF_05/2018 | G10: 98459 | H10: M² | I10: =(200*2) -> 400 | J10: 123.86 | K10: =J10*$G$3 -> 152.01338 | L10: =I10*K10 -> 60805.351
B11: 1.3 | C11: EXECUÇÃO DE ALMOXARIFADO EM CANTEIRO DE OBRA EM CHAPA DE MADEIRA COMPENSADA, INCLUSO PRATELEIRAS. AF_02/2016 | G11: 93208 | H11: M² | I11: =2.2*3 -> 6.6 | J11: 1035.24 | K11: =J11*$G$3 -> 1270.5501 | L11: =I11*K11 -> 8385.6303
B12: 1.4 | C12: EXECUÇÃO DE SANITÁRIO E VESTIÁRIO EM CANTEIRO DE OBRA EM CHAPA DE MADEIRA COMPENSADA, NÃO INCLUSO MOBILIÁRIO. AF_02/2016 | G12: 93212 | H12: M² | I12: =1.5*3 -> 4.5 | J12: 1121.16 | K12: =J12*$G$3 -> 1375.9997 | L12: =I12*K12 -> 6191.9985
B13: 1.5 | C13: LOCACAO CONVENCIONAL DE OBRA, UTILIZANDO GABARITO DE TÁBUAS CORRIDAS PONTA LETADAS A CADA 2,00M - 2 UTILIZAÇÕES. AF_10/2018 | G13: 99059 | H13: M² | I13: =25.3+25.3+15.3+15.3 -> 81.2 | J13: 66.42 | K13: =J13*$G$3 -> 81.517266 | L13: =I13*K13 -> 6619.202
B14: TOTAL DO ITEM 1 = | L14: =SUM(L9:L13) -> 82780.143
B15: 2 | C15: FUNDAÇÕES
B16: 2.1 | C16: SAPATAS
B17: 2.1.1 | C17: ESCAVAÇÃO MANUAL PARA BLOCO DE COROAMENTO OU SAPATA (INCLUINDO ESCAVAÇÃO PARA COLOCAÇÃO DE FÔRMAS). AF_06/2017 | G17: 96523 | H17: M³ | I17: =1.92*18 -> 34.56 | J17: 121.41 | K17: =J17*$G$3 -> 149.00649 | L17: =I17*K17 -> 5149.6644
B18: 2.1.2 | C18: TRANSPORTE COM CAMINHÃO BASCULANTE DE 10 M³, EM VIA URBANA PAVIMENTADA, DMT ATÉ 30 KM (UNIDADE: TXKM). AF_07/2020 | G18: 95878 | H18: M³ | I18: =I17 -> 34.56 | J18: 1.7 | K18: =J18*$G$3 -> 2.08641 | L18: =I18*K18 -> 72.10633
B19: 2.1.3 | C19: LASTRO DE CONCRETO MAGRO, APLICADO EM BLOCOS DE COROAMENTO OU SAPATAS, ESP ESSURA DE 5 CM. AF_08/2017 | G19: 96619 | H19: M² | I19: 1.152 | J19: 34.56 | K19: =J19*$G$3 -> 42.415488 | L19: =I19*K19 -> 48.862642
B20: 2.1.4 | C20: PEDRA DE MAO OU PEDRA RACHAO PARA ARRIMO/FUNDACAO | G20: 4730 | H20: M³ | I20: 8 | J20: 61.72 | K20: =J20*$G$3 -> 75.748956 | L20: =I20*K20 -> 605.99165
B21: 2.1.5 | C21: CONCRETAGEM DE BLOCOS DE COROAMENTO E VIGAS BALDRAMES, FCK 30 MPA, COM USO DE BOMBA LANÇAMENTO, ADENSAMENTO E ACABAMENTO. AF_06/2017 | G21: 96557 | H21: M³ | I21: 6 | J21: 593.11 | K21: =J21*$G$3 -> 727.9239 | L21: =I21*K21 -> 4367.5434
B22: 2.1.6 | C22: IMPERMEABILIZAÇÃO DE SUPERFÍCIE COM EMULSÃO ASFÁLTICA, 2 DEMÃOS. AF_09/2023 | G22: 98557 | H22: M² | I22: =0.8*0.8*18 -> 11.52 | J22: 43.79 | K22: =J22*$G$3 -> 53.743467 | L22: =I22*K22 -> 619.12474
B23: TOTAL DO ITEM 2.1 = | L23: =SUM(L17:L22) -> 10863.293
B24: 2.2 | C24: VIGAS BALDRAME
B25: 2.2.1 | C25: ESCAVAÇÃO MANUAL PARA BLOCO DE COROAMENTO OU SAPATA (INCLUINDO ESCAVAÇÃO PARA COLOCAÇÃO DE FÔRMAS). AF_06/2017 | G25: 96523 | H25: M³ | I25: =(15.3+15.3+25.3+25.3)*0.25*0.3 -> 6.09 | J25: 121.41 | K25: =J25*$G$3 -> 149.00649 | L25: =I25*K25 -> 907.44954
B26: 2.2.2 | C26: FABRICAÇÃO, MONTAGEM E DESMONTAGEM DE FÔRMA PARA VIGA BALDRAME, EM MADEIRA SERRADA, E=25 MM, 4 UTILIZAÇÕES. AF_06/2017 | G26: 96536 | H26: M² | I26: =(15.3+15.3+25.3+25.3)*0.6 -> 48.72 | J26: 90.79 | K26: =J26*$G$3 -> 111.42657 | L26: =I26*K26 -> 5428.7023
B27: 2.2.3 | C27: LASTRO COM MATERIAL GRANULAR, APLICADO EM BLOCOS DE COROAMENTO, ESPESSURADE *10 CM*. AF_08/2017 | G27: 96623 | H27: M³ | I27: 0.57 | J27: 201.15 | K27: =J27*$G$3 -> 246.8714 | L27: =I27*K27 -> 140.7167
B28: 2.2.4 | C28: ARMAÇÃO DE ESTRUTURAS DIVERSAS DE CONCRETO ARMADO, EXCETO VIGAS, PILARES, LAJES E FUNDAÇÕES, UTILIZANDO AÇO CA-60 DE 5,0 MM - MONTAGEM. AF_06/2022 | G28: 92915 | H28: KG | I28: =((30.6+50.6)/0.1)*0.86*0.22 -> 153.6304 | J28: 17.97 | K28: =J28*$G$3 -> 22.054581 | L28: =I28*K28 -> 3388.2541
B29: 2.2.5 | C29: ARMAÇÃO DE ESTRUTURAS DIVERSAS DE CONCRETO ARMADO, EXCETO VIGAS, PILARES, LAJES E FUNDAÇÕES, UTILIZANDO AÇO CA-50 DE 8,0 MM - MONTAGEM. AF_06/2022 | G29: 92917 | H29: KG | I29: 200.4 | J29: 13.84 | K29: =J29*$G$3 -> 16.985832 | L29: =I29*K29 -> 3403.9607
B30: 2.2.6 | C30: CONCRETAGEM DE BLOCOS DE COROAMENTO E VIGAS BALDRAME, FCK 30 MPA, COM USO DE JERICA LANÇAMENTO, ADENSAMENTO E ACABAMENTO. AF_06/2017 | G30: 96555 | H30: M³ | I30: =81.2*0.14*0.3 -> 3.4104 | J30: 698.55 | K30: =J30*$G$3 -> 857.33042 | L30: =I30*K30 -> 2923.8396
B31: 2.2.7 | C31: IMPERMEABILIZAÇÃO DE SUPERFÍCIE COM EMULSÃO ASFÁLTICA, 2 DEMÃOS. AF_09/2023 | G31: 98557 | H31: M² | I31: =I26 -> 48.72 | J31: 43.79 | K31: =J31*$G$3 -> 53.743467 | L31: =I31*K31 -> 2618.3817
B32: 2.2.8 | C32: REATERRO MANUAL DE VALAS, COM COMPACTADOR DE SOLOS DE PERCUSSÃO. AF_08/2023 | G32: 93382 | H32: M³ | I32: =I25/2 -> 3.045 | J32: 30.86 | K32: =J32*$G$3 -> 37.874478 | L32: =I32*K32 -> 115.32779
B33: TOTAL DO ITEM 2.1 = | L33: =SUM(L25:L32) -> 18926.633
B34: TOTAL DO ITEM 2 = | L34: =L33+L23 -> 29789.926
B35: 3 | C35: SUPRA ESTRUTURA
B36: 3.1 | C36: PILARES PRÉ FABRICADOS
B37: 3.1.1 | C37: FABRICAÇÃO E INSTALAÇÃO DE PILARES PRÉ MOLDADOS | G37: COMP. 1 | H37: UNID. | I37: 1 | J37: ='COMPOSIÇÕES '!L17 -> 61835.119 | K37: =J37 -> 61835.119 | L37: =I37*K37 -> 61835.119
B38: TOTAL DO ITEM 3 = | L38: =SUM(L37) -> 61835.119
B39: 4 | C39: VEDAÇÕES
B40: 4.1 | C40: ALVENARIAS
B41: 4.1.1 | C41: ALVENARIA DE VEDAÇÃO DE BLOCOS VAZADOS DE CONCRETO DE 14X19X39 CM (ESPESSURA 14 CM) E ARGAMASSA DE ASSENTAMENTO COM PREPARO EM BETONEIRA. AF_12/2021 | G41: 103318 | H41: M² | I41: =(81.2*1.6)-24.43 -> 105.49 | J41: 97.25 | K41: =J41*$G$3 -> 119.35493 | L41: =I41*K41 -> 12590.751
B42: 4.1.2 | C42: CANALETA DE CONCRETO ESTRUTURAL 14 X 19 X 39 CM, FBK 14 MPA (NBR 6136) (VIGA CINTA) | G42: 38600 | H42: UNID. | I42: =(15.3+15.3+25.3+25.3)/0.4 -> 203 | J42: 4.97 | K42: =J42*$G$3 -> 6.099681 | L42: =I42*K42 -> 1238.2352
...

Sheet Cronograma
D1: CRONOGRAMA FÍSICO FINANCEIRO
D3: OBRA: | E3: COMPLEXO ESCOLA ESPECIAL / BLOCO 03 - PARTE A (ARENA EQUOTERAPIA (PICADEIRO))
D4: LOCAL: | E4: DISTRITO DE TRIGOLÂNDIA, MUNICÍPIO DE PIÊN-PR
D5: ÁREA: | E5: 387,07 M²
B8: Item | C8: Descrição | G8: VALOR DOS SERVIÇOS (R$) | H8: PESO (%) | I8: SERVIÇOS A EXECUTAR (%)
I9: MÊS 01 | K9: MÊS 02 | M9: MÊS 03 | O9: MÊS 04
I10: No mês | J10: VALOR (R$): | K10: No mês | L10: VALOR (R$): | M10: No mês | N10: VALOR (R$): | O10: No mês | P10: VALOR (R$):
B11: 1 | C11: =Orçamento!C8 -> SERVIÇOS PRELIMINARES | G11: =Orçamento!L14 -> 82780.143 | H11: =G11/$G$23 -> 0.14788487 | I11: 1 | J11: =I11*G11 -> 82780.143 | K11: 0 | L11: =K11*G11 -> 0 | M11: 0 | N11: =M11*G11 -> 0 | O11: 0 | P11: =O11*G11 -> 0
B12: 2 | C12: =Orçamento!C15 -> FUNDAÇÕES | G12: =Orçamento!L34 -> 29789.926 | H12: =G12/$G$23 -> 0.053219033 | I12: 0.3 | J12: =I12*G12 -> 8936.9777 | K12: 0.7 | L12: =K12*G12 -> 20852.948 | M12: 0 | N12: =M12*G12 -> 0 | O12: 0 | P12: =O12*G12 -> 0
B13: 3 | C13: =Orçamento!C35 -> SUPRA ESTRUTURA | G13: =Orçamento!L38 -> 61835.119 | H13: =G13/G23 -> 0.11046705 | I13: 0 | J13: =I13*G13 -> 0 | K13: 1 | L13: =K13*G13 -> 61835.119 | M13: 0 | N13: =M13*G13 -> 0 | O13: 0 | P13: =O13*G13 -> 0
B14: 4 | C14: =Orçamento!C39 -> VEDAÇÕES | G14: =Orçamento!L52 -> 74555.431 | H14: =G14/$G$23 -> 0.1331916 | I14: 0 | J14: =I14*G14 -> 0 | K14: 0.3 | L14: =K14*G14 -> 22366.629 | M14: 0.7 | N14: =M14*G14 -> 52188.801 | O14: 0 | P14: =O14*G14 -> 0
B15: 5 | C15: =Orçamento!C53 -> COBERTURA | G15: =Orçamento!L64 -> 207777.3 | H15: =G15/$G$23 -> 0.37118947 | I15: 0 | J15: =I15*G15 -> 0 | K15: 0 | L15: =K15*G15 -> 0 | M15: 1 | N15: =M15*G15 -> 207777.3 | O15: 0 | P15: =O15*G15 -> 0
B16: 6 | C16: =Orçamento!C65 -> PISOS INTERNOS | G16: =Orçamento!L78 -> 32228.758 | H16: =G16/$G$23 -> 0.057575952 | I16: 0 | J16: =I16*G16 -> 0 | K16: 0 | L16: =K16*G16 -> 0 | M16: 0 | N16: =M16*G16 -> 0 | O16: 1 | P16: =O16*G16 -> 32228.758
B17: 7 | C17: =Orçamento!C79 -> PINTURA | G17: =Orçamento!L81 -> 25397.313 | H17: =G17/$G$23 -> 0.045371729 | I17: 0 | J17: =I17*G17 -> 0 | K17: 0 | L17: =K17*G17 -> 0 | M17: 0 | N17: =M17*G17 -> 0 | O17: 1 | P17: =O17*G17 -> 25397.313
B18: 8 | C18: =Orçamento!C82 -> INSTALAÇÕES ELÉTRICAS | G18: =Orçamento!L97 -> 33806.899 | H18: =G18/$G$23 -> 0.060395266 | I18: 0.21 | J18: =I18*G18 -> 7099.4488 | K18: 0 | L18: =K18*G18 -> 0 | M18: 0 | N18: =M18*G18 -> 0 | O18: 0.79 | P18: =O18*G18 -> 26707.45
B19: 9 | C19: =Orçamento!C98 -> ESQUADRIAS | G19: =Orçamento!L102 -> 7449.6518 | H19: =G19/$G$23 -> 0.013308636 | I19: 0 | J19: =I19*G19 -> 0 | K19: 0 | L19: =K19*G19 -> 0 | M19: 0 | N19: =M19*G19 -> 0 | O19: 1 | P19: =O19*G19 -> 7449.6518
B20: 10 | C20: =Orçamento!C103 -> ACESSIBILIDADE | G20: =Orçamento!L105 -> 2317.4874 | H20: =G20/$G$23 -> 0.0041401392 | I20: 0 | J20: =I20*G20 -> 0 | K20: 0 | L20: =K20*G20 -> 0 | M20: 0 | N20: =M20*G20 -> 0 | O20: 1 | P20: =O20*G20 -> 2317.4874
B21: 11 | C21: =Orçamento!C106 -> INSTALAÇÕES DO SISTEMA PREVENTICO CONTRA INCÊNDIO | G21: =Orçamento!L110 -> 677.85006 | H21: =G21/$G$23 -> 0.0012109639 | I21: 0 | J21: =I21*G21 -> 0 | K21: 0 | L21: =K21*G21 -> 0 | M21: 0 | N21: =M21*G21 -> 0 | O21: 1 | P21: =O21*G21 -> 677.85006
B22: 12 | C22: =Orçamento!C111 -> LIMPEZA FINAL | G22: =Orçamento!L113 -> 1144.8729 | H22: =G22/$G$23 -> 0.0020452898 | I22: 0 | J22: =I22*G22 -> 0 | K22: 0 | L22: =K22*G22 -> 0 | M22: 0 | N22: =M22*G22 -> 0 | O22: 1 | P22: =O22*G22 -> 1144.8729
B23: TOTAL = | G23: =SUM(G11:G22) -> 559760.75 | H23: =SUM(H11:H22) -> 1
B24: TOTAL SIMPLES (R$): | I24: =SUM(J11:J22) -> 98816.569 | K24: =SUM(L11:L22) -> 105054.7 | M24: =SUM(N11:N22) -> 259966.1 | O24: =SUM(P11:P22) -> 95923.383
B25: TOTAL SIMPLES (%): | I25: =I24/G23 -> 0.17653358 | K25: =K24/G23 -> 0.18767785 | M25: =M24/G23 -> 0.46442359 | O25: =O24/G23 -> 0.17136497
B26: TOTAL ACUMULADO (R$): | I26: =I24 -> 98816.569 | K26: =I24+K24 -> 203871.27 | M26: =K26+M24 -> 463837.36 | O26: =M26+O24 -> 559760.75
B27: TOTAL ACUMULADO (%): | I27: =I25 -> 0.17653358 | K27: =I25+K25 -> 0.36421144 | M27: =K27+M25 -> 0.82863503 | O27: =M27+O25 -> 1
B29: Guatambú/SC, 26 de janeiro de 2024
F32: _____________________________________________________ | K32: _____________________________________________________
F33: Responsável Técnico(a): | K33: Proprietário:
F34: ENG. ANDRÉIA FÁTIMA TRICHÊS | K34: PREFEITURA MUNICIPAL DE PIÊN/PR
F35: TR Construtora e Engenharia Ltda | K35: CNPJ: 76.002.666/0001-40
F36: CREA-SC 154766-9

Sheet COMPOSIÇÕES 
D1: PLANILHA DE COMPOSIÇÕES
D3: OBRA/BLOCO: | E3: COMPLEXO ESCOLA ESPECIAL / BLOCO 03 - PARTE A (ARENA EQUOTERAPIA (PICADEIRO)) | G3: 1.2273 | J3: BDI: | K3: 0.2273
D4: LOCAL: | E4: DISTRITO DE TRIGOLÂNDIA, MUNICÍPIO DE PIÊN-PR | J4: REFERÊNCIA: | K4: SINAPI (Não Desonerado)
D5: ÁREA: | E5: 387,07 M² | J5: DATA BASE: | K5: 45292
B7: Item | C7: Descrição da Composição | G7: Referência SINAPI | H7: UNID. | I7: QUANT. | J7: CUSTO UNITÁRIO (sem BDI) | K7: PREÇO COM BDI | L7: PREÇO TOTAL
B8: 1 | C8: PILARES PRÉ FABRICADOS
B9: 1.1 | C9: MONTAGEM E DESMONTAGEM DE FÔRMA DE PILARES RETANGULARES E ESTRUTURAS SIMILARES, PÉ-DIREITO SIMPLES, EM CHAPA DE MADEIRA COMPENSADA RESINADA, 2 UTILIZAÇÕES. AF_09/2020 | G9: 92415 | H9: M² | I9: =(0.25+0.25+0.35+0.35)*7.4*18 -> 159.84 | J9: 140.67 | K9: =J9*$G$3 -> 172.64429 | L9: =K9*I9 -> 27595.463
B10: 1.2 | C10: ARMAÇÃO DE ESTRUTURAS DIVERSAS DE CONCRETO ARMADO, EXCETO VIGAS, PILARES, LAJES E FUNDAÇÕES, UTILIZANDO AÇO CA-60 DE 5,0 MM - MONTAGEM. AF_06/2022 | G10: 92915 | H10: KG | I10: =1.85*80 -> 148 | J10: 17.97 | K10: =J10*$G$3 -> 22.054581 | L10: =K10*I10 -> 3264.078
B11: 1.5 | C11: ARMAÇÃO DE ESTRUTURAS DIVERSAS DE CONCRETO ARMADO, VIGAS, PILARES, LAJES E FUNDAÇÕES, UTILIZANDO AÇO CA-50 DE 12,5 MM - MONTAGEM. AF_06/2022 | G11: 92921 | H11: KG | I11: =11.6*115 -> 1334 | J11: 9.61 | K11: =J11*$G$3 -> 11.794353 | L11: =I11*K11 -> 15733.667
B12: 1.6 | C12: CONCRETAGEM DE PILARES, FCK=25 MPA, COM USO DE JERICAS EM CREMALHEIRA - LANÇAMENTO, ADENSAMENTO E ACABAMENTO. AF_02/2022 | G12: 103688 | H12: M³ | I12: =0.25*0.35*7.4*18 -> 11.655 | J12: 778.48 | K12: =J12*$G$3 -> 955.4285 | L12: =I12*K12 -> 11135.519
B13: 1.7 | C13: AJUDANTE DE ESTRUTURA METÁLICA COM ENCARGOS COMPLEMENTARES | G13: 88240 | H13: H | I13: 12 | J13: 27.17 | K13: =J13*$G$3 -> 33.345741 | L13: =I13*K13 -> 400.14889
B14: 1.8 | C14: MONTADOR DE ESTRUTURA METÁLICA COM ENCARGOS COMPLEMENTARES | G14: 88278 | H14: H | I14: 12 | J14: 30.19 | K14: =J14*$G$3 -> 37.052187 | L14: =I14*K14 -> 444.62624
B15: 1.9 | C15: GUINDASTE HIDRÁULICO AUTOPROPELIDO, COM LANÇA TELESCÓPICA 40 M, CAPACIDADE MÁXIMA 60 T, POTÊNCIA 260 KW - CHP DIURNO. AF_03/2016 | G15: 93287 | H15: H | I15: 6 | J15: 352.24 | K15: =J15*$G$3 -> 432.30415 | L15: =I15*K15 -> 2593.8249
B16: 1.10 | C16: GUINDASTE HIDRÁULICO AUTOPROPELIDO, COM LANÇA TELESCÓPICA 40 M, CAPACIDADE MÁXIMA 60 T, POTÊNCIA 260 KW - CHI DIURNO. AF_03/2016 | G16: 93288 | H16: CR | I16: =11.66*0.25 -> 2.915 | J16: 186.66 | K16: =J16*$G$3 -> 229.08782 | L16: =I16*K16 -> 667.79099
B17: TOTAL DA COMPOSIÇÃO 1 = | L17: =SUM(L9:L16) -> 61835.119
B18: 2 | C18: PORTAS P 01
B19: 2.1 | C19: TABUA APARELHADA *2,5 X 15* CM, EM MACARANDUBA/MASSARANDUBA, ANGELIM OU EQUIVALENTE DA REGIAO (FOLHA DA PORTA) | G19: 3993 | H19: M² | I19: =1.5*1.4 -> 2.1 | J19: 134.18 | K19: =J19*$G$3 -> 164.67911 | L19: =I19*K19 -> 345.82614
B20: 2.2 | C20: PREGO DE ACO POLIDO COM CABECA 17 X 27 (2 1/2 X 11) | G20: 5069 | H20: KG | I20: =70*0.004 -> 0.28 | J20: 15.55 | K20: =J20*$G$3 -> 19.084515 | L20: =I20*K20 -> 5.3436642
B21: 2.3 | C21: CAIBRO APARELHADO *7,5 X 7,5* CM, EM MACARANDUBA/MASSARANDUBA, ANGELIM OU EQUIVALENTE DA REGIAO (FOLHA DA PORTA) | G21: 20209 | H21: M | I21: =1.5+1.5+1.4+1.4+2 -> 7.8 | J21: 29.98 | K21: =J21*$G$3 -> 36.794454 | L21: =I21*K21 -> 286.99674
B22: 2.4 | C22: AJUDANTE DE CARPINTEIRO COM ENCARGOS COMPLEMENTARES | G22: 88239 | H22: H | I22: 2 | J22: 28.29 | K22: =J22*$G$3 -> 34.720317 | L22: =I22*K22 -> 69.440634
B23: 2.5 | C23: CARPINTEIRO DE FORMAS COM ENCARGOS COMPLEMENTARES | G23: 88262 | H23: H | I23: 2 | J23: 34.31 | K23: =J23*$G$3 -> 42.108663 | L23: =I23*K23 -> 84.217326
B24: 2.6 | C24: SERRA CIRCULAR DE BANCADA COM MOTOR ELÉTRICO POTÊNCIA DE 5HP, COM COIFA PARA DISCO 10" - CHP DIURNO. AF_08/2015 | G24: 91692 | H24: H | I24: 0.1 | J24: 34.01 | K24: =J24*$G$3 -> 41.740473 | L24: =I24*K24 -> 4.1740473
B25: 2.7 | C25: GUARNICAO / ALIZAR / VISTA LISA EM MADEIRA MACICA, PARA PORTA , E = *1* COM, L = *5* CM, CEDRINHO / ANGELIM COMERCIAL / TAURI/ CURUPIXA / PEROBA / C UMARU OU EQUIVALENTE DA REGIAO (VISTAS) | G25: 20017 | H25: M | I25: =(1.5+1.5+1.4+1.4)*2 -> 11.6 | J25: 10.18 | K25: =J25*$G$3 -> 12.493914 | L25: =I25*K25 -> 144.9294
B26: 2.8 | C26: FECHO DE EMBUTIR TIPO UNHA 40CM. AF_12/2019 (FECHADURA) | G26: 100708 | H26: UNID. | I26: 1 | J26: 193.88 | K26: =J26*$G$3 -> 237.94892 | L26: =I26*K26 -> 237.94892
B27: 2.9 | C27: CANTONEIRA ACO ABAS IGUAIS (QUALQUER BITOLA), ESPESSURA ENTRE 1/8" E 1/4" (ESTRUTURA PARA PORTA DE CORRER) | G27: 4777 | H27: KG | I27: =1.52*6 -> 9.12 | J27: 7.36 | K27: =J27*$G$3 -> 9.032928 | L27: =I27*K27 -> 82.380303
B28: 2.10 | C28: BUCHA DE NYLON SEM ABA S10, COM PARAFUSO DE 6,10 X 65 MM EM ACO ZINCADO COM ROSCA SOBERBA, CABECA CHATA E FENDA PHILLIPS (FIXAÇÃO) | G28: 7568 | H28: UNID. | I28: 12 | J28: 0.49 | K28: =J28*$G$3 -> 0.601377 | L28: =I28*K28 -> 7.216524
B29: 2.11 | C29: BATENTE PARA PORTA DE MADEIRA, PADRÃO MÉDIO - FORNECIMENTO E MONTAGEM. AF_12/2019 (ESTRUTURA PARA PORTA DE CORRER) | G29: 90801 | H29: UNID. | I29: 1 | J29: 407.2 | K29: =J29*$G$3 -> 499.75656 | L29: =I29*K29 -> 499.75656
B30: TOTAL DA COMPOSIÇÃO 2 = | L30: =SUM(L19:L29) -> 1768.2303
B31: 3 | C31: PORTAS P 02
B32: 3.1 | C32: TABUA APARELHADA *2,5 X 15* CM, EM MACARANDUBA/MASSARANDUBA, ANGELIM OU EQUIVALENTE DA REGIAO (FOLHA DA PORTA) | G32: 3993 | H32: M² | I32: =1.5*2.1 -> 3.15 | J32: 134.18 | K32: =J32*$G$3 -> 164.67911 | L32: =I32*K32 -> 518.73921
B33: 3.2 | C33: PREGO DE ACO POLIDO COM CABECA 17 X 21 (2 X 11) | G33: 5068 | H33: KG | I33: =90*0.004 -> 0.36 | J33: 15.26 | K33: =J33*$G$3 -> 18.728598 | L33: =I33*K33 -> 6.7422953
B34: 3.3 | C34: CAIBRO APARELHADO *7,5 X 7,5* CM, EM MACARANDUBA/MASSARANDUBA, ANGELIM OU EQUIVALENTE DA REGIAO (FOLHA DA PORTA) | G34: 20209 | H34: M | I34: =2.1+2.1+1.5+1.5+3+1.5 -> 11.7 | J34: 29.98 | K34: =J34*$G$3 -> 36.794454 | L34: =I34*K34 -> 430.49511
B35: 3.4 | C35: AJUDANTE DE CARPINTEIRO COM ENCARGOS COMPLEMENTARES | G35: 88239 | H35: H | I35: 3 | J35: 28.29 | K35: =J35*$G$3 -> 34.720317 | L35: =I35*K35 -> 104.16095
B36: 3.5 | C36: CARPINTEIRO DE FORMAS COM ENCARGOS COMPLEMENTARES | G36: 88262 | H36: H | I36: 3 | J36: 34.31 | K36: =J36*$G$3 -> 42.108663 | L36: =I36*K36 -> 126.32599
B37: 3.6 | C37: SERRA CIRCULAR DE BANCADA COM MOTOR ELÉTRICO POTÊNCIA DE 5HP, COM COIFA PARA DISCO 10" - CHP DIURNO. AF_08/2015 | G37: 91692 | H37: H | I37: 0.1 | J37: 34.01 | K37: =J37*$G$3 -> 41.740473 | L37: =I37*K37 -> 4.1740473
B38: 3.7 | C38: GUARNICAO / ALIZAR / VISTA LISA EM MADEIRA MACICA, PARA PORTA , E = *1* COM, L = *5* CM, CEDRINHO / ANGELIM COMERCIAL / TAURI/ CURUPIXA / PEROBA / C UMARU OU EQUIVALENTE DA REGIAO (VISTAS) | G38: 20017 | H38: M | I38: =(2.1+2.1+1.5+1.5)*2 -> 14.4 | J38: 10.18 | K38: =J38*$G$3 -> 12.493914 | L38: =I38*K38 -> 179.91236
B39: 3.8 | C39: FECHO DE EMBUTIR TIPO UNHA 40CM. AF_12/2019 (FECHADURA) | G39: 100708 | H39: UNID. | I39: 1 | J39: 193.88 | K39: =J39*$G$3 -> 237.94892 | L39: =I39*K39 -> 237.94892
B40: 3.9 | C40: CANTONEIRA ACO ABAS IGUAIS (QUALQUER BITOLA), ESPESSURA ENTRE 1/8" E 1/4" (ESTRUTURA PARA PORTA DE CORRER) | G40: 4777 | H40: KG | I40: =1.52*6 -> 9.12 | J40: 7.36 | K40: =J40*$G$3 -> 9.032928 | L40: =I40*K40 -> 82.380303
B41: 3.10 | C41: BUCHA DE NYLON SEM ABA S10, COM PARAFUSO DE 6,10 X 65 MM EM ACO ZINCADO COM ROSCA SOBERBA, CABECA CHATA E FENDA PHILLIPS (FIXAÇÃO) | G41: 7568 | H41: UNID. | I41: 16 | J41: 0.49 | K41: =J41*$G$3 -> 0.601377 | L41: =I41*K41 -> 9.622032
B42: 3.11 | C42: BATENTE PARA PORTA DE MADEIRA, PADRÃO MÉDIO - FORNECIMENTO E MONTAGEM. AF_12/2019 (ESTRUTURA PARA PORTA DE CORRER) | G42: 90801 | H42: UNID. | I42: 1 | J42: 407.2 | K42: =J42*$G$3 -> 499.75656 | L42: =I42*K42 -> 499.75656
...

Sheet COTAÇÕES
D1: PLANILHA DE COTAÇÕES
D3: OBRA/BLOCO: | E3: COMPLEXO ESCOLA ESPECIAL / BLOCO 03 - PARTE A (ARENA EQUOTERAPIA (PICADEIRO))
D4: LOCAL: | E4: DISTRITO DE TRIGOLÂNDIA, MUNICÍPIO DE PIÊN-PR
D5: ÁREA: | E5: 387,09 M²
B7: Item | C7: Descrição da COMPOSIÇÃO | G7: UNID. | H7: QUANT. | I7: EMPRESA | J7: CNPJ | K7: PREÇO TOTAL
B8: 1.1 | C8: KIT PADRÃO DE ENTRADA DE ENERGIA COPEL 125 A CABO DE 50 MM | G8: UND | H8: 1 | I8: DINAMICA ELETRICA | J8: 12.813.311/0001-59 | K8: 5800
B9: TOTAL = | K9: =K8 -> 5800
B11: Guatambú/SC, 26 de janeiro de 2024
F14: _____________________________________________________ | I14: _____________________________________________________
F15: Responsável Técnico(a): | I15: Proprietário:
F16: ENG. ANDRÉIA FÁTIMA TRICHÊS | I16: PREFEITURA MUNICIPAL DE PIÊN/PR
F17: TR Construtora e Engenharia Ltda | I17: CNPJ: 76.002.666/0001-40
F18: CREA-SC 154766-9
