Workbook
Name _4.1.4: #REF!
Name _4.1.4: #REF!
Name _TOT20: [1]Indiretas!#REF!
Name _TOT20: [1]Indiretas!#REF!
Name CD: #REF!
Name CD: #REF!
Name CI: #REF!
Name CI: #REF!
Name PV: #REF!
Name PV: #REF!
Name PVA: #REF!
Name PVA: #REF!
Name STI: #REF!
Name STI: #REF!

Sheet Orçamento
D1: PLANILHA DE ORÇAMENTO - ESTIMATIVA DE PREÇO | K1: =L197 -> 723892.65
D3: OBRA/ BLOCO: | E3: COMPLEXO ESCOLA ESPECIAL / BLOCO 01 (SEDE ESCOLA ESPECIAL) | G3: 1.2273 | J3: BDI: | K3: 0.2273
D4: LOCAL: | E4: DISTRITO DE TRIGOLÂNDIA, MUNICÍPIO DE PIÊN-PR | J4: REFERÊNCIA: | K4: SINAPI (Não Desonerado)
D5: ÁREA: | E5: 174,72 M² | J5: DATA BASE: | K5: 45310
B7: Item | C7: Descrição | G7: Referência SINAPI | H7: UNID. | I7: QUANT. | J7: CUSTO UNITÁRIO (sem BDI) | K7: PREÇO COM BDI | L7: PREÇO TOTAL
B8: 1 | C8: SERVIÇOS PRELIMINARES
B9: 1.1 | C9: FORNECIMENTO E INSTALAÇÃO DE PLACA DE OBRA COM CHAPA GALVANIZADA E ESTRUTURA DE MADEIRA. AF_03/2022_PS | G9: 103689 | H9: M² | I9: 2 | J9: 316.94 | K9: =J9*$G$3 -> 388.98046 | L9: =I9*K9 -> 777.96092
B10: 1.2 | C10: LOCACAO CONVENCIONAL DE OBRA, UTILIZANDO GABARITO DE TÁBUAS CORRIDAS PONTA LETADAS A CADA 2,00M - 2 UTILIZAÇÕES. AF_10/2018 | G10: 99059 | H10: M² | I10: =22.97+22.97+9.5+9.5 -> 64.94 | J10: 66.42 | K10: =J10*$G$3 -> 81.517266 | L10: =I10*K10 -> 5293.7313
B11: TOTAL DO ITEM 1 = | L11: =SUM(L9:L10) -> 6071.6922
B12: 2 | C12: FUNDAÇÕES
B13: 2.1 | C13: SAPATAS
B14: 2.1.1 | C14: ESCAVAÇÃO MANUAL PARA BLOCO DE COROAMENTO OU SAPATA (INCLUINDO ESCAVAÇÃO PARA COLOCAÇÃO DE FÔRMAS). AF_06/2017 | G14: 96523 | H14: M³ | I14: =0.8*0.8*0.5*31 -> 9.92 | J14: 121.41 | K14: =J14*$G$3 -> 149.00649 | L14: =I14*K14 -> 1478.1444
B15: 2.1.2 | C15: TRANSPORTE COM CAMINHÃO BASCULANTE DE 10 M³, EM VIA URBANA PAVIMENTADA, DMT ATÉ 30 KM (UNIDADE: TXKM). AF_07/2020 | G15: 95878 | H15: M³ | I15: =I14 -> 9.92 | J15: 1.7 | K15: =J15*$G$3 -> 2.08641 | L15: =I15*K15 -> 20.697187
B16: 2.1.3 | C16: LASTRO COM MATERIAL GRANULAR, APLICADO EM BLOCOS DE COROAMENTO, ESPESSURADE *10 CM*. AF_08/2017 | G16: 96623 | H16: M³ | I16: =0.8*0.8*0.05*31 -> 0.992 | J16: 201.15 | K16: =J16*$G$3 -> 246.8714 | L16: =I16*K16 -> 244.89642
B17: 2.1.3 | C17: LASTRO DE CONCRETO MAGRO, APLICADO EM BLOCOS DE COROAMENTO OU SAPATAS, ESP ESSURA DE 5 CM. AF_08/2017 | G17: 96619 | H17: M² | I17: =0.8*0.8*0.05*31 -> 0.992 | J17: 34.56 | K17: =J17*$G$3 -> 42.415488 | L17: =I17*K17 -> 42.076164
B18: 2.1.4 | C18: FABRICAÇÃO, MONTAGEM E DESMONTAGEM DE FÔRMA PARA SAPATA, EM MADEIRA SERRADA, E=25 MM, 4 UTILIZAÇÕES. AF_06/2017 | G18: 96535 | H18: M² | I18: =(0.8*4)*0.3*31 -> 29.76 | J18: 180.67 | K18: =J18*$G$3 -> 221.73629 | L18: =I18*K18 -> 6598.872
B19: 2.1.5 | C19: ARMAÇÃO DE ESTRUTURAS DIVERSAS DE CONCRETO ARMADO, EXCETO VIGAS, PILARES, LAJES E FUNDAÇÕES, UTILIZANDO AÇO CA-50 DE 8,0 MM - MONTAGEM. AF_06/2022 | G19: 92917 | H19: KG | I19: 186 | J19: 13.84 | K19: =J19*$G$3 -> 16.985832 | L19: =I19*K19 -> 3159.3648
B20: 2.1.6 | C20: CONCRETAGEM DE BLOCOS DE COROAMENTO E VIGAS BALDRAMES, FCK 30 MPA, COM USO DE BOMBA LANÇAMENTO, ADENSAMENTO E ACABAMENTO. AF_06/2017 | G20: 96557 | H20: M³ | I20: =0.8*0.8*0.3*31 -> 5.952 | J20: 593.11 | K20: =J20*$G$3 -> 727.9239 | L20: =I20*K20 -> 4332.6031
B21: 2.1.7 | C21: REATERRO MANUAL DE VALAS, COM COMPACTADOR DE SOLOS DE PERCUSSÃO. AF_08/2023 | G21: 93382 | H21: M³ | I21: =I14*0.5 -> 4.96 | J21: 30.86 | K21: =J21*$G$3 -> 37.874478 | L21: =I21*K21 -> 187.85741
B22: TOTAL DO ITEM 2.1 = | L22: =SUM(L14:L21) -> 16064.511
B23: 2.2 | C23: VIGAS BALDRAME
B24: 2.2.1 | C24: ESCAVAÇÃO MANUAL PARA BLOCO DE COROAMENTO OU SAPATA (INCLUINDO ESCAVAÇÃO PARA COLOCAÇÃO DE FÔRMAS). AF_06/2017 | G24: 96523 | H24: M³ | I24: =132.88*0.25*0.3 -> 9.966 | J24: 121.41 | K24: =J24*$G$3 -> 149.00649 | L24: =I24*K24 -> 1484.9987
B25: 2.2.2 | C25: FABRICAÇÃO, MONTAGEM E DESMONTAGEM DE FÔRMA PARA VIGA BALDRAME, EM MADEIRA SERRADA, E=25 MM, 4 UTILIZAÇÕES. AF_06/2017 | G25: 96536 | H25: M² | I25: =132.88*0.6 -> 79.728 | J25: 90.79 | K25: =J25*$G$3 -> 111.42657 | L25: =I25*K25 -> 8883.8173
B26: 2.2.3 | C26: LASTRO DE CONCRETO MAGRO, APLICADO EM PISOS, LAJES SOBRE SOLO OU RADIERS, ESPESSURA DE 5 CM. AF_07/2016 | G26: 95241 | H26: M² | I26: =132.88*0.14*0.05 -> 0.93016 | J26: 32.93 | K26: =J26*$G$3 -> 40.414989 | L26: =I26*K26 -> 37.592406
B27: 2.2.4 | C27: ARMAÇÃO DE ESTRUTURAS DIVERSAS DE CONCRETO ARMADO, EXCETO VIGAS, PILARES, LAJES E FUNDAÇÕES, UTILIZANDO AÇO CA-60 DE 5,0 MM - MONTAGEM. AF_06/2022 | G27: 92915 | H27: KG | I27: 132 | J27: 17.97 | K27: =J27*$G$3 -> 22.054581 | L27: =I27*K27 -> 2911.2047
B28: 2.2.5 | C28: ARMAÇÃO DE ESTRUTURAS DIVERSAS DE CONCRETO ARMADO, EXCETO VIGAS, PILARES, LAJES E FUNDAÇÕES, UTILIZANDO AÇO CA-50 DE 8,0 MM - MONTAGEM. AF_06/2022 | G28: 92917 | H28: KG | I28: 124 | J28: 13.84 | K28: =J28*$G$3 -> 16.985832 | L28: =I28*K28 -> 2106.2432
B29: 2.2.6 | C29: ARMAÇÃO DE ESTRUTURAS DIVERSAS DE CONCRETO ARMADO, EXCETO VIGAS, PILARES, LAJES E FUNDAÇÕES, UTILIZANDO AÇO CA-50 DE 10,0 MM - MONTAGEM. AF_06/2022 | G29: 92919 | H29: KG | I29: 256 | J29: 11.81 | K29: =J29*$G$3 -> 14.494413 | L29: =I29*K29 -> 3710.5697
B30: 2.2.7 | C30: CONCRETAGEM DE SAPATAS, FCK 30 MPA, COM USO DE JERICA LANÇAMENTO, ADENSA MENTO E ACABAMENTO. AF_06/2017 | G30: 96556 | H30: M³ | I30: =132.88*0.14*0.3 -> 5.58096 | J30: 809.08 | K30: =J30*$G$3 -> 992.98388 | L30: =I30*K30 -> 5541.8033
B31: 2.2.8 | C31: IMPERMEABILIZAÇÃO DE SUPERFÍCIE COM EMULSÃO ASFÁLTICA, 2 DEMÃOS. AF_09/2023 | G31: 98557 | H31: M² | I31: =I25 -> 79.728 | J31: 43.79 | K31: =J31*$G$3 -> 53.743467 | L31: =I31*K31 -> 4284.8591
B32: 2.2.9 | C32: REATERRO MANUAL DE VALAS, COM COMPACTADOR DE SOLOS DE PERCUSSÃO. AF_08/2023 | G32: 93382 | H32: M³ | I32: =I24*0.5 -> 4.983 | J32: 30.86 | K32: =J32*$G$3 -> 37.874478 | L32: =I32*K32 -> 188.72852
B33: TOTAL DO ITEM 2.2 = | L33: =SUM(L24:L32) -> 29149.817
B34: TOTAL DO ITEM 2 = | L34: =L33+L22 -> 45214.328
B35: 3 | C35: SUPRA ESTRUTURA
B36: 3.1 | C36: PILARES
B37: 3.1.1 | C37: FABRICAÇÃO DE FÔRMA PARA PILARES E ESTRUTURAS SIMILARES, EM CHAPA DE MADEIRA COMPENSADA RESINADA, E = 17 MM. AF_09/2020 | G37: 92263 | H37: M² | I37: =(0.14+0.14+0.3+0.3)*3*31 -> 81.84 | J37: 154.13 | K37: =J37*$G$3 -> 189.16375 | L37: =K37*I37 -> 15481.161
B38: 3.1.2 | C38: ARMAÇÃO DE ESTRUTURAS DIVERSAS DE CONCRETO ARMADO, EXCETO VIGAS, PILARES, LAJES E FUNDAÇÕES, UTILIZANDO AÇO CA-50 DE 10,0 MM - MONTAGEM. AF_06/2022 | G38: 92919 | H38: KG | I38: 352 | J38: 11.81 | K38: =J38*$G$3 -> 14.494413 | L38: =I38*K38 -> 5102.0334
B39: 3.1.3 | C39: ARMAÇÃO DE ESTRUTURAS DIVERSAS DE CONCRETO ARMADO, EXCETO VIGAS, PILARES, LAJES E FUNDAÇÕES, UTILIZANDO AÇO CA-50 DE 6,3 MM - MONTAGEM. AF_06/2022 | G39: 92916 | H39: KG | I39: 25 | J39: 15.72 | K39: =J39*$G$3 -> 19.293156 | L39: =I39*K39 -> 482.3289
B40: 3.1.4 | C40: ARMAÇÃO DE ESTRUTURAS DIVERSAS DE CONCRETO ARMADO, EXCETO VIGAS, PILARES, LAJES E FUNDAÇÕES, UTILIZANDO AÇO CA-60 DE 5,0 MM - MONTAGEM. AF_06/2022 | G40: 92915 | H40: KG | I40: 143 | J40: 17.97 | K40: =J40*$G$3 -> 22.054581 | L40: =I40*K40 -> 3153.8051
B41: 3.1.5 | C41: CONCRETAGEM DE PILARES, FCK=25 MPA, COM USO DE JERICAS EM CREMALHEIRA - LANÇAMENTO, ADENSAMENTO E ACABAMENTO. AF_02/2022 | G41: 103688 | H41: M³ | I41: =0.14*0.3*3*31 -> 3.906 | J41: 778.48 | K41: =J41*$G$3 -> 955.4285 | L41: =K41*I41 -> 3731.9037
B42: TOTAL DO ITEM 3.1 = | L42: =SUM(L37:L41) -> 27951.232
...

Sheet Cronograma
D1: CRONOGRAMA FÍSICO FINANCEIRO
D3: OBRA/BLOCO: | E3: COMPLEXO ESCOLA ESPECIAL / BLOCO 01 (SEDE ESCOLA ESPECIAL)
D4: LOCAL: | E4: DISTRITO DE TRIGOLÂNDIA, MUNICÍPIO DE PIÊN-PR
D5: ÁREA: | E5: =Orçamento!E5 -> 174,72 M²
B7: Item | C7: Descrição | G7: VALOR DOS SERVIÇOS (R$) | H7: PESO (%) | I7: SERVIÇOS A EXECUTAR (%)
I8: MÊS 01 | K8: MÊS 02 | M8: MÊS 03 | O8: MÊS 04 | Q8: MÊS 05 | S8: MÊS 06
I9: No mês | J9: Acum. | K9: No mês | L9: Acum. | M9: No mês | N9: Acum. | O9: No mês | P9: Acum. | Q9: No mês | R9: Acum. | S9: No mês | T9: Acum.
B10: 1 | C10: =Orçamento!C8 -> SERVIÇOS PRELIMINARES | G10: =Orçamento!L11 -> 6071.6922 | H10: =G10/$G$28 -> 0.0083875588 | I10: 1 | J10: =I10*G10 -> 6071.6922
B11: 2 | C11: =Orçamento!C12 -> FUNDAÇÕES | G11: =Orçamento!L34 -> 45214.328 | H11: =G11/$G$28 -> 0.062459991 | I11: 1 | J11: =I11*G11 -> 45214.328
B12: 3 | C12: =Orçamento!C35 -> SUPRA ESTRUTURA | G12: =Orçamento!L56 -> 112712.5 | H12: =G12/G28 -> 0.15570333 | K12: 0.5 | L12: =K12*G12 -> 56356.249 | M12: 0.5 | N12: =M12*G12 -> 56356.249
B13: 4 | C13: =Orçamento!C57 -> VEDAÇÕES | G13: =Orçamento!L61 -> 91206.699 | H13: =G13/$G$28 -> 0.12599479 | K13: 1 | L13: =K13*G13 -> 91206.699
B14: 5 | C14: =Orçamento!C62 -> COBERTURA | G14: =Orçamento!L71 -> 106198.71 | H14: =G14/$G$28 -> 0.14670505 | M14: 1 | N14: =M14*G14 -> 106198.71
B15: 6 | C15: =Orçamento!C72 -> PISOS INTERNOS | G15: =Orçamento!L81 -> 24961.401 | H15: =G15/$G$28 -> 0.034482186 | O15: 0.6 | P15: =O15*G15 -> 14976.841 | Q15: 0.4 | R15: =Q15*G15 -> 9984.5605
B16: 7 | C16: =Orçamento!C82 -> REVESTIMENTOS EM PAREDES (ARGAMSSADOS E CERÂMICOS) | G16: =Orçamento!L88 -> 69700.592 | H16: =G16/$G$28 -> 0.096285812 | O16: 0.7 | P16: =O16*G16 -> 48790.414 | Q16: 0.3 | R16: =Q16*G16 -> 20910.178
B17: 8 | C17: =Orçamento!C89 -> PINTURA | G17: =Orçamento!L95 -> 31719.58 | H17: =G17/$G$28 -> 0.043818072 | Q17: 0.8 | R17: =Q17*G17 -> 25375.664 | S17: 0.2 | T17: =S17*G17 -> 6343.916
B18: 9 | C18: =Orçamento!C96 -> FORROS | G18: =Orçamento!L99 -> 15852.606 | H18: =G18/$G$28 -> 0.021899112 | Q18: 1 | R18: =Q18*G18 -> 15852.606
B19: 10 | C19: =Orçamento!C100 -> INSTALAÇÕES ELÉTRICAS | G19: =Orçamento!L117 -> 42550.233 | H19: =G19/$G$28 -> 0.058779756 | Q19: 0.5 | R19: =Q19*G19 -> 21275.117 | S19: 0.5 | T19: =S19*G19 -> 21275.117
B20: 11 | C20: =Orçamento!C118 -> INSTALAÇÕES HIDRÁULICAS | G20: =Orçamento!L129 -> 12567.557 | H20: =G20/$G$28 -> 0.017361078 | O20: 0.9 | P20: =O20*G20 -> 11310.801 | Q20: 0.1 | R20: =Q20*G20 -> 1256.7557
B21: 12 | C21: =Orçamento!C130 -> INSTALAÇÕES SANITÁRIAS | G21: =Orçamento!L134 -> 13380.331 | H21: =G21/$G$28 -> 0.018483861 | O21: 0.9 | P21: =O21*G21 -> 12042.298 | Q21: 0.1 | R21: =Q21*G21 -> 1338.0331
B22: 13 | C22: =Orçamento!C135 -> ESQUADRIAS | G22: =Orçamento!L144 -> 71797.448 | H22: =G22/$G$28 -> 0.099182451 | Q22: 1 | R22: =Q22*G22 -> 71797.448
B23: 14 | C23: =Orçamento!C145 -> LOUÇAS, ACESSÓRIOS E METAIS | G23: =Orçamento!L155 -> 9688.4289 | H23: =G23/$G$28 -> 0.013383792 | S23: 1 | T23: =S23*G23 -> 9688.4289
B24: 15 | C24: =Orçamento!C156 -> ÁREA EXTERNA | G24: =Orçamento!L181 -> 53831.493 | H24: =G24/$G$28 -> 0.074363917 | S24: 1 | T24: =S24*G24 -> 53831.493
B25: 16 | C25: =Orçamento!C182 -> ACESSIBILIDADE | G25: =Orçamento!L187 -> 14445.868 | H25: =G25/$G$28 -> 0.019955816 | Q25: 1 | R25: =Q25*G25 -> 14445.868
B26: 17 | C26: =Orçamento!C188 -> INSTALAÇÕES DO SISTEMA PREVENTIVO CONTRA INCÊNDIO | G26: =Orçamento!L193 -> 1476.8715 | H26: =G26/$G$28 -> 0.0020401802 | S26: 1 | T26: =S26*G26 -> 1476.8715
B27: 18 | C27: =Orçamento!C194 -> LIMPEZA FINAL | G27: =Orçamento!L196 -> 516.31235 | H27: =G27/$G$28 -> 0.00071324435 | S27: 1 | T27: =S27*G27 -> 516.31235
B28: TOTAL: | G28: =SUM(G10:G27) -> 723892.65 | H28: =SUM(H10:H27) -> 1
B29: TOTAL SIMPLES (R$): | I29: =SUM(J10:J27) -> 51286.021 | K29: =SUM(L10:L27) -> 147562.95 | M29: =SUM(N10:N27) -> 162554.96 | O29: =SUM(P10:P27) -> 87120.354 | Q29: =SUM(R10:R27) -> 182236.23 | S29: =SUM(T10:T27) -> 93132.138
B30: TOTAL SIMPLES (%): | I30: =I29/G28 -> 0.07084755 | K30: =K29/G28 -> 0.20384645 | M30: =M29/G28 -> 0.22455672 | O30: =O29/G28 -> 0.12034983 | Q30: =Q29/G28 -> 0.25174483 | S30: =S29/G28 -> 0.12865463
B31: TOTAL ACUMULADO (R$): | I31: =I29 -> 51286.021 | K31: =I29+K29 -> 198848.97 | M31: =K31+M29 -> 361403.93 | O31: =M31+O29 -> 448524.28 | Q31: =O31+Q29 -> 630760.51 | S31: =Q31+S29 -> 723892.65
B32: TOTAL ACUMULADO (%): | I32: =I30 -> 0.07084755 | K32: =I30+K30 -> 0.274694 | M32: =K32+M30 -> 0.49925072 | O32: =M32+O30 -> 0.61960055 | Q32: =O32+Q30 -> 0.87134537 | S32: =Q32+S30 -> 1
B34: Guatambú/SC, 26 de janeiro de 2024
F37: _____________________________________________________ | K37: _____________________________________________________
F38: Responsável Técnico(a): | K38: Proprietário:
F39: ENG. ANDRÉIA FÁTIMA TRICHÊS | K39: PREFEITURA MUNICIPAL DE PIÊN/PR
F40: TR Construtora e Engenharia Ltda | K40: CNPJ: 76.002.666/0001-40
F41: CREA-SC 154766-9

Sheet COMPOSIÇÕES 
D1: PLANILHA DE COMPOSIÇÕES
D3: OBRA/BLOCO: | E3: COMPLEXO ESCOLA ESPECIAL / BLOCO 01 (SDE ESCOLA ESPECIAL) | G3: 1.2273 | J3: BDI: | K3: 0.2273
D4: LOCAL: | E4: DISTRITO DE TRIGOLÂNDIA, MUNICÍPIO DE PIÊN-PR | J4: REFERÊNCIA: | K4: SINAPI (Não Desonerado)
D5: ÁREA: | E5: 174,72 M² | J5: DATA BASE: | K5: 45292
B7: Item | C7: Descrição da Composição | G7: Referência SINAPI | H7: UNID. | I7: QUANT. | J7: CUSTO UNITÁRIO (sem BDI) | K7: PREÇO COM BDI | L7: PREÇO TOTAL
B8: 1 | C8: PILARES PRÉ FABRICADOS
B9: 1.1 | C9: MONTAGEM E DESMONTAGEM DE FÔRMA DE PILARES RETANGULARES E ESTRUTURAS SIMILARES, PÉ-DIREITO SIMPLES, EM CHAPA DE MADEIRA COMPENSADA RESINADA, 2 UTILIZAÇÕES. AF_09/2020 | G9: 92415 | H9: M² | I9: 15.73 | J9: 140.67 | K9: =J9*$G$3 -> 172.64429 | L9: =K9*I9 -> 2715.6947
B10: 1.2 | C10: ARMAÇÃO DE ESTRUTURAS DIVERSAS DE CONCRETO ARMADO, EXCETO VIGAS, PILARES, LAJES E FUNDAÇÕES, UTILIZANDO AÇO CA-60 DE 5,0 MM - MONTAGEM. AF_06/2022 | G10: 92915 | H10: KG | I10: 20 | J10: 17.97 | K10: =J10*$G$3 -> 22.054581 | L10: =K10*I10 -> 441.09162
B11: 1.4 | C11: ARMAÇÃO DE ESTRUTURAS DIVERSAS DE CONCRETO ARMADO, EXCETO VIGAS, PILARES, LAJES E FUNDAÇÕES, UTILIZANDO AÇO CA-50 DE 10,0 MM - MONTAGEM. AF_06/2022 | G11: 92919 | H11: KG | I11: 20 | J11: 11.81 | K11: =J11*$G$3 -> 14.494413 | L11: =I11*K11 -> 289.88826
B12: 1.5 | C12: ARMAÇÃO DE ESTRUTURAS DIVERSAS DE CONCRETO ARMADO, EXCETO VIGAS, PILARES, LAJES E FUNDAÇÕES, UTILIZANDO AÇO CA-50 DE 12,5 MM - MONTAGEM. AF_06/2022 | G12: 92921 | H12: KG | I12: 50 | J12: 9.61 | K12: =J12*$G$3 -> 11.794353 | L12: =I12*K12 -> 589.71765
B13: 1.6 | C13: CONCRETAGEM DE PILARES, FCK=25 MPA, COM USO DE JERICAS EM CREMALHEIRA - LANÇAMENTO, ADENSAMENTO E ACABAMENTO. AF_02/2022 | G13: 103688 | H13: M³ | I13: 1 | J13: 778.48 | K13: =J13*$G$3 -> 955.4285 | L13: =I13*K13 -> 955.4285
B14: 1.7 | C14: AJUDANTE DE ESTRUTURA METÁLICA COM ENCARGOS COMPLEMENTARES | G14: 88240 | H14: H | I14: 1 | J14: 27.17 | K14: =J14*$G$3 -> 33.345741 | L14: =I14*K14 -> 33.345741
B15: 1.8 | C15: MONTADOR DE ESTRUTURA METÁLICA COM ENCARGOS COMPLEMENTARES | G15: 88278 | H15: H | I15: 1 | J15: 30.19 | K15: =J15*$G$3 -> 37.052187 | L15: =I15*K15 -> 37.052187
B16: 1.9 | C16: GUINDASTE HIDRÁULICO AUTOPROPELIDO, COM LANÇA TELESCÓPICA 40 M, CAPACIDADE MÁXIMA 60 T, POTÊNCIA 260 KW - CHP DIURNO. AF_03/2016 | G16: 93287 | H16: H | I16: 0.5 | J16: 352.24 | K16: =J16*$G$3 -> 432.30415 | L16: =I16*K16 -> 216.15208
B17: 1.10 | C17: GUINDASTE HIDRÁULICO AUTOPROPELIDO, COM LANÇA TELESCÓPICA 40 M, CAPACIDADE MÁXIMA 60 T, POTÊNCIA 260 KW - CHI DIURNO. AF_03/2016 | G17: 93288 | H17: CR | I17: 0.25 | J17: 186.66 | K17: =J17*$G$3 -> 229.08782 | L17: =I17*K17 -> 57.271954
B18: TOTAL DA COMPOSIÇÃO 1 = | L18: =SUM(L9:L17) -> 5335.6427
B19: 2 | C19: PORTAS P 01
B20: 2.1 | C20: TABUA APARELHADA *2,5 X 15* CM, EM MACARANDUBA/MASSARANDUBA, ANGELIM OU EQUIVALENTE DA REGIAO (FOLHA DA PORTA) | G20: 3993 | H20: M² | I20: =1.5*1.4 -> 2.1 | J20: 134.18 | K20: =J20*$G$3 -> 164.67911 | L20: =I20*K20 -> 345.82614
B21: 2.2 | C21: PREGO DE ACO POLIDO COM CABECA 17 X 27 (2 1/2 X 11) | G21: 5069 | H21: KG | I21: =70*0.004 -> 0.28 | J21: 15.55 | K21: =J21*$G$3 -> 19.084515 | L21: =I21*K21 -> 5.3436642
B22: 2.3 | C22: CAIBRO APARELHADO *7,5 X 7,5* CM, EM MACARANDUBA/MASSARANDUBA, ANGELIM OU EQUIVALENTE DA REGIAO (FOLHA DA PORTA) | G22: 20209 | H22: M | I22: =1.5+1.5+1.4+1.4+2 -> 7.8 | J22: 29.98 | K22: =J22*$G$3 -> 36.794454 | L22: =I22*K22 -> 286.99674
B23: 2.4 | C23: AJUDANTE DE CARPINTEIRO COM ENCARGOS COMPLEMENTARES | G23: 88239 | H23: H | I23: 2 | J23: 28.29 | K23: =J23*$G$3 -> 34.720317 | L23: =I23*K23 -> 69.440634
B24: 2.5 | C24: CARPINTEIRO DE FORMAS COM ENCARGOS COMPLEMENTARES | G24: 88262 | H24: H | I24: 2 | J24: 34.31 | K24: =J24*$G$3 -> 42.108663 | L24: =I24*K24 -> 84.217326
B25: 2.6 | C25: SERRA CIRCULAR DE BANCADA COM MOTOR ELÉTRICO POTÊNCIA DE 5HP, COM COIFA PARA DISCO 10" - CHP DIURNO. AF_08/2015 | G25: 91692 | H25: H | I25: 0.1 | J25: 34.01 | K25: =J25*$G$3 -> 41.740473 | L25: =I25*K25 -> 4.1740473
B26: 2.7 | C26: GUARNICAO / ALIZAR / VISTA LISA EM MADEIRA MACICA, PARA PORTA , E = *1* COM, L = *5* CM, CEDRINHO / ANGELIM COMERCIAL / TAURI/ CURUPIXA / PEROBA / C UMARU OU EQUIVALENTE DA REGIAO (VISTAS) | G26: 20017 | H26: M | I26: =(1.5+1.5+1.4+1.4)*2 -> 11.6 | J26: 10.18 | K26: =J26*$G$3 -> 12.493914 | L26: =I26*K26 -> 144.9294
B27: 2.8 | C27: FECHO DE EMBUTIR TIPO UNHA 40CM. AF_12/2019 (FECHADURA) | G27: 100708 | H27: UNID. | I27: 1 | J27: 193.88 | K27: =J27*$G$3 -> 237.94892 | L27: =I27*K27 -> 237.94892
B28: 2.9 | C28: CANTONEIRA ACO ABAS IGUAIS (QUALQUER BITOLA), ESPESSURA ENTRE 1/8" E 1/4" (ESTRUTURA PARA PORTA DE CORRER) | G28: 4777 | H28: KG | I28: =1.52*6 -> 9.12 | J28: 7.36 | K28: =J28*$G$3 -> 9.032928 | L28: =I28*K28 -> 82.380303
B29: 2.10 | C29: BUCHA DE NYLON SEM ABA S10, COM PARAFUSO DE 6,10 X 65 MM EM ACO ZINCADO COM ROSCA SOBERBA, CABECA CHATA E FENDA PHILLIPS (FIXAÇÃO) | G29: 7568 | H29: UNID. | I29: 12 | J29: 0.49 | K29: =J29*$G$3 -> 0.601377 | L29: =I29*K29 -> 7.216524
B30: 2.11 | C30: BATENTE PARA PORTA DE MADEIRA, PADRÃO MÉDIO - FORNECIMENTO E MONTAGEM. AF_12/2019 (ESTRUTURA PARA PORTA DE CORRER) | G30: 90801 | H30: UNID. | I30: 1 | J30: 407.2 | K30: =J30*$G$3 -> 499.75656 | L30: =I30*K30 -> 499.75656
B31: TOTAL DA COMPOSIÇÃO 2 = | L31: =SUM(L20:L30) -> 1768.2303
B32: 3 | C32: PORTAS P 02
B33: 3.1 | C33: TABUA APARELHADA *2,5 X 15* CM, EM MACARANDUBA/MASSARANDUBA, ANGELIM OU EQUIVALENTE DA REGIAO (FOLHA DA PORTA) | G33: 3993 | H33: M² | I33: =1.5*2.1 -> 3.15 | J33: 134.18 | K33: =J33*$G$3 -> 164.67911 | L33: =I33*K33 -> 518.73921
B34: 3.2 | C34: PREGO DE ACO POLIDO COM CABECA 17 X 21 (2 X 11) | G34: 5068 | H34: KG | I34: =90*0.004 -> 0.36 | J34: 15.26 | K34: =J34*$G$3 -> 18.728598 | L34: =I34*K34 -> 6.7422953
B35: 3.3 | C35: CAIBRO APARELHADO *7,5 X 7,5* CM, EM MACARANDUBA/MASSARANDUBA, ANGELIM OU EQUIVALENTE DA REGIAO (FOLHA DA PORTA) | G35: 20209 | H35: M | I35: =2.1+2.1+1.5+1.5+3+1.5 -> 11.7 | J35: 29.98 | K35: =J35*$G$3 -> 36.794454 | L35: =I35*K35 -> 430.49511
B36: 3.4 | C36: AJUDANTE DE CARPINTEIRO COM ENCARGOS COMPLEMENTARES | G36: 88239 | H36: H | I36: 3 | J36: 28.29 | K36: =J36*$G$3 -> 34.720317 | L36: =I36*K36 -> 104.16095
B37: 3.5 | C37: CARPINTEIRO DE FORMAS COM ENCARGOS COMPLEMENTARES | G37: 88262 | H37: H | I37: 3 | J37: 34.31 | K37: =J37*$G$3 -> 42.108663 | L37: =I37*K37 -> 126.32599
B38: 3.6 | C38: SERRA CIRCULAR DE BANCADA COM MOTOR ELÉTRICO POTÊNCIA DE 5HP, COM COIFA PARA DISCO 10" - CHP DIURNO. AF_08/2015 | G38: 91692 | H38: H | I38: 0.1 | J38: 34.01 | K38: =J38*$G$3 -> 41.740473 | L38: =I38*K38 -> 4.1740473
B39: 3.7 | C39: GUARNICAO / ALIZAR / VISTA LISA EM MADEIRA MACICA, PARA PORTA , E = *1* COM, L = *5* CM, CEDRINHO / ANGELIM COMERCIAL / TAURI/ CURUPIXA / PEROBA / C UMARU OU EQUIVALENTE DA REGIAO (VISTAS) | G39: 20017 | H39: M | I39: =(2.1+2.1+1.5+1.5)*2 -> 14.4 | J39: 10.18 | K39: =J39*$G$3 -> 12.493914 | L39: =I39*K39 -> 179.91236
B40: 3.8 | C40: FECHO DE EMBUTIR TIPO UNHA 40CM. AF_12/2019 (FECHADURA) | G40: 100708 | H40: UNID. | I40: 1 | J40: 193.88 | K40: =J40*$G$3 -> 237.94892 | L40: =I40*K40 -> 237.94892
B41: 3.9 | C41: CANTONEIRA ACO ABAS IGUAIS (QUALQUER BITOLA), ESPESSURA ENTRE 1/8" E 1/4" (ESTRUTURA PARA PORTA DE CORRER) | G41: 4777 | H41: KG | I41: =1.52*6 -> 9.12 | J41: 7.36 | K41: =J41*$G$3 -> 9.032928 | L41: =I41*K41 -> 82.380303
B42: 3.10 | C42: BUCHA DE NYLON SEM ABA S10, COM PARAFUSO DE 6,10 X 65 MM EM ACO ZINCADO COM ROSCA SOBERBA, CABECA CHATA E FENDA PHILLIPS (FIXAÇÃO) | G42: 7568 | H42: UNID. | I42: 16 | J42: 0.49 | K42: =J42*$G$3 -> 0.601377 | L42: =I42*K42 -> 9.622032
...
