Workbook
Name _Toc430357026: Global!#REF!
Name _Toc430357027: Global!#REF!
Name _Toc430357028: Global!#REF!
Name _Toc430357029: Global!#REF!
Name _Toc9949798: Global!#REF!
Name DESONERACAO: BDI!$U$2
Name Print_Area_0: Cronograma!$A$1:$L$33
Name Print_Area_0: 'Dados da Obra'!$B$2:$H$14
Name Print_Area_0: Global!$A$8:$H$48
Name Print_Area_0_0: Cronograma!$A$1:$L$33
Name Print_Area_0_0: 'Dados da Obra'!$B$2:$H$14
Name Print_Area_0_0: Global!$A$8:$H$48
Name Print_Titles_0: Global!$9:$10
Name Print_Titles_0_0: Global!$9:$10

Sheet Dados da Obra
B4: 1. IDENTIFICAÇÃO DA OBRA
B5: PROJETO: | C5: REFORMA E AMPLIAÇÃO (CRAS)
B6: ENDEREÇO: | C6: RUA CAMPO GRANDE - AVENCAL
B7: MUNICIPIO: | C7: Piên / PR
B8: TABELA DE REFERÊNCIA: | C8: SINAPI JAN/23 - ORSE SE JAN/23
B9: BDI: | C9: =Global!F6 -> 0.2034
B10: ENCARGOS SOCIAIS: | C10: =Global!C6 -> NÃO DESONERADO
B11: DATA: | C11: 45070
B12: CONVENIO: | C12: RECURSO PROPRIO
B13: PRAZO DE EXECUÇÃO | C13: 3 MESES
B14: AREA CONSTRUIDA: | C14: 526,11
B16: 2. IDENTIFICAÇÃO DO ORÇAMENTISTA
B17: NOME COMPLETO: | C17: ADAILTON ROGÉRIO DE OLIVEIRA
B18: PROFISSÃO: | C18: ENGENHEIRO CIVIL
B19: CREA: | C19: PR 68.917/D
B20: ART Nº
B21: TELEFONE: | C21: 41 3632 1080
B22: EMAIL: | C22: ada@adaengenharia.com.br

Sheet BDI
E1: MIN | F1: MED | G1: MAX | J1: QUADRO DE COMPOSIÇÃO DO BDI
A2: Construção e Reforma de Edifícios | B2: AC | C2: =CONCATENATE(A2,"-",B2) -> Construção e Reforma de Edifícios-AC | E2: 0.03 | F2: 0.04 | G2: 0.055 | U2: NÃO DESONERADO
A3: =A2 -> Construção e Reforma de Edifícios | B3: SG | C3: =CONCATENATE(A3,"-",B3) -> Construção e Reforma de Edifícios-SG | E3: 0.008 | F3: 0.008 | G3: 0.01 | J3: PROJETO: | K3: ='Dados da Obra'!C5 -> REFORMA E AMPLIAÇÃO (CRAS) | P3: LOCAL: | Q3: ='Dados da Obra'!C6 -> RUA CAMPO GRANDE - AVENCAL
A4: =A3 -> Construção e Reforma de Edifícios | B4: R | C4: =CONCATENATE(A4,"-",B4) -> Construção e Reforma de Edifícios-R | E4: 0.0097 | F4: 0.0127 | G4: 0.0127 | J4: REFERENCIA: | K4: ='Dados da Obra'!C8 -> SINAPI JAN/23 - ORSE SE JAN/23 | P4: DATA: | Q4: ='Dados da Obra'!C11 -> 45070
A5: =A4 -> Construção e Reforma de Edifícios | B5: DF | C5: =CONCATENATE(A5,"-",B5) -> Construção e Reforma de Edifícios-DF | E5: 0.0059 | F5: 0.0123 | G5: 0.0139
A6: =A5 -> Construção e Reforma de Edifícios | B6: L | C6: =CONCATENATE(A6,"-",B6) -> Construção e Reforma de Edifícios-L | E6: 0.0616 | F6: 0.074 | G6: 0.0896 | I6: FILTRO | J6: Conforme legislação tributária municipal, definir estimativa de percentual da base de cálculo para o ISS: | R6: 1
A7: =A6 -> Construção e Reforma de Edifícios | B7: BDI PAD | C7: =CONCATENATE(A7,"-",B7) -> Construção e Reforma de Edifícios-BDI PAD | E7: 0.2034 | F7: 0.2212 | G7: 0.25 | J7: Sobre a base de cálculo, definir a respectiva alíquota do ISS (entre 2% e 5%): | R7: 0.03
A8: Construção de Praças Urbanas, Rodovias, Ferrovias e recapeamento e pavimentação de vias urbanas | B8: AC | C8: SINAPI JUL/21 - ORSE SE JUN/22-CUR JUL/21/DER JAN/22 | E8: 0.038 | F8: 0.0401 | G8: 0.0467
A9: Construção de Praças Urbanas, Rodovias, Ferrovias e recapeamento e pavimentação de vias urbanas | B9: SG | C9: =CONCATENATE(A9,"-",B9) -> Construção de Praças Urbanas, Rodovias, Ferrovias e recapeamento e pavimentação de vias urbanas-SG | E9: 0.0032 | F9: 0.004 | G9: 0.0074 | J9: TIPO DE OBRA
A10: Construção de Praças Urbanas, Rodovias, Ferrovias e recapeamento e pavimentação de vias urbanas | B10: R | C10: =CONCATENATE(A10,"-",B10) -> Construção de Praças Urbanas, Rodovias, Ferrovias e recapeamento e pavimentação de vias urbanas-R | E10: 0.005 | F10: 0.0056 | G10: 0.0097 | J10: Construção e Reforma de Edifícios
A11: Construção de Praças Urbanas, Rodovias, Ferrovias e recapeamento e pavimentação de vias urbanas | B11: DF | C11: 45070 | E11: 0.0102 | F11: 0.0111 | G11: 0.0121 | I11: ↓
A12: Construção de Praças Urbanas, Rodovias, Ferrovias e recapeamento e pavimentação de vias urbanas | B12: L | C12: =CONCATENATE(A12,"-",B12) -> Construção de Praças Urbanas, Rodovias, Ferrovias e recapeamento e pavimentação de vias urbanas-L | E12: 0.0664 | F12: 0.073 | G12: 0.0869 | I12: F | J12: Itens | R12: Siglas | S12: % Adotado
A13: Construção de Praças Urbanas, Rodovias, Ferrovias e recapeamento e pavimentação de vias urbanas | B13: BDI PAD | C13: =CONCATENATE(A13,"-",B13) -> Construção de Praças Urbanas, Rodovias, Ferrovias e recapeamento e pavimentação de vias urbanas-BDI PAD | E13: 0.196 | F13: 0.2097 | G13: 0.2423 | I13: F
A14: Construção de Redes de Abastecimento de Água, Coleta de Esgoto | B14: AC | C14: =CONCATENATE(A14,"-",B14) -> Construção de Redes de Abastecimento de Água, Coleta de Esgoto-AC | E14: 0.0343 | F14: 0.0493 | G14: 0.0671 | I14: F | J14: =IF($J$10=$A$66,"Encargos Sociais incidentes sobre a mão de obra","Administração Central") -> Administração Central | R14: =IF($J10=$A$66,"K1","AC") -> AC | S14: 0.0392
A15: =A14 -> Construção de Redes de Abastecimento de Água, Coleta de Esgoto | B15: SG | C15: =CONCATENATE(A15,"-",B15) -> Construção de Redes de Abastecimento de Água, Coleta de Esgoto-SG | E15: 0.0028 | F15: 0.0049 | G15: 0.0075 | I15: F | J15: =IF($J$10=$A$66,"Administração Central da empresa ou consultoria - overhead","Seguro e Garantia") -> Seguro e Garantia | R15: =IF($J10=$A$66,"K2","SG") -> SG | S15: 0.008
A16: 2 | B16: R | C16: =CONCATENATE(A16,"-",B16) -> 2-R | E16: 0.01 | F16: 0.0139 | G16: 0.0174 | I16: F | J16: =IF($J$10=$A$66,"","Risco") -> Risco | R16: =IF($J10=$A$66,"","R") -> R | S16: 0.0097
A17: =A16 -> 2 | B17: DF | C17: =CONCATENATE(A17,"-",B17) -> 2-DF | E17: 0.0094 | F17: 0.0099 | G17: 0.0117 | I17: F | J17: =IF($J$10=$A$66,"","Despesas Financeiras") -> Despesas Financeiras | R17: =IF($J10=$A$66,"","DF") -> DF | S17: 0.0059
A18: =A17 -> 2 | B18: L | C18: =CONCATENATE(A18,"-",B18) -> 2-L | E18: 0.0674 | F18: 0.0804 | G18: 0.094 | I18: F | J18: =IF($J$10=$A$66,"Margem bruta da empresa de consultoria","Lucro") -> Lucro | R18: =IF($J10=$A$66,"K3","L") -> L | S18: 0.068
A19: =A18 -> 2 | B19: BDI PAD | C19: =CONCATENATE(A19,"-",B19) -> 2-BDI PAD | E19: 0.2076 | F19: =(1.7+0.8+0.8)*1.2+(1.7*0.5) -> 4.81 | G19: 0.2644 | I19: F | J19: Tributos (impostos COFINS 3%, e PIS 0,65%) | R19: CP | S19: 0.0365 | U19: Situação | X19: 1º Quartil | Y19: Médio | Z19: 3º Quartil
A20: Construção e Manutenção de Estações e Redes de Distribuição de Energia Elétrica | B20: AC | C20: =CONCATENATE(A20,"-",B20) -> Construção e Manutenção de Estações e Redes de Distribuição de Energia Elétrica-AC | E20: 0.0529 | F20: 0.0592 | G20: 0.0793 | I20: F | J20: Tributos (ISS, variável de acordo com o município) | R20: ISS | S20: 0.02
A21: =A20 -> Construção e Manutenção de Estações e Redes de Distribuição de Energia Elétrica | B21: SG | C21: =CONCATENATE(A21,"-",B21) -> Construção e Manutenção de Estações e Redes de Distribuição de Energia Elétrica-SG | E21: 0.0025 | F21: 0.0051 | G21: 0.0056 | I21: F | J21: Tributos (Contribuição Previdenciária sobre a Receita Bruta - 0% ou 4,5% - Desoneração) | R21: CPRB | S21: 0.045 | U21: - | X21: =VLOOKUP(CONCATENATE(J10,"-",R14),$C$2:$G$56,3,FALSE) -> 0.03 | Y21: =VLOOKUP(CONCATENATE(J10,"-",R14),$C$2:$G$56,4,FALSE) -> 0.04 | Z21: =VLOOKUP(CONCATENATE(J10,"-",R14),$C$2:$G$56,5,FALSE) -> 0.055
A22: =A21 -> Construção e Manutenção de Estações e Redes de Distribuição de Energia Elétrica | B22: R | C22: =CONCATENATE(A22,"-",B22) -> Construção e Manutenção de Estações e Redes de Distribuição de Energia Elétrica-R | E22: 0.01 | F22: 0.0148 | G22: 0.0197 | I22: F | J22: BDI SEM desoneração (Fórmula Acórdão TCU) | R22: BDI PAD | S22: =IF($J10=$A$65,0,ROUND((((1+S14+S15+S16)*(1+S17)*(1+S18)/(1-(S19+S20)))-1),4)) -> 0.2034 | U22: - | X22: =VLOOKUP(CONCATENATE(J10,"-",R15),$C$2:$G$56,3,FALSE) -> 0.008 | Y22: =VLOOKUP(CONCATENATE(J10,"-",R15),$C$2:$G$56,4,FALSE) -> 0.008 | Z22: =VLOOKUP(CONCATENATE(J10,"-",R15),$C$2:$G$56,5,FALSE) -> 0.01
A23: =A22 -> Construção e Manutenção de Estações e Redes de Distribuição de Energia Elétrica | B23: DF | C23: =CONCATENATE(A23,"-",B23) -> Construção e Manutenção de Estações e Redes de Distribuição de Energia Elétrica-DF | E23: 0.0101 | F23: 0.0107 | G23: 0.0111 | I23: F | J23: BDI COM desoneração | R23: BDI DES | S23: =IF($J10=$A$65,0,ROUND((((1+S14+S15+S16)*(1+S17)*(1+S18)/(1-(S19+S20+S21)))-1),4)) -> 0.2637 | U23: - | X23: =VLOOKUP(CONCATENATE(J10,"-",R16),$C$2:$G$56,3,FALSE) -> 0.0097 | Y23: =VLOOKUP(CONCATENATE(J10,"-",R16),$C$2:$G$56,4,FALSE) -> 0.0127 | Z23: =VLOOKUP(CONCATENATE(J10,"-",R16),$C$2:$G$56,5,FALSE) -> 0.0127
A24: =A23 -> Construção e Manutenção de Estações e Redes de Distribuição de Energia Elétrica | B24: L | C24: =CONCATENATE(A24,"-",B24) -> Construção e Manutenção de Estações e Redes de Distribuição de Energia Elétrica-L | E24: 0.08 | F24: 0.0831 | G24: 0.0951 | I24: F | U24: - | X24: =VLOOKUP(CONCATENATE(J10,"-",R17),$C$2:$G$56,3,FALSE) -> 0.0059 | Y24: =VLOOKUP(CONCATENATE(J10,"-",R17),$C$2:$G$56,4,FALSE) -> 0.0123 | Z24: =VLOOKUP(CONCATENATE(J10,"-",R17),$C$2:$G$56,5,FALSE) -> 0.0139
A25: =A24 -> Construção e Manutenção de Estações e Redes de Distribuição de Energia Elétrica | B25: BDI PAD | C25: =CONCATENATE(A25,"-",B25) -> Construção e Manutenção de Estações e Redes de Distribuição de Energia Elétrica-BDI PAD | E25: 0.24 | F25: 0.2584 | G25: 0.2786 | I25: F | J25: =IF(U29<>"ok","X","") | K25: =IF(U29<>"ok","Anexo: Relatório Técnico Circunstanciado justificando a adoção do percentual de cada parcela do BDI.","") | U25: - | X25: =VLOOKUP(CONCATENATE(J10,"-",R18),$C$2:$G$56,3,FALSE) -> 0.0616 | Y25: =VLOOKUP(CONCATENATE(J10,"-",R18),$C$2:$G$56,4,FALSE) -> 0.074 | Z25: =VLOOKUP(CONCATENATE(J10,"-",R18),$C$2:$G$56,5,FALSE) -> 0.0896
A26: Obras Portuárias, Marítimas e Fluviais | B26: AC | C26: =CONCATENATE(A26,"-",B26) -> Obras Portuárias, Marítimas e Fluviais-AC | E26: 0.04 | F26: 0.0552 | G26: 0.0785 | I26: F | U26: - | X26: 0.0365 | Y26: 0.0365 | Z26: 0.0365
A27: =A26 -> Obras Portuárias, Marítimas e Fluviais | B27: SG | C27: =CONCATENATE(A27,"-",B27) -> Obras Portuárias, Marítimas e Fluviais-SG | E27: 0.0081 | F27: 0.0122 | G27: 0.0199 | I27: F | J27: Os valores de BDI foram calculados com o emprego da fórmula: | U27: - | X27: 0 | Y27: 0.025 | Z27: 0.05
A28: =A27 -> Obras Portuárias, Marítimas e Fluviais | B28: R | C28: =CONCATENATE(A28,"-",B28) -> Obras Portuárias, Marítimas e Fluviais-R | E28: 0.0146 | F28: 0.0232 | G28: 0.0316 | I28: F | M28: BDI = | N28: =IF($J10=$A$66,"(1+K1+K2)*(1+K3)","(1+AC + S + R + G)*(1 + DF)*(1+L)") -> (1+AC + S + R + G)*(1 + DF)*(1+L) | Q28: - 1 | U28: - | X28: 0 | Y28: 0.045 | Z28: 0.045
A29: =A28 -> Obras Portuárias, Marítimas e Fluviais | B29: DF | C29: =CONCATENATE(A29,"-",B29) -> Obras Portuárias, Marítimas e Fluviais-DF | E29: 0.0094 | F29: 0.0102 | G29: 0.0133 | I29: F | N29: (1-CP-ISS-CRPB) | U29: =IF(OR($J$10=$A$66,$J$10=$A$65,AND(S22>=X29,S22<=Z29)),"OK","FORA DO INTERVALO") -> OK | X29: =IF($J10=$A$65,0,VLOOKUP(CONCATENATE($J10,"-",$R22),$C$2:$G$56,3,FALSE)) -> 0.2034 | Y29: =IF($J10=$A$65,0,VLOOKUP(CONCATENATE($J10,"-",$R22),$C$2:$G$56,4,FALSE)) -> 0.2212 | Z29: =IF($J10=$A$65,0,VLOOKUP(CONCATENATE($J10,"-",$R22),$C$2:$G$56,5,FALSE)) -> 0.25
A30: =A29 -> Obras Portuárias, Marítimas e Fluviais | B30: L | C30: =CONCATENATE(A30,"-",B30) -> Obras Portuárias, Marítimas e Fluviais-L | E30: 0.0714 | F30: 0.084 | G30: 0.1043 | I30: F
A31: =A30 -> Obras Portuárias, Marítimas e Fluviais | B31: BDI PAD | C31: =CONCATENATE(A31,"-",B31) -> Obras Portuárias, Marítimas e Fluviais-BDI PAD | E31: 0.228 | F31: =3.23*22.38 -> 72.2874 | G31: 0.3095 | I31: F | J31: =CONCATENATE("Declaro para os devidos fins que, conforme legislação tributária municipal, a base de cálculo deste tipo de obra corresponde à ",$R$6*100,"%, com a respectiva alíquota de ",$R$7*100,"%.") -> Declaro para os devidos fins que, conforme legislação tributária municipal, a base de cálculo deste tipo de obra corresponde à 100%, com a respectiva alíquota de 3%.
A32: Fornecimento de Materiais e Equipamentos (aquisição indireta - em conjunto com licitação de obras) | B32: AC | C32: =CONCATENATE(A32,"-",B32) -> Fornecimento de Materiais e Equipamentos (aquisição indireta - em conjunto com licitação de obras)-AC | E32: 0.015 | F32: 18 | G32: 0.0449 | I32: F | M32: UMA ESTACA POR PILAR 1 M
A33: =A32 -> Fornecimento de Materiais e Equipamentos (aquisição indireta - em conjunto com licitação de obras) | B33: SG | C33: =CONCATENATE(A33,"-",B33) -> Fornecimento de Materiais e Equipamentos (aquisição indireta - em conjunto com licitação de obras)-SG | E33: 0.003 | F33: 0.0048 | G33: 0.0082 | I33: F | J33: =CONCATENATE("Declaro para os devidos fins que o regime de Contribuição Previdenciária sobre a Receita Bruta adotado para elaboração do orçamento foi ",IF(DESONERACAO="DESONERADO","COM","SEM")," Desoneração, e que esta é a alternativa mais adequada para a Administração Pública.") -> Declaro para os devidos fins que o regime de Contribuição Previdenciária sobre a Receita Bruta adotado para elaboração do orçamento foi SEM Desoneração, e que esta é a alternativa mais adequada para a Administração Pública.
A34: =A33 -> Fornecimento de Materiais e Equipamentos (aquisição indireta - em conjunto com licitação de obras) | B34: R | C34: =CONCATENATE(A34,"-",B34) -> Fornecimento de Materiais e Equipamentos (aquisição indireta - em conjunto com licitação de obras)-R | E34: 0.0056 | F34: 301.18 | G34: 0.0089 | I34: F | M34: PILAR 2,2 M * 18 +ESTRUTURA 23,38 * 3 + CONTRAVENTAMENTO 2,33* 9 + TESOURA 8,55 * 9 + TRAMA 23,38* 4
A35: =A34 -> Fornecimento de Materiais e Equipamentos (aquisição indireta - em conjunto com licitação de obras) | B35: DF | C35: =CONCATENATE(A35,"-",B35) -> Fornecimento de Materiais e Equipamentos (aquisição indireta - em conjunto com licitação de obras)-DF | E35: 0.0085 | F35: 0.0085 | G35: 0.0111 | I35: F | J35: Observações:
A36: 6 | B36: L | C36: =CONCATENATE(A36,"-",B36) -> 6-L | E36: 0.035 | F36: 0.0511 | G36: 0.0622 | I36: F
A37: 6.1 | B37: BDI PAD | C37: =CONCATENATE(A37,"-",B37) -> 6.1-BDI PAD | E37: 0.111 | F37: 0.1402 | G37: 0.168 | I37: F
A38: 6.2 | B38: AC | C38: =CONCATENATE(A38,"-",B38) -> 6.2-AC | E38: - | F38: - | G38: - | I38: F | J38: ='Dados da Obra'!C7 -> Piên / PR | P38: ='Dados da Obra'!C11:C11 -> 45070
A39: 6.3 | B39: SG | C39: =CONCATENATE(A39,"-",B39) -> 6.3-SG | E39: - | F39: - | G39: - | I39: F | J39: Local | P39: Data
A40: 6.4 | B40: R | C40: =CONCATENATE(A40,"-",B40) -> 6.4-R | E40: - | F40: - | G40: - | I40: F
...

Sheet Global
A2: PLANILHA ORÇAMENTÁRIA
J3: Encargos : | K3: 2
A4: PROJETO: | C4: ='Dados da Obra'!C5 -> REFORMA E AMPLIAÇÃO (CRAS) | E4: LOCAL: | F4: ='Dados da Obra'!C6 -> RUA CAMPO GRANDE - AVENCAL | J4: 1- Desonerado | K4: 2-Não Desonerado
A5: REFERÊNCIA: | C5: ='Dados da Obra'!C8 -> SINAPI JAN/23 - ORSE SE JAN/23 | E5: DATA: | F5: ='Dados da Obra'!C11 -> 45070
A6: ENCARGOS: | C6: =IF(K3=1,"DESONERADO","NÃO DESONERADO") -> NÃO DESONERADO | E6: BDI: | F6: =IF(K3=1,BDI!S23,BDI!S22) -> 0.2034 | J6: =IF(K3=1,G50, ) -> 0 | K6: =IF(K3=2,G50,) -> 83294.52
A7: RESP. TÉC.: | C7: ADAILTON ROGÉRIO DE OLIVEIRA - ENGENHEIRO CIVIL - CREA PR 68.917/D | E7: AREA DA OBRA: | G7: ='Dados da Obra'!C14 -> 526,11 | H7: m²
A9: ITEM | B9: TABELA | C9: CÓDIGO | D9: DESCRIÇÃO DO SERVIÇO | E9: UD | F9: QUANT | G9: PREÇO UNITÁRIO | H9: TOTAL (R$) | J9: Custo Unitario DESONERADO | K9: Custo Unitario NÃO DESONERADO
A11: 1 | D11: SERVIÇOS PRELIMINARES | J11: =IF(F11="","",#REF!+#REF!) | K11: =IF(G11="","",#REF!+#REF!)
A12: 1.1 | B12: ORSE SE | C12: 00051 | D12: PLACA DE OBRA EM CHAPA AÇO GALVANIZADO, INSTALADO | E12: M2 | F12: 4.5 | G12: =IF($K$3=1,TRUNC(J12*(1+$F$6),2),TRUNC(K12*(1+$F$6),2)) -> 447.83 | H12: =TRUNC(F12*G12,2) -> 2015.23 | J12: 372.14 | K12: 372.14
D13: SUB-TOTAL | H13: =SUM(H12:H12) -> 2015.23
A14: 2 | D14: DEMOLIÇÃO E REMOÇÃO
A15: 2.1 | B15: SINAPI | C15: 97628 | D15: DEMOLIÇÃO DE LAJES, DE FORMA MANUAL, SEM REAPROVEITAMENTO. AF_12/2017 | E15: M3 | F15: 10.25 | G15: =IF($K$3=1,TRUNC(J15*(1+$F$6),2),TRUNC(K15*(1+$F$6),2)) -> 390.65 | H15: =TRUNC(F15*G15,2) -> 4004.16 | J15: 293.28 | K15: =IF($C15<>"",VLOOKUP($C15,INDIRECT("PR2021_07_NaoDesonerado!g7:k7515"),5,0),"") -> 324,63 | M15: calçada existente danificada area removida 205 m2 x 0,05
A16: 2.2 | B16: SINAPI | C16: 98531 | D16: =IF($C16<>"",VLOOKUP($C16,INDIRECT("PR2021_07_Desonerado!g7:k7515"),2,0),"") -> CORTE RASO E RECORTE DE ÁRVORE COM DIÂMETRO DE TRONCO MAIOR OU IGUAL A 0,60 M.AF_05/2018 | E16: =IF($C16<>"",VLOOKUP($C16,INDIRECT("PR2021_07_Desonerado!g7:k7515"),3,0),"") -> UN | F16: 1 | G16: =IF($K$3=1,TRUNC(J16*(1+$F$6),2),TRUNC(K16*(1+$F$6),2)) -> 407.96 | H16: =TRUNC(F16*G16,2) -> 407.96 | J16: =IF($C16<>"",VLOOKUP($C16,INDIRECT("PR2021_07_Desonerado!g7:k7515"),5,0),"") -> 313,25 | K16: =IF($C16<>"",VLOOKUP($C16,INDIRECT("PR2021_07_NaoDesonerado!g7:k7515"),5,0),"") -> 339,01 | M16: paredes 1,7 +0,8+0,8 x 1,2m +,50*1,7
A17: 2.3 | B17: ORSE SE | C17: 000026 | D17: COLETA E CARGA MANUAIS DE ENTULHO | E17: M3 | F17: =F15+3 -> 13.25 | G17: =IF($K$3=1,TRUNC(J17*(1+$F$6),2),TRUNC(K17*(1+$F$6),2)) -> 19.89 | H17: =TRUNC(F17*G17,2) -> 263.54 | J17: 16.53 | K17: 16.53 | M17: portão 1,5*1,2
D18: SUB-TOTAL | H18: =SUM(H15:H17) -> 4675.66
A19: 3 | D19: CASA DE GÁS | E19: =IF(C19<>"",VLOOKUP(C19,#REF!,3,0),"") | G19: =IF(J19="","",ROUND(J19*(1+$F$6),2))
A20: 3.1 | B20: SINAPI | C20: 99059 | D20: =IF($C20<>"",VLOOKUP($C20,INDIRECT("PR2021_07_Desonerado!g7:k6870"),2,0),"") -> LOCACAO CONVENCIONAL DE OBRA, UTILIZANDO GABARITO DE TÁBUAS CORRIDAS PONTALETADAS A CADA 2,00M - 2 UTILIZAÇÕES. AF_10/2018 | E20: =IF($C20<>"",VLOOKUP($C20,INDIRECT("PR2021_07_Desonerado!g7:k6870"),3,0),"") -> M | F20: =0.8+0.8+1.7+1.7 -> 5 | G20: =IF($K$3=1,TRUNC(J20*(1+$F$6),2),TRUNC(K20*(1+$F$6),2)) -> 81.25 | H20: =TRUNC(F20*G20,2) -> 406.25 | J20: =IF($C20<>"",VLOOKUP($C20,INDIRECT("PR2021_07_Desonerado!g7:k6977"),5,0),"") -> 63,60 | K20: =IF($C20<>"",VLOOKUP($C20,INDIRECT("PR2021_07_NaoDesonerado!g7:k6977"),5,0),"") -> 67,52 | M20: =1.7+0.8+1.7+0.8 -> 5 | N20: comprimento xlargurax espessura
A21: 3.2 | B21: SINAPI | C21: 96622 | D21: =IF($C21<>"",VLOOKUP($C21,INDIRECT("PR2021_07_Desonerado!g7:k6538"),2,0),"") -> LASTRO COM MATERIAL GRANULAR, APLICADO EM PISOS OU LAJES SOBRE SOLO, ESPESSURA DE *5 CM*. AF_08/2017 | E21: =IF($C21<>"",VLOOKUP($C21,INDIRECT("PR2021_07_Desonerado!g7:k6538"),3,0),"") -> M3 | F21: =1.7*0.6*0.05 -> 0.051 | G21: =IF($K$3=1,TRUNC(J21*(1+$F$6),2),TRUNC(K21*(1+$F$6),2)) -> 143.3 | H21: =TRUNC(F21*G21,2) -> 7.3 | J21: =IF($C21<>"",VLOOKUP($C21,INDIRECT("PR2021_07_Desonerado!g7:k6977"),5,0),"") -> 113,99 | K21: =IF($C21<>"",VLOOKUP($C21,INDIRECT("PR2021_07_NaoDesonerado!g7:k6977"),5,0),"") -> 119,08 | M21: =1.7*0.8*0.05 -> 0.068 | N21: comprimento xlargurax espessura
A22: 3.3 | B22: SINAPI | C22: 102476 | D22: =IF($C22<>"",VLOOKUP($C22,INDIRECT("PR2021_07_Desonerado!g7:k6538"),2,0),"") -> CONCRETO FCK = 25MPA, TRAÇO 1:2,2:2,5 (EM MASSA SECA DE CIMENTO/ AREIA MÉDIA/ SEIXO ROLADO) - PREPARO MECÂNICO COM BETONEIRA 400 L. AF_05/2021 | E22: =IF($C22<>"",VLOOKUP($C22,INDIRECT("PR2021_07_Desonerado!g7:k6538"),3,0),"") -> M3 | F22: =(1.7*0.8*0.08)+(1.9*0.9*0.1) -> 0.2798 | G22: =IF($K$3=1,TRUNC(J22*(1+$F$6),2),TRUNC(K22*(1+$F$6),2)) -> 650.96 | H22: =TRUNC(F22*G22,2) -> 182.13 | J22: =IF($C22<>"",VLOOKUP($C22,INDIRECT("PR2021_07_Desonerado!g7:k6977"),5,0),"") -> 532,05 | K22: =IF($C22<>"",VLOOKUP($C22,INDIRECT("PR2021_07_NaoDesonerado!g7:k6977"),5,0),"") -> 540,94 | M22: concreto piso e laje
A23: 3.4 | B23: SINAPI | C23: 92486 | D23: =IF($C23<>"",VLOOKUP($C23,INDIRECT("PR2021_07_Desonerado!g7:k6538"),2,0),"") -> MONTAGEM E DESMONTAGEM DE FÔRMA DE LAJE MACIÇA, PÉ-DIREITO SIMPLES, EM MADEIRA SERRADA, 4 UTILIZAÇÕES. AF_09/2020 | E23: =IF($C23<>"",VLOOKUP($C23,INDIRECT("PR2021_07_Desonerado!g7:k6538"),3,0),"") -> M2 | F23: =(1.9*0.9) -> 1.71 | G23: =IF($K$3=1,TRUNC(J23*(1+$F$6),2),TRUNC(K23*(1+$F$6),2)) -> 232.84 | H23: =TRUNC(F23*G23,2) -> 398.15 | J23: =IF($C23<>"",VLOOKUP($C23,INDIRECT("PR2021_07_Desonerado!g7:k6977"),5,0),"") -> 182,56 | K23: =IF($C23<>"",VLOOKUP($C23,INDIRECT("PR2021_07_NaoDesonerado!g7:k6977"),5,0),"") -> 193,49 | M23: forma apenas laje
A24: 3.5 | B24: SINAPI | C24: 92769 | D24: =IF($C24<>"",VLOOKUP($C24,INDIRECT("PR2021_07_Desonerado!g7:k6538"),2,0),"") -> ARMAÇÃO DE LAJE DE ESTRUTURA CONVENCIONAL DE CONCRETO ARMADO UTILIZANDO AÇO CA-50 DE 6,3 MM - MONTAGEM. AF_06/2022 | E24: =IF($C24<>"",VLOOKUP($C24,INDIRECT("PR2021_07_Desonerado!g7:k6538"),3,0),"") -> KG | F24: =(9*1.7)+(17*0.9)*0.245 -> 19.0485 | G24: =IF($K$3=1,TRUNC(J24*(1+$F$6),2),TRUNC(K24*(1+$F$6),2)) -> 16.63 | H24: =TRUNC(F24*G24,2) -> 316.77 | J24: =IF($C24<>"",VLOOKUP($C24,INDIRECT("PR2021_07_Desonerado!g7:k6977"),5,0),"") -> 13,48 | K24: =IF($C24<>"",VLOOKUP($C24,INDIRECT("PR2021_07_NaoDesonerado!g7:k6977"),5,0),"") -> 13,82 | M24: armação laje, espaçamento a cada 10 cm
A25: 3.6 | B25: SINAPI | C25: 103670 | D25: =IF($C25<>"",VLOOKUP($C25,INDIRECT("PR2021_07_Desonerado!g7:k6538"),2,0),"") -> LANÇAMENTO COM USO DE BALDES, ADENSAMENTO E ACABAMENTO DE CONCRETO EM ESTRUTURAS. AF_02/2022 | E25: =IF($C25<>"",VLOOKUP($C25,INDIRECT("PR2021_07_Desonerado!g7:k6538"),3,0),"") -> M3 | F25: =F22 -> 0.2798 | G25: =IF($K$3=1,TRUNC(J25*(1+$F$6),2),TRUNC(K25*(1+$F$6),2)) -> 416.5 | H25: =TRUNC(F25*G25,2) -> 116.53 | J25: =IF($C25<>"",VLOOKUP($C25,INDIRECT("PR2021_07_Desonerado!g7:k6977"),5,0),"") -> 311,76 | K25: =IF($C25<>"",VLOOKUP($C25,INDIRECT("PR2021_07_NaoDesonerado!g7:k6977"),5,0),"") -> 346,11 | M25: concreto piso e laje
A26: 3.7 | B26: SINAPI | C26: 103334 | D26: =IF($C26<>"",VLOOKUP($C26,INDIRECT("PR2021_07_Desonerado!g7:k6538"),2,0),"") -> ALVENARIA DE VEDAÇÃO DE BLOCOS CERÂMICOS FURADOS NA HORIZONTAL DE 14X9X19 CM (ESPESSURA 14 CM, BLOCO DEITADO) E ARGAMASSA DE ASSENTAMENTO COM PREPARO EM BETONEIRA. AF_12/2021 | E26: =IF($C26<>"",VLOOKUP($C26,INDIRECT("PR2021_07_Desonerado!g7:k6538"),3,0),"") -> M2 | F26: 4.81 | G26: =IF($K$3=1,TRUNC(J26*(1+$F$6),2),TRUNC(K26*(1+$F$6),2)) -> 189.64 | H26: =TRUNC(F26*G26,2) -> 912.16 | J26: =IF($C26<>"",VLOOKUP($C26,INDIRECT("PR2021_07_Desonerado!g7:k6977"),5,0),"") -> 146,72 | K26: =IF($C26<>"",VLOOKUP($C26,INDIRECT("PR2021_07_NaoDesonerado!g7:k6977"),5,0),"") -> 157,59 | M26: paredes 1,7 +0,8+0,8 x 1,2m +,50*1,7
A27: 3.8 | B27: SINAPI | C27: 87879 | D27: =IF($C27<>"",VLOOKUP($C27,INDIRECT("PR2021_07_Desonerado!g7:k6538"),2,0),"") -> CHAPISCO APLICADO EM ALVENARIAS E ESTRUTURAS DE CONCRETO INTERNAS, COM COLHER DE PEDREIRO. ARGAMASSA TRAÇO 1:3 COM PREPARO EM BETONEIRA 400L. AF_10/2022 | E27: =IF($C27<>"",VLOOKUP($C27,INDIRECT("PR2021_07_Desonerado!g7:k6538"),3,0),"") -> M2 | F27: =4.81*2 -> 9.62 | G27: =IF($K$3=1,TRUNC(J27*(1+$F$6),2),TRUNC(K27*(1+$F$6),2)) -> 5.6 | H27: =TRUNC(F27*G27,2) -> 53.87 | J27: =IF($C27<>"",VLOOKUP($C27,INDIRECT("PR2021_07_Desonerado!g7:k6977"),5,0),"") -> 4,32 | K27: =IF($C27<>"",VLOOKUP($C27,INDIRECT("PR2021_07_NaoDesonerado!g7:k6977"),5,0),"") -> 4,66 | M27: chapico nas 2 faces da parede
A28: 3.9 | B28: SINAPI | C28: 87775 | D28: =IF($C28<>"",VLOOKUP($C28,INDIRECT("PR2021_07_Desonerado!g7:k6538"),2,0),"") -> EMBOÇO OU MASSA ÚNICA EM ARGAMASSA TRAÇO 1:2:8, PREPARO MECÂNICO COM BETONEIRA 400 L, APLICADA MANUALMENTE EM PANOS DE FACHADA COM PRESENÇA DE VÃOS, ESPESSURA DE 25 MM. AF_08/2022 | E28: =IF($C28<>"",VLOOKUP($C28,INDIRECT("PR2021_07_Desonerado!g7:k6538"),3,0),"") -> M2 | F28: =4.81*2 -> 9.62 | G28: =IF($K$3=1,TRUNC(J28*(1+$F$6),2),TRUNC(K28*(1+$F$6),2)) -> 68.71 | H28: =TRUNC(F28*G28,2) -> 660.99 | J28: =IF($C28<>"",VLOOKUP($C28,INDIRECT("PR2021_07_Desonerado!g7:k6977"),5,0),"") -> 52,83 | K28: =IF($C28<>"",VLOOKUP($C28,INDIRECT("PR2021_07_NaoDesonerado!g7:k6977"),5,0),"") -> 57,10 | M28: emboço nas 2 faces da parede
A29: 3.10 | B29: ORSE SE | C29: 11718 | D29: PORTÃO EM CHAPA DE FERRO VENEZIANA TIPO Z INCLUSIVE DOBRADIÇAS, FERROLHOS E CHUMBADORES EM CHAPA DE FERRO E=5MM | E29: M2 | F29: 1.8 | G29: =IF($K$3=1,TRUNC(J29*(1+$F$6),2),TRUNC(K29*(1+$F$6),2)) -> 671.2 | H29: =TRUNC(F29*G29,2) -> 1208.16 | J29: 557.76 | K29: 557.76 | M29: portão 1,5*1,2
D30: SUB-TOTAL | H30: =SUM(H20:H29) -> 4262.31
A31: 4 | D31: PAVIMENTAÇÃO | E31: =IF(C31<>"",VLOOKUP(C31,#REF!,3,0),"") | G31: =IF(J31="","",ROUND(J31*(1+$F$6),2))
A32: 4.1 | B32: SINAPI | C32: 92271 | D32: =IF($C32<>"",VLOOKUP($C32,INDIRECT("PR2021_07_Desonerado!g7:k6538"),2,0),"") -> FABRICAÇÃO DE FÔRMA PARA LAJES, EM MADEIRA SERRADA, E=25 MM. AF_09/2020 | E32: =IF($C32<>"",VLOOKUP($C32,INDIRECT("PR2021_07_Desonerado!g7:k6538"),3,0),"") -> M2 | F32: =180*0.2 -> 36 | G32: =IF($K$3=1,TRUNC(J32*(1+$F$6),2),TRUNC(K32*(1+$F$6),2)) -> 166.2 | H32: =TRUNC(F32*G32,2) -> 5983.2 | J32: =IF($C32<>"",VLOOKUP($C32,INDIRECT("PR2021_07_Desonerado!g7:k6977"),5,0),"") -> 138,05 | K32: =IF($C32<>"",VLOOKUP($C32,INDIRECT("PR2021_07_NaoDesonerado!g7:k6977"),5,0),"") -> 138,11 | M32: comprimento 176,9m.3 calçada x0,25m.
A33: 4.2 | B33: SINAPI | C33: 96622 | D33: =IF($C33<>"",VLOOKUP($C33,INDIRECT("PR2021_07_Desonerado!g7:k6538"),2,0),"") -> LASTRO COM MATERIAL GRANULAR, APLICADO EM PISOS OU LAJES SOBRE SOLO, ESPESSURA DE *5 CM*. AF_08/2017 | E33: =IF($C33<>"",VLOOKUP($C33,INDIRECT("PR2021_07_Desonerado!g7:k6538"),3,0),"") -> M3 | F33: 10.25 | G33: =IF($K$3=1,TRUNC(J33*(1+$F$6),2),TRUNC(K33*(1+$F$6),2)) -> 143.3 | H33: =TRUNC(F33*G33,2) -> 1468.82 | J33: =IF($C33<>"",VLOOKUP($C33,INDIRECT("PR2021_07_Desonerado!g7:k6977"),5,0),"") -> 113,99 | K33: =IF($C33<>"",VLOOKUP($C33,INDIRECT("PR2021_07_NaoDesonerado!g7:k6977"),5,0),"") -> 119,08 | M33: area calçada 205 *,05
A34: 4.3 | B34: SINAPI | C34: 98525 | D34: LIMPEZA MANUAL DE VEGETAÇÃO EM TERRENO COM ENXADA.AF_05/2018 | E34: M2 | F34: 205 | G34: =IF($K$3=1,TRUNC(J34*(1+$F$6),2),TRUNC(K34*(1+$F$6),2)) -> 4.41 | H34: =TRUNC(F34*G34,2) -> 904.05 | J34: 3.32 | K34: 3.67 | M34: area calçada 205
A35: 4.4 | B35: SINAPI | C35: 101747 | D35: =IF($C35<>"",VLOOKUP($C35,INDIRECT("PR2021_07_Desonerado!g7:k6538"),2,0),"") -> PISO EM CONCRETO 20 MPA PREPARO MECÂNICO, ESPESSURA 7CM. AF_09/2020 | E35: =IF($C35<>"",VLOOKUP($C35,INDIRECT("PR2021_07_Desonerado!g7:k6538"),3,0),"") -> M2 | F35: 205 | G35: =IF($K$3=1,TRUNC(J35*(1+$F$6),2),TRUNC(K35*(1+$F$6),2)) -> 83.88 | H35: =TRUNC(F35*G35,2) -> 17195.4 | J35: =IF($C35<>"",VLOOKUP($C35,INDIRECT("PR2021_07_Desonerado!g7:k6977"),5,0),"") -> 69,21 | K35: =IF($C35<>"",VLOOKUP($C35,INDIRECT("PR2021_07_NaoDesonerado!g7:k6977"),5,0),"") -> 69,71 | M35: area calçada 205
D36: SUB-TOTAL | H36: =SUM(H32:H35) -> 25551.47
A37: 5 | D37: PASSARELA METALICA | E37: =IF(C37<>"",VLOOKUP(C37,#REF!,3,0),"") | G37: =IF(J37="","",ROUND(J37*(1+$F$6),2))
A38: 5.1 | B38: SINAPI | C38: 100726 | D38: =IF($C38<>"",VLOOKUP($C38,INDIRECT("PR2021_07_Desonerado!g7:k6538"),2,0),"") -> PINTURA COM TINTA ALQUÍDICA DE FUNDO E ACABAMENTO (ESMALTE SINTÉTICO GRAFITE) APLICADA A ROLO OU PINCEL SOBRE SUPERFÍCIES METÁLICAS (EXCETO PERFIL) EXECUTADO EM OBRA (POR DEMÃO). AF_01/2020 | E38: =IF($C38<>"",VLOOKUP($C38,INDIRECT("PR2021_07_Desonerado!g7:k6538"),3,0),"") -> M2 | F38: =(2.33+0.8)*22.38 -> 70.0494 | G38: =IF($K$3=1,TRUNC(J38*(1+$F$6),2),TRUNC(K38*(1+$F$6),2)) -> 36.31 | H38: =TRUNC(F38*G38,2) -> 2543.49 | J38: =IF($C38<>"",VLOOKUP($C38,INDIRECT("PR2021_07_Desonerado!g7:k6977"),5,0),"") -> 27,89 | K38: =IF($C38<>"",VLOOKUP($C38,INDIRECT("PR2021_07_NaoDesonerado!g7:k6977"),5,0),"") -> 30,18 | M38: comprimento 22,37=8 *2,33 largura
A39: 5.2 | B39: SINAPI | C39: 101173 | D39: =IF($C39<>"",VLOOKUP($C39,INDIRECT("PR2021_07_Desonerado!g7:k6538"),2,0),"") -> ESTACA BROCA DE CONCRETO, DIÂMETRO DE 20CM, ESCAVAÇÃO MANUAL COM TRADO CONCHA, COM ARMADURA DE ARRANQUE. AF_05/2020 | E39: =IF($C39<>"",VLOOKUP($C39,INDIRECT("PR2021_07_Desonerado!g7:k6538"),3,0),"") -> M | F39: 18 | G39: =IF($K$3=1,TRUNC(J39*(1+$F$6),2),TRUNC(K39*(1+$F$6),2)) -> 76.57 | H39: =TRUNC(F39*G39,2) -> 1378.26 | J39: =IF($C39<>"",VLOOKUP($C39,INDIRECT("PR2021_07_Desonerado!g7:k6977"),5,0),"") -> 60,01 | K39: =IF($C39<>"",VLOOKUP($C39,INDIRECT("PR2021_07_NaoDesonerado!g7:k6977"),5,0),"") -> 63,63 | M39: UMA ESTACA POR PILAR 1 M
A40: 5.3 | B40: SINAPI | C40: 94213 | D40: =IF($C40<>"",VLOOKUP($C40,INDIRECT("PR2021_07_Desonerado!g7:k6538"),2,0),"") -> TELHAMENTO COM TELHA DE AÇO/ALUMÍNIO E = 0,5 MM, COM ATÉ 2 ÁGUAS, INCLUSO IÇAMENTO. AF_07/2019 | E40: =IF($C40<>"",VLOOKUP($C40,INDIRECT("PR2021_07_Desonerado!g7:k6538"),3,0),"") -> M2 | F40: =F38 -> 70.0494 | G40: =IF($K$3=1,TRUNC(J40*(1+$F$6),2),TRUNC(K40*(1+$F$6),2)) -> 94.63 | H40: =TRUNC(F40*G40,2) -> 6628.77 | J40: =IF($C40<>"",VLOOKUP($C40,INDIRECT("PR2021_07_Desonerado!g7:k6977"),5,0),"") -> 78,11 | K40: =IF($C40<>"",VLOOKUP($C40,INDIRECT("PR2021_07_NaoDesonerado!g7:k6977"),5,0),"") -> 78,64 | M40: comprimento 22,37 *3,25 largura
A41: 5.4 | B41: SINAPI | C41: 104467 | D41: =IF($C41<>"",VLOOKUP($C41,INDIRECT("PR2021_07_Desonerado!g7:k6538"),2,0),"") -> COMPOSIÇÃO PARAMÉTRICA PARA FORNECIMENTO E MONTAGEM DE ESTRUTURA METÁLICA PARA COBERTURA DE EDIFICAÇÕES COM ESTRUTURA DE APOIO. AF_11/2022 | E41: =IF($C41<>"",VLOOKUP($C41,INDIRECT("PR2021_07_Desonerado!g7:k6538"),3,0),"") -> KG | F41: 413.69 | G41: =IF($K$3=1,TRUNC(J41*(1+$F$6),2),TRUNC(K41*(1+$F$6),2)) -> 49.65 | H41: =TRUNC(F41*G41,2) -> 20539.7 | J41: =IF($C41<>"",VLOOKUP($C41,INDIRECT("PR2021_07_Desonerado!g7:k6977"),5,0),"") -> 40,50 | K41: =IF($C41<>"",VLOOKUP($C41,INDIRECT("PR2021_07_NaoDesonerado!g7:k6977"),5,0),"") -> 41,26 | M41: Quantitativo
D42: SUB-TOTAL | H42: =SUM(H38:H41) -> 31090.22
A43: 6 | D43: CERCA E ALAMBRADO PORTAO | E43: =IF(C43<>"",VLOOKUP(C43,#REF!,3,0),"") | G43: =IF(J43="","",ROUND(J43*(1+$F$6),2))
...

Sheet Cronograma
A1: CRONOGRAMA FISICO FINANCEIRO
A3: Projeto: | B3: ='Dados da Obra'!C5 -> REFORMA E AMPLIAÇÃO (CRAS) | J3: Valor da Obra | K3: =Global!G50 -> 83294.52
A4: Local: | B4: ='Dados da Obra'!C6 -> RUA CAMPO GRANDE - AVENCAL | J4: Prazo de Execução | K4: ='Dados da Obra'!C13 -> 3 MESES
A5: Convenio: | B5: ='Dados da Obra'!C12 -> RECURSO PROPRIO | J5: Area do Obra | K5: ='Dados da Obra'!C14 -> 526,11 | L5: m2
A7: CRONOGRAMA GLOBAL
A8: ITEM | B8: SERVIÇOS | C8: MÊS | D8: M Ê S | E8: M Ê S | F8: M Ê S | L8: TOTAL
C9: VALOR | D9: 1 | E9: 2 | F9: 3
A10: 1 | B10: =Global!$D$11 -> SERVIÇOS PRELIMINARES | C10: =Global!H13 -> 2015.23 | D10: =ROUND(C10*D11,2) -> 2015.23 | L10: =SUM(D10:F10) -> 2015.23
C11: 45070 | D11: 1 | L11: =SUM(D11:F11) -> 1
A12: 2 | B12: =Global!D14 -> DEMOLIÇÃO E REMOÇÃO | C12: =Global!H18 -> 4675.66 | D12: =ROUND($C12*D13,2) -> 4675.66 | L12: =SUM(D12:I12) -> 4675.66
C13: =C12/$C$22 -> 0.056134065 | D13: 1 | L13: =SUM(D13:I13) -> 1
A14: 3 | B14: =Global!D19 -> CASA DE GÁS | C14: =Global!H30 -> 4262.31 | D14: =ROUND($C14*D15,2) -> 4262.31 | L14: =SUM(D14:I14) -> 4262.31
C15: =C14/$C$22 -> 0.051171554 | D15: 1 | L15: =SUM(D15:I15) -> 1
A16: 4 | B16: =Global!D31 -> PAVIMENTAÇÃO | C16: =Global!H36 -> 25551.47 | D16: =ROUND($C16*D17,2) -> 17886.03 | E16: =ROUND($C16*E17,2) -> 7665.44 | L16: =SUM(D16:I16) -> 25551.47
C17: =C16/$C$22 -> 0.30676052 | D17: 0.7 | E17: 0.3 | L17: =SUM(D17:I17) -> 1
A18: 5 | B18: =Global!D37 -> PASSARELA METALICA | C18: =Global!H42 -> 31090.22 | E18: =ROUND($C18*E19,2) -> 15545.11 | F18: =ROUND($C18*F19,2) -> 15545.11 | L18: =SUM(D18:I18) -> 31090.22
C19: =C18/$C$22 -> 0.37325649 | E19: 0.5 | F19: 0.5 | L19: =SUM(D19:I19) -> 1
A20: 6 | B20: =Global!D43 -> CERCA E ALAMBRADO PORTAO | C20: =Global!H48 -> 15699.63 | E20: =ROUND($C20*E21,2) -> 7849.82 | F20: =ROUND($C20*F21,2) -> 7849.82 | L20: =SUM(D20:I20) -> 15699.64
C21: =C20/$C$22 -> 0.18848335 | E21: 0.5 | F21: 0.5 | L21: =SUM(D21:I21) -> 1
A22: TOTAL DO CUSTO | C22: =ROUND(C10+C12+C14+C16+C20+C18,2) -> 83294.52 | D22: =ROUND(D10+D12+D14+D16+D20+D18,2) -> 28839.23 | E22: =ROUND(E10+E12+E14+E16+E20+E18,2) -> 31060.37 | F22: =ROUND(F10+F12+F14+F16+F20+F18,2) -> 23394.93 | L22: =ROUND(L10+L12+L14+L16+L20+L18,2)-0.02 -> 83294.51
A23: PERCENTUAL NO MÊS | D23: =(D22)/($C$22) -> 0.34623202 | E23: =(E22)/($C$22) -> 0.37289812 | F23: =(F22)/($C$22) -> 0.28086998
A24: TOTAL ACUMULADO | D24: =D22 -> 28839.23 | E24: =D24+E22 -> 59899.6 | F24: =E24+F22 -> 83294.53 | L24: =L22 -> 83294.51
A25: PERCENTUAL ACUMULADO | D25: =D24/($C$22) -> 0.34623202 | E25: =E24/($C$22) -> 0.71913014 | F25: =F24/($C$22) -> 1.0000001 | L25: =L24/($C$22) -> 0.99999988
G32: Adailton Rogério de Oliveira
G33: Engenheiro Civil CREA PR 68.917/D

Sheet PR2021_07_Desonerado
A1: PCI.817.01 - CUSTO DE COMPOSIÇÕES - SINTÉTICO DATA DE EMISSÃO: 17/01/2023 23:52:20 DATA DE RT: 13/01/2023
A2: ENCARGOS SOCIAIS DESONERADOS: 87,08%(HORA) 48,80%(MÊS)
A3: ABRANGÊNCIA : NACIONAL LOCALIDADE : CURITIBA DATA DE PREÇO : 12/2022 REFERÊNCIA COLETA : MEDIANO
A5: DESCRICAO DA CLASSE | B5: SIGLA DA CLASSE | C5: DESCRICAO DO TIPO 1 | D5: SIGLA DO TIPO 1 | E5: CODIGO DO AGRUPADOR | F5: DESCRICAO DO AGRUPADOR | G5: CODIGO DA COMPOSICAO | H5: DESCRICAO DA COMPOSICAO | I5: UNIDADE | J5: ORIGEM DE PREÇO | K5: CUSTO TOTAL | L5: VINCULO
A7: ASSENTAMENTO DE TUBOS E PECAS | B7: ASTU | C7: FORNEC E/OU ASSENT DE TUBO DE FERRO FUNDIDO JUNTA ELASTICA | D7: 0045 | G7: 97141 | H7: ASSENTAMENTO DE TUBO DE FERRO FUNDIDO PARA REDE DE ÁGUA, DN 80 MM, JUNTA ELÁSTICA, INSTALADO EM LOCAL COM NÍVEL ALTO DE INTERFERÊNCIAS (NÃO INCLUI FORNECIMENTO). AF_11/2017 | I7: M | J7: COEFICIENTE DE REPRESENTATIVIDADE | K7: 8,88 | L7: CAIXA REFERENCIAL
A8: ASSENTAMENTO DE TUBOS E PECAS | B8: ASTU | C8: FORNEC E/OU ASSENT DE TUBO DE FERRO FUNDIDO JUNTA ELASTICA | D8: 0045 | G8: 97142 | H8: ASSENTAMENTO DE TUBO DE FERRO FUNDIDO PARA REDE DE ÁGUA, DN 100 MM, JUNTA ELÁSTICA, INSTALADO EM LOCAL COM NÍVEL ALTO DE INTERFERÊNCIAS (NÃO INCLUI FORNECIMENTO). AF_11/2017 | I8: M | J8: COEFICIENTE DE REPRESENTATIVIDADE | K8: 9,89 | L8: CAIXA REFERENCIAL
A9: ASSENTAMENTO DE TUBOS E PECAS | B9: ASTU | C9: FORNEC E/OU ASSENT DE TUBO DE FERRO FUNDIDO JUNTA ELASTICA | D9: 0045 | G9: 97143 | H9: ASSENTAMENTO DE TUBO DE FERRO FUNDIDO PARA REDE DE ÁGUA, DN 150 MM, JUNTA ELÁSTICA, INSTALADO EM LOCAL COM NÍVEL ALTO DE INTERFERÊNCIAS (NÃO INCLUI FORNECIMENTO). AF_11/2017 | I9: M | J9: COEFICIENTE DE REPRESENTATIVIDADE | K9: 12,43 | L9: CAIXA REFERENCIAL
A10: ASSENTAMENTO DE TUBOS E PECAS | B10: ASTU | C10: FORNEC E/OU ASSENT DE TUBO DE FERRO FUNDIDO JUNTA ELASTICA | D10: 0045 | G10: 97144 | H10: ASSENTAMENTO DE TUBO DE FERRO FUNDIDO PARA REDE DE ÁGUA, DN 200 MM, JUNTA ELÁSTICA, INSTALADO EM LOCAL COM NÍVEL ALTO DE INTERFERÊNCIAS (NÃO INCLUI FORNECIMENTO). AF_11/2017 | I10: M | J10: COEFICIENTE DE REPRESENTATIVIDADE | K10: 14,95 | L10: CAIXA REFERENCIAL
A11: ASSENTAMENTO DE TUBOS E PECAS | B11: ASTU | C11: FORNEC E/OU ASSENT DE TUBO DE FERRO FUNDIDO JUNTA ELASTICA | D11: 0045 | G11: 97145 | H11: ASSENTAMENTO DE TUBO DE FERRO FUNDIDO PARA REDE DE ÁGUA, DN 250 MM, JUNTA ELÁSTICA, INSTALADO EM LOCAL COM NÍVEL ALTO DE INTERFERÊNCIAS (NÃO INCLUI FORNECIMENTO). AF_11/2017 | I11: M | J11: COEFICIENTE DE REPRESENTATIVIDADE | K11: 17,52 | L11: CAIXA REFERENCIAL
A12: ASSENTAMENTO DE TUBOS E PECAS | B12: ASTU | C12: FORNEC E/OU ASSENT DE TUBO DE FERRO FUNDIDO JUNTA ELASTICA | D12: 0045 | G12: 97146 | H12: ASSENTAMENTO DE TUBO DE FERRO FUNDIDO PARA REDE DE ÁGUA, DN 300 MM, JUNTA ELÁSTICA, INSTALADO EM LOCAL COM NÍVEL ALTO DE INTERFERÊNCIAS (NÃO INCLUI FORNECIMENTO). AF_11/2017 | I12: M | J12: COEFICIENTE DE REPRESENTATIVIDADE | K12: 20,06 | L12: CAIXA REFERENCIAL
A13: ASSENTAMENTO DE TUBOS E PECAS | B13: ASTU | C13: FORNEC E/OU ASSENT DE TUBO DE FERRO FUNDIDO JUNTA ELASTICA | D13: 0045 | G13: 97147 | H13: ASSENTAMENTO DE TUBO DE FERRO FUNDIDO PARA REDE DE ÁGUA, DN 350 MM, JUNTA ELÁSTICA, INSTALADO EM LOCAL COM NÍVEL ALTO DE INTERFERÊNCIAS (NÃO INCLUI FORNECIMENTO). AF_11/2017 | I13: M | J13: COEFICIENTE DE REPRESENTATIVIDADE | K13: 22,63 | L13: CAIXA REFERENCIAL
A14: ASSENTAMENTO DE TUBOS E PECAS | B14: ASTU | C14: FORNEC E/OU ASSENT DE TUBO DE FERRO FUNDIDO JUNTA ELASTICA | D14: 0045 | G14: 97148 | H14: ASSENTAMENTO DE TUBO DE FERRO FUNDIDO PARA REDE DE ÁGUA, DN 400 MM, JUNTA ELÁSTICA, INSTALADO EM LOCAL COM NÍVEL ALTO DE INTERFERÊNCIAS (NÃO INCLUI FORNECIMENTO). AF_11/2017 | I14: M | J14: COEFICIENTE DE REPRESENTATIVIDADE | K14: 25,18 | L14: CAIXA REFERENCIAL
A15: ASSENTAMENTO DE TUBOS E PECAS | B15: ASTU | C15: FORNEC E/OU ASSENT DE TUBO DE FERRO FUNDIDO JUNTA ELASTICA | D15: 0045 | G15: 97149 | H15: ASSENTAMENTO DE TUBO DE FERRO FUNDIDO PARA REDE DE ÁGUA, DN 450 MM, JUNTA ELÁSTICA, INSTALADO EM LOCAL COM NÍVEL ALTO DE INTERFERÊNCIAS (NÃO INCLUI FORNECIMENTO). AF_11/2017 | I15: M | J15: COEFICIENTE DE REPRESENTATIVIDADE | K15: 27,77 | L15: CAIXA REFERENCIAL
A16: ASSENTAMENTO DE TUBOS E PECAS | B16: ASTU | C16: FORNEC E/OU ASSENT DE TUBO DE FERRO FUNDIDO JUNTA ELASTICA | D16: 0045 | G16: 97150 | H16: ASSENTAMENTO DE TUBO DE FERRO FUNDIDO PARA REDE DE ÁGUA, DN 500 MM, JUNTA ELÁSTICA, INSTALADO EM LOCAL COM NÍVEL ALTO DE INTERFERÊNCIAS (NÃO INCLUI FORNECIMENTO). AF_11/2017 | I16: M | J16: COEFICIENTE DE REPRESENTATIVIDADE | K16: 35,22 | L16: CAIXA REFERENCIAL
A17: ASSENTAMENTO DE TUBOS E PECAS | B17: ASTU | C17: FORNEC E/OU ASSENT DE TUBO DE FERRO FUNDIDO JUNTA ELASTICA | D17: 0045 | G17: 97151 | H17: ASSENTAMENTO DE TUBO DE FERRO FUNDIDO PARA REDE DE ÁGUA, DN 600 MM, JUNTA ELÁSTICA, INSTALADO EM LOCAL COM NÍVEL ALTO DE INTERFERÊNCIAS (NÃO INCLUI FORNECIMENTO). AF_11/2017 | I17: M | J17: COEFICIENTE DE REPRESENTATIVIDADE | K17: 41,08 | L17: CAIXA REFERENCIAL
A18: ASSENTAMENTO DE TUBOS E PECAS | B18: ASTU | C18: FORNEC E/OU ASSENT DE TUBO DE FERRO FUNDIDO JUNTA ELASTICA | D18: 0045 | G18: 97152 | H18: ASSENTAMENTO DE TUBO DE FERRO FUNDIDO PARA REDE DE ÁGUA, DN 700 MM, JUNTA ELÁSTICA, INSTALADO EM LOCAL COM NÍVEL ALTO DE INTERFERÊNCIAS (NÃO INCLUI FORNECIMENTO). AF_11/2017 | I18: M | J18: COEFICIENTE DE REPRESENTATIVIDADE | K18: 46,66 | L18: CAIXA REFERENCIAL
... A6830: SERVICOS PRELIMINARES | B6830: SERP | C6830: DEMOLICOES/RETIRADAS | D6830: 0014 | G6830: 97627 | H6830: DEMOLIÇÃO DE PILARES E VIGAS EM CONCRETO ARMADO, DE FORMA MECANIZADA COM MARTELETE, SEM REAPROVEITAMENTO. AF_12/2017 | I6830: M3 | J6830: ATRIBUÍDO SÃO PAULO | K6830: 301,05 | L6830: CAIXA REFERENCIAL
A6831: SERVICOS PRELIMINARES | B6831: SERP | C6831: DEMOLICOES/RETIRADAS | D6831: 0014 | G6831: 97628 | H6831: DEMOLIÇÃO DE LAJES, DE FORMA MANUAL, SEM REAPROVEITAMENTO. AF_12/2017 | I6831: M3 | J6831: COLETADO | K6831: 293,28 | L6831: CAIXA REFERENCIAL
A6832: SERVICOS PRELIMINARES | B6832: SERP | C6832: DEMOLICOES/RETIRADAS | D6832: 0014 | G6832: 97629 | H6832: DEMOLIÇÃO DE LAJES, DE FORMA MECANIZADA COM MARTELETE, SEM REAPROVEITAMENTO. AF_12/2017 | I6832: M3 | J6832: ATRIBUÍDO SÃO PAULO | K6832: 133,17 | L6832: CAIXA REFERENCIAL
A6833: SERVICOS PRELIMINARES | B6833: SERP | C6833: DEMOLICOES/RETIRADAS | D6833: 0014 | G6833: 97631 | H6833: DEMOLIÇÃO DE ARGAMASSAS, DE FORMA MANUAL, SEM REAPROVEITAMENTO. AF_12/2017 | I6833: M2 | J6833: COLETADO | K6833: 3,47 | L6833: CAIXA REFERENCIAL
A6834: SERVICOS PRELIMINARES | B6834: SERP | C6834: DEMOLICOES/RETIRADAS | D6834: 0014 | G6834: 97632 | H6834: DEMOLIÇÃO DE RODAPÉ CERÂMICO, DE FORMA MANUAL, SEM REAPROVEITAMENTO. AF_12/2017 | I6834: M | J6834: COEFICIENTE DE REPRESENTATIVIDADE | K6834: 2,71 | L6834: CAIXA REFERENCIAL
A6835: SERVICOS PRELIMINARES | B6835: SERP | C6835: DEMOLICOES/RETIRADAS | D6835: 0014 | G6835: 97633 | H6835: DEMOLIÇÃO DE REVESTIMENTO CERÂMICO, DE FORMA MANUAL, SEM REAPROVEITAMENTO. AF_12/2017 | I6835: M2 | J6835: COEFICIENTE DE REPRESENTATIVIDADE | K6835: 23,73 | L6835: CAIXA REFERENCIAL
A6836: SERVICOS PRELIMINARES | B6836: SERP | C6836: DEMOLICOES/RETIRADAS | D6836: 0014 | G6836: 97634 | H6836: DEMOLIÇÃO DE REVESTIMENTO CERÂMICO, DE FORMA MECANIZADA COM MARTELETE, SEM REAPROVEITAMENTO. AF_12/2017 | I6836: M2 | J6836: ATRIBUÍDO SÃO PAULO | K6836: 12,85 | L6836: CAIXA REFERENCIAL
A6837: SERVICOS PRELIMINARES | B6837: SERP | C6837: DEMOLICOES/RETIRADAS | D6837: 0014 | G6837: 97635 | H6837: DEMOLIÇÃO DE PAVIMENTO INTERTRAVADO, DE FORMA MANUAL, COM REAPROVEITAMENTO. AF_12/2017 | I6837: M2 | J6837: COEFICIENTE DE REPRESENTATIVIDADE | K6837: 15,40 | L6837: CAIXA REFERENCIAL
A6838: SERVICOS PRELIMINARES | B6838: SERP | C6838: DEMOLICOES/RETIRADAS | D6838: 0014 | G6838: 97636 | H6838: DEMOLIÇÃO PARCIAL DE PAVIMENTO ASFÁLTICO, DE FORMA MECANIZADA, SEM REAPROVEITAMENTO. AF_12/2017 | I6838: M2 | J6838: COEFICIENTE DE REPRESENTATIVIDADE | K6838: 19,26 | L6838: CAIXA REFERENCIAL
A6839: SERVICOS PRELIMINARES | B6839: SERP | C6839: DEMOLICOES/RETIRADAS | D6839: 0014 | G6839: 97637 | H6839: REMOÇÃO DE TAPUME/ CHAPAS METÁLICAS E DE MADEIRA, DE FORMA MANUAL, SEM REAPROVEITAMENTO. AF_12/2017 | I6839: M2 | J6839: COEFICIENTE DE REPRESENTATIVIDADE | K6839: 2,88 | L6839: CAIXA REFERENCIAL
A6840: SERVICOS PRELIMINARES | B6840: SERP | C6840: DEMOLICOES/RETIRADAS | D6840: 0014 | G6840: 97638 | H6840: REMOÇÃO DE CHAPAS E PERFIS DE DRYWALL, DE FORMA MANUAL, SEM REAPROVEITAMENTO. AF_12/2017 | I6840: M2 | J6840: COEFICIENTE DE REPRESENTATIVIDADE | K6840: 8,40 | L6840: CAIXA REFERENCIAL
A6841: SERVICOS PRELIMINARES | B6841: SERP | C6841: DEMOLICOES/RETIRADAS | D6841: 0014 | G6841: 97639 | H6841: REMOÇÃO DE PLACAS E PILARETES DE CONCRETO, DE FORMA MANUAL, SEM REAPROVEITAMENTO. AF_12/2017 | I6841: M2 | J6841: COLETADO | K6841: 20,96 | L6841: CAIXA REFERENCIAL
A6842: SERVICOS PRELIMINARES | B6842: SERP | C6842: DEMOLICOES/RETIRADAS | D6842: 0014 | G6842: 97640 | H6842: REMOÇÃO DE FORROS DE DRYWALL, PVC E FIBROMINERAL, DE FORMA MANUAL, SEM REAPROVEITAMENTO. AF_12/2017 | I6842: M2 | J6842: COEFICIENTE DE REPRESENTATIVIDADE | K6842: 1,82 | L6842: CAIXA REFERENCIAL
A6843: SERVICOS PRELIMINARES | B6843: SERP | C6843: DEMOLICOES/RETIRADAS | D6843: 0014 | G6843: 97641 | H6843: REMOÇÃO DE FORRO DE GESSO, DE FORMA MANUAL, SEM REAPROVEITAMENTO. AF_12/2017 | I6843: M2 | J6843: COEFICIENTE DE REPRESENTATIVIDADE | K6843: 5,17 | L6843: CAIXA REFERENCIAL
... A7515: SERVICOS DIVERSOS | B7515: SEDI | C7515: OUTROS | D7515: 0318 | G7515: 101460 | H7515: VIGIA DIURNO COM ENCARGOS COMPLEMENTARES | I7515: MES | J7515: COEFICIENTE DE REPRESENTATIVIDADE | K7515: 4.091,19 | L7515: ENCARGOS COMPLEMENTARES REFERENCIAL

Sheet PR2021_07_NaoDesonerado
A1: PCI.817.01 - CUSTO DE COMPOSIÇÕES - SINTÉTICO DATA DE EMISSÃO: 17/01/2023 23:50:56 DATA DE RT: 13/01/2023
A2: ENCARGOS SOCIAIS SOBRE PREÇOS DA MÃO-DE-OBRA: 117,00%(HORA) 72,68%(MÊS)
A3: ABRANGÊNCIA : NACIONAL LOCALIDADE : CURITIBA DATA DE PREÇO : 12/2022 REFERÊNCIA COLETA : MEDIANO
A5: DESCRICAO DA CLASSE | B5: SIGLA DA CLASSE | C5: DESCRICAO DO TIPO 1 | D5: SIGLA DO TIPO 1 | E5: CODIGO DO AGRUPADOR | F5: DESCRICAO DO AGRUPADOR | G5: CODIGO DA COMPOSICAO | H5: DESCRICAO DA COMPOSICAO | I5: UNIDADE | J5: ORIGEM DE PREÇO | K5: CUSTO TOTAL | L5: VINCULO
A7: ASSENTAMENTO DE TUBOS E PECAS | B7: ASTU | C7: FORNEC E/OU ASSENT DE TUBO DE FERRO FUNDIDO JUNTA ELASTICA | D7: 0045 | G7: 97141 | H7: ASSENTAMENTO DE TUBO DE FERRO FUNDIDO PARA REDE DE ÁGUA, DN 80 MM, JUNTA ELÁSTICA, INSTALADO EM LOCAL COM NÍVEL ALTO DE INTERFERÊNCIAS (NÃO INCLUI FORNECIMENTO). AF_11/2017 | I7: M | J7: COEFICIENTE DE REPRESENTATIVIDADE | K7: 9,57 | L7: CAIXA REFERENCIAL
A8: ASSENTAMENTO DE TUBOS E PECAS | B8: ASTU | C8: FORNEC E/OU ASSENT DE TUBO DE FERRO FUNDIDO JUNTA ELASTICA | D8: 0045 | G8: 97142 | H8: ASSENTAMENTO DE TUBO DE FERRO FUNDIDO PARA REDE DE ÁGUA, DN 100 MM, JUNTA ELÁSTICA, INSTALADO EM LOCAL COM NÍVEL ALTO DE INTERFERÊNCIAS (NÃO INCLUI FORNECIMENTO). AF_11/2017 | I8: M | J8: COEFICIENTE DE REPRESENTATIVIDADE | K8: 10,67 | L8: CAIXA REFERENCIAL
A9: ASSENTAMENTO DE TUBOS E PECAS | B9: ASTU | C9: FORNEC E/OU ASSENT DE TUBO DE FERRO FUNDIDO JUNTA ELASTICA | D9: 0045 | G9: 97143 | H9: ASSENTAMENTO DE TUBO DE FERRO FUNDIDO PARA REDE DE ÁGUA, DN 150 MM, JUNTA ELÁSTICA, INSTALADO EM LOCAL COM NÍVEL ALTO DE INTERFERÊNCIAS (NÃO INCLUI FORNECIMENTO). AF_11/2017 | I9: M | J9: COEFICIENTE DE REPRESENTATIVIDADE | K9: 13,45 | L9: CAIXA REFERENCIAL
A10: ASSENTAMENTO DE TUBOS E PECAS | B10: ASTU | C10: FORNEC E/OU ASSENT DE TUBO DE FERRO FUNDIDO JUNTA ELASTICA | D10: 0045 | G10: 97144 | H10: ASSENTAMENTO DE TUBO DE FERRO FUNDIDO PARA REDE DE ÁGUA, DN 200 MM, JUNTA ELÁSTICA, INSTALADO EM LOCAL COM NÍVEL ALTO DE INTERFERÊNCIAS (NÃO INCLUI FORNECIMENTO). AF_11/2017 | I10: M | J10: COEFICIENTE DE REPRESENTATIVIDADE | K10: 16,19 | L10: CAIXA REFERENCIAL
A11: ASSENTAMENTO DE TUBOS E PECAS | B11: ASTU | C11: FORNEC E/OU ASSENT DE TUBO DE FERRO FUNDIDO JUNTA ELASTICA | D11: 0045 | G11: 97145 | H11: ASSENTAMENTO DE TUBO DE FERRO FUNDIDO PARA REDE DE ÁGUA, DN 250 MM, JUNTA ELÁSTICA, INSTALADO EM LOCAL COM NÍVEL ALTO DE INTERFERÊNCIAS (NÃO INCLUI FORNECIMENTO). AF_11/2017 | I11: M | J11: COEFICIENTE DE REPRESENTATIVIDADE | K11: 18,98 | L11: CAIXA REFERENCIAL
A12: ASSENTAMENTO DE TUBOS E PECAS | B12: ASTU | C12: FORNEC E/OU ASSENT DE TUBO DE FERRO FUNDIDO JUNTA ELASTICA | D12: 0045 | G12: 97146 | H12: ASSENTAMENTO DE TUBO DE FERRO FUNDIDO PARA REDE DE ÁGUA, DN 300 MM, JUNTA ELÁSTICA, INSTALADO EM LOCAL COM NÍVEL ALTO DE INTERFERÊNCIAS (NÃO INCLUI FORNECIMENTO). AF_11/2017 | I12: M | J12: COEFICIENTE DE REPRESENTATIVIDADE | K12: 21,76 | L12: CAIXA REFERENCIAL
A13: ASSENTAMENTO DE TUBOS E PECAS | B13: ASTU | C13: FORNEC E/OU ASSENT DE TUBO DE FERRO FUNDIDO JUNTA ELASTICA | D13: 0045 | G13: 97147 | H13: ASSENTAMENTO DE TUBO DE FERRO FUNDIDO PARA REDE DE ÁGUA, DN 350 MM, JUNTA ELÁSTICA, INSTALADO EM LOCAL COM NÍVEL ALTO DE INTERFERÊNCIAS (NÃO INCLUI FORNECIMENTO). AF_11/2017 | I13: M | J13: COEFICIENTE DE REPRESENTATIVIDADE | K13: 24,55 | L13: CAIXA REFERENCIAL
A14: ASSENTAMENTO DE TUBOS E PECAS | B14: ASTU | C14: FORNEC E/OU ASSENT DE TUBO DE FERRO FUNDIDO JUNTA ELASTICA | D14: 0045 | G14: 97148 | H14: ASSENTAMENTO DE TUBO DE FERRO FUNDIDO PARA REDE DE ÁGUA, DN 400 MM, JUNTA ELÁSTICA, INSTALADO EM LOCAL COM NÍVEL ALTO DE INTERFERÊNCIAS (NÃO INCLUI FORNECIMENTO). AF_11/2017 | I14: M | J14: COEFICIENTE DE REPRESENTATIVIDADE | K14: 27,32 | L14: CAIXA REFERENCIAL
A15: ASSENTAMENTO DE TUBOS E PECAS | B15: ASTU | C15: FORNEC E/OU ASSENT DE TUBO DE FERRO FUNDIDO JUNTA ELASTICA | D15: 0045 | G15: 97149 | H15: ASSENTAMENTO DE TUBO DE FERRO FUNDIDO PARA REDE DE ÁGUA, DN 450 MM, JUNTA ELÁSTICA, INSTALADO EM LOCAL COM NÍVEL ALTO DE INTERFERÊNCIAS (NÃO INCLUI FORNECIMENTO). AF_11/2017 | I15: M | J15: COEFICIENTE DE REPRESENTATIVIDADE | K15: 30,16 | L15: CAIXA REFERENCIAL
A16: ASSENTAMENTO DE TUBOS E PECAS | B16: ASTU | C16: FORNEC E/OU ASSENT DE TUBO DE FERRO FUNDIDO JUNTA ELASTICA | D16: 0045 | G16: 97150 | H16: ASSENTAMENTO DE TUBO DE FERRO FUNDIDO PARA REDE DE ÁGUA, DN 500 MM, JUNTA ELÁSTICA, INSTALADO EM LOCAL COM NÍVEL ALTO DE INTERFERÊNCIAS (NÃO INCLUI FORNECIMENTO). AF_11/2017 | I16: M | J16: COEFICIENTE DE REPRESENTATIVIDADE | K16: 37,83 | L16: CAIXA REFERENCIAL
A17: ASSENTAMENTO DE TUBOS E PECAS | B17: ASTU | C17: FORNEC E/OU ASSENT DE TUBO DE FERRO FUNDIDO JUNTA ELASTICA | D17: 0045 | G17: 97151 | H17: ASSENTAMENTO DE TUBO DE FERRO FUNDIDO PARA REDE DE ÁGUA, DN 600 MM, JUNTA ELÁSTICA, INSTALADO EM LOCAL COM NÍVEL ALTO DE INTERFERÊNCIAS (NÃO INCLUI FORNECIMENTO). AF_11/2017 | I17: M | J17: COEFICIENTE DE REPRESENTATIVIDADE | K17: 44,17 | L17: CAIXA REFERENCIAL
A18: ASSENTAMENTO DE TUBOS E PECAS | B18: ASTU | C18: FORNEC E/OU ASSENT DE TUBO DE FERRO FUNDIDO JUNTA ELASTICA | D18: 0045 | G18: 97152 | H18: ASSENTAMENTO DE TUBO DE FERRO FUNDIDO PARA REDE DE ÁGUA, DN 700 MM, JUNTA ELÁSTICA, INSTALADO EM LOCAL COM NÍVEL ALTO DE INTERFERÊNCIAS (NÃO INCLUI FORNECIMENTO). AF_11/2017 | I18: M | J18: COEFICIENTE DE REPRESENTATIVIDADE | K18: 50,17 | L18: CAIXA REFERENCIAL
... A7515: SERVICOS DIVERSOS | B7515: SEDI | C7515: OUTROS | D7515: 0318 | G7515: 101460 | H7515: VIGIA DIURNO COM ENCARGOS COMPLEMENTARES | I7515: MES | J7515: COEFICIENTE DE REPRESENTATIVIDADE | K7515: 4.515,01 | L7515: ENCARGOS COMPLEMENTARES REFERENCIAL
