Workbook
Name ___xlnm.Print_Area_2: #REF!
Name ___xlnm.Print_Titles_2: #REF!
Name ___xlnm.Print_Titles_3: #REF!
Name __Anonymous_Sheet_DB__0: #REF!
Name __xlnm.Print_Area_2: #REF!
Name __xlnm.Print_Area_3: #REF!
Name __xlnm.Print_Area_3_1: #REF!
Name __xlnm.Print_Titles_2: #REF!
Name __xlnm.Print_Titles_3: #REF!
Name _R10P: #REF!
Name _R10R: #REF!
Name _R11P: #REF!
Name _R11R: #REF!
Name _R12P: #REF!
Name _R12R: #REF!
Name _R13P: #REF!
Name _R13R: #REF!
Name _R14P: #REF!
Name _R14R: #REF!
Name _R15P: #REF!
Name _R15R: #REF!
Name _R16P: #REF!
Name _R16R: #REF!
Name _R17P: #REF!
Name _R17R: #REF!
Name _R18P: #REF!
Name _R18R: #REF!
Name _R19P: #REF!
Name _R19R: #REF!
Name _R1P: #REF!
Name _R1R: #REF!
Name _R20P: #REF!
Name _R20R: #REF!
Name _R21P: #REF!
Name _R21R: #REF!
Name _R22P: #REF!
Name _R22R: #REF!
Name _R23P: #REF!
Name _R23R: #REF!
Name _R24P: #REF!
Name _R24R: #REF!
Name _R2P: #REF!
Name _R2R: #REF!
Name _R3P: #REF!
Name _R3R: #REF!
Name _R4P: #REF!
Name _R4R: #REF!
Name _R5P: #REF!
Name _R5R: #REF!
Name _R6P: #REF!
Name _R6R: #REF!
Name _R7P: #REF!
Name _R7R: #REF!
Name _R8P: #REF!
Name _R8R: #REF!
Name _R9P: #REF!
Name _R9R: #REF!
Name _RP1: #REF!
Name _RP10: #REF!
Name _RP11: #REF!

Sheet base (2)
A1: N | B1: 3 | E1: 1 | F1: 2 | G1: 3 | H1: 4 | I1: 5 | J1: 6 | K1: 7 | L1: 8 | M1: 9 | N1: 10 | O1: 11 | P1: 12
A2: =CONCATENATE($B$1,"|",B2) -> 3|1 | B2: 1 | C2: SERVIÇOS PRELIMINARES E ADMINISTRAÇÃO DA OBRA | D2: 1 | E2: 50 | F2: 50 | R2: =SUM(E2:P2) -> 100
A3: =CONCATENATE($B$1,"|",B3) -> 3|2 | B3: 2 | C3: MOVIMENTO DE TERRA, DRENAGEM E ÁGUAS PLUVIAIS | D3: 2 | E3: 40 | F3: 50 | G3: 10 | R3: =SUM(E3:P3) -> 100
A4: =CONCATENATE($B$1,"|",B4) -> 3|3 | B4: 3 | C4: FUNDACOES | D4: 3 | E4: 60 | F4: 40 | R4: =SUM(E4:P4) -> 100
A5: =CONCATENATE($B$1,"|",B5) -> 3|4 | B5: 4 | C5: ESTRUTURAS | D5: 4 | E5: 20 | F5: 50 | G5: 30 | R5: =SUM(E5:P5) -> 100
A6: =CONCATENATE($B$1,"|",B6) -> 3|5 | B6: 5 | C6: ALVENARIA, DIVISÓRIAS, MUROS E FECHOS | D6: 5 | E6: 10 | F6: 50 | G6: 40 | R6: =SUM(E6:P6) -> 100
A7: =CONCATENATE($B$1,"|",B7) -> 3|6 | B7: 6 | C7: COBERTURA | F7: 30 | G7: 70 | R7: =SUM(E7:P7) -> 100
A8: =CONCATENATE($B$1,"|",B8) -> 3|7 | B8: 7 | C8: ESQUADRIAS, ACESSORIOS, VIDROS E ESPELHOS | D8: 3 | F8: 40 | G8: 60 | R8: =SUM(E8:P8) -> 100
A9: =CONCATENATE($B$1,"|",B9) -> 3|8 | B9: 8 | C9: INSTAL. ELETRICAS, TELEFONIA, SISTEMAS DE PROTEÇÃO E VENTILAÇÃO | D9: 5 | E9: 10 | F9: 50 | G9: 40 | R9: =SUM(E9:P9) -> 100
A10: =CONCATENATE($B$1,"|",B10) -> 3|9 | B10: 9 | C10: INSTAL. HIDROSANITÁRIAS, GAS-GLP, INCÊNDIO E APARELHOS | E10: 20 | F10: 50 | G10: 30 | R10: =SUM(E10:P10) -> 100
A11: =CONCATENATE($B$1,"|",B11) -> 3|10 | B11: 10 | C11: REVESTIMENTOS DE PAREDES E PISOS, IMPERMEABILIZACÕES, PINTURAS E ARGAMASSAS | D11: 6 | F11: 40 | G11: 60 | R11: =SUM(E11:P11) -> 100
A12: =CONCATENATE($B$1,"|",B12) -> 3|11 | B12: 11 | C12: PAVIMENTACAO E CALCAMENTO, PAISAGISMO E EQUIPAMENTOS EXTERNOS | D12: 6 | E12: 20 | F12: 40 | G12: 40 | R12: =SUM(E12:P12) -> 100
A13: =CONCATENATE($B$1,"|",B13) -> 3|12 | B13: 12 | C13: DIVERSOS (LIMPEZA,ENSAIOS TECNOLÓGICOS, EQUIPAMENTOS) | E13: 20 | F13: 40 | G13: 40 | R13: =SUM(E13:P13) -> 100
A15: N | B15: 4 | E15: 1 | F15: 2 | G15: 3 | H15: 4 | I15: 5 | J15: 6 | K15: 7 | L15: 8 | M15: 9 | N15: 10 | O15: 11 | P15: 12
A16: =CONCATENATE($B$15,"|",B16) -> 4|1 | B16: 1 | C16: SERVIÇOS PRELIMINARES E ADMINISTRAÇÃO DA OBRA | D16: 1 | E16: 50 | F16: 50 | R16: =SUM(E16:P16) -> 100
A17: =CONCATENATE($B$15,"|",B17) -> 4|2 | B17: 2 | C17: MOVIMENTO DE TERRA, DRENAGEM E ÁGUAS PLUVIAIS | D17: 2 | E17: 30 | F17: 40 | G17: 20 | H17: 10 | R17: =SUM(E17:P17) -> 100
A18: =CONCATENATE($B$15,"|",B18) -> 4|3 | B18: 3 | C18: FUNDACOES | D18: 3 | E18: 50 | F18: 40 | G18: 10 | R18: =SUM(E18:P18) -> 100
A19: =CONCATENATE($B$15,"|",B19) -> 4|4 | B19: 4 | C19: ESTRUTURAS | D19: 4 | E19: 20 | F19: 40 | G19: 20 | H19: 20 | R19: =SUM(E19:P19) -> 100
A20: =CONCATENATE($B$15,"|",B20) -> 4|5 | B20: 5 | C20: ALVENARIA, DIVISÓRIAS, MUROS E FECHOS | D20: 5 | E20: 10 | F20: 30 | G20: 40 | H20: 20 | R20: =SUM(E20:P20) -> 100
A21: =CONCATENATE($B$15,"|",B21) -> 4|6 | B21: 6 | C21: COBERTURA | F21: 10 | G21: 70 | H21: 20 | R21: =SUM(E21:P21) -> 100
A22: =CONCATENATE($B$15,"|",B22) -> 4|7 | B22: 7 | C22: ESQUADRIAS, ACESSORIOS, VIDROS E ESPELHOS | F22: 30 | G22: 30 | H22: 40 | R22: =SUM(E22:P22) -> 100
A23: =CONCATENATE($B$15,"|",B23) -> 4|8 | B23: 8 | C23: INSTAL. ELETRICAS, TELEFONIA, SISTEMAS DE PROTEÇÃO E VENTILAÇÃO | D23: 3 | E23: 10 | F23: 30 | G23: 30 | H23: 30 | R23: =SUM(E23:P23) -> 100
A24: =CONCATENATE($B$15,"|",B24) -> 4|9 | B24: 9 | C24: INSTAL. HIDROSANITÁRIAS, GAS-GLP, INCÊNDIO E APARELHOS | D24: 5 | E24: 20 | F24: 30 | G24: 30 | H24: 20 | R24: =SUM(E24:P24) -> 100
A25: =CONCATENATE($B$15,"|",B25) -> 4|10 | B25: 10 | C25: REVESTIMENTOS DE PAREDES E PISOS, IMPERMEABILIZACÕES, PINTURAS E ARGAMASSAS | D25: 6 | F25: 30 | G25: 40 | H25: 30 | R25: =SUM(E25:P25) -> 100
A26: =CONCATENATE($B$15,"|",B26) -> 4|11 | B26: 11 | C26: PAVIMENTACAO E CALCAMENTO, PAISAGISMO E EQUIPAMENTOS EXTERNOS | D26: 6 | E26: 10 | F26: 30 | G26: 30 | H26: 30 | R26: =SUM(E26:P26) -> 100
A27: =CONCATENATE($B$15,"|",B27) -> 4|12 | B27: 12 | C27: DIVERSOS (LIMPEZA,ENSAIOS TECNOLÓGICOS, EQUIPAMENTOS) | E27: 20 | F27: 20 | G27: 40 | H27: 20 | R27: =SUM(E27:P27) -> 100
A29: N | B29: 5 | E29: 1 | F29: 2 | G29: 3 | H29: 4 | I29: 5 | J29: 6 | K29: 7 | L29: 8 | M29: 9 | N29: 10 | O29: 11 | P29: 12
A30: =CONCATENATE($B$29,"|",B30) -> 5|1 | B30: 1 | C30: SERVIÇOS PRELIMINARES E ADMINISTRAÇÃO DA OBRA | D30: 1 | E30: 40 | F30: 40 | G30: 20 | R30: =SUM(E30:P30) -> 100
A31: =CONCATENATE($B$29,"|",B31) -> 5|2 | B31: 2 | C31: MOVIMENTO DE TERRA, DRENAGEM E ÁGUAS PLUVIAIS | D31: 2 | E31: 20 | F31: 30 | G31: 30 | H31: 10 | I31: 10 | R31: =SUM(E31:P31) -> 100
A32: =CONCATENATE($B$29,"|",B32) -> 5|3 | B32: 3 | C32: FUNDACOES | D32: 3 | E32: 40 | F32: 40 | G32: 20 | R32: =SUM(E32:P32) -> 100
A33: =CONCATENATE($B$29,"|",B33) -> 5|4 | B33: 4 | C33: ESTRUTURAS | D33: 4 | E33: 20 | F33: 20 | G33: 20 | H33: 20 | I33: 20 | R33: =SUM(E33:P33) -> 100
A34: =CONCATENATE($B$29,"|",B34) -> 5|5 | B34: 5 | C34: ALVENARIA, DIVISÓRIAS, MUROS E FECHOS | D34: 5 | E34: 5 | F34: 15 | G34: 20 | H34: 30 | I34: 30 | R34: =SUM(E34:P34) -> 100
A35: =CONCATENATE($B$29,"|",B35) -> 5|6 | B35: 6 | C35: COBERTURA | G35: 60 | H35: 40 | R35: =SUM(E35:P35) -> 100
A36: =CONCATENATE($B$29,"|",B36) -> 5|7 | B36: 7 | C36: ESQUADRIAS, ACESSORIOS, VIDROS E ESPELHOS | D36: 3 | F36: 10 | G36: 30 | H36: 30 | I36: 30 | R36: =SUM(E36:P36) -> 100
A37: =CONCATENATE($B$29,"|",B37) -> 5|8 | B37: 8 | C37: INSTAL. ELETRICAS, TELEFONIA, SISTEMAS DE PROTEÇÃO E VENTILAÇÃO | D37: 5 | E37: 10 | F37: 20 | G37: 30 | H37: 20 | I37: 20 | R37: =SUM(E37:P37) -> 100
A38: =CONCATENATE($B$29,"|",B38) -> 5|9 | B38: 9 | C38: INSTAL. HIDROSANITÁRIAS, GAS-GLP, INCÊNDIO E APARELHOS | D38: 6 | E38: 20 | F38: 20 | G38: 30 | H38: 20 | I38: 10 | R38: =SUM(E38:P38) -> 100
A39: =CONCATENATE($B$29,"|",B39) -> 5|10 | B39: 10 | C39: REVESTIMENTOS DE PAREDES E PISOS, IMPERMEABILIZACÕES, PINTURAS E ARGAMASSAS | D39: 6 | F39: 10 | G39: 30 | H39: 30 | I39: 30 | R39: =SUM(E39:P39) -> 100
A40: =CONCATENATE($B$29,"|",B40) -> 5|11 | B40: 11 | C40: PAVIMENTACAO E CALCAMENTO, PAISAGISMO E EQUIPAMENTOS EXTERNOS | E40: 10 | F40: 20 | G40: 20 | H40: 30 | I40: 20 | R40: =SUM(E40:P40) -> 100
A41: =CONCATENATE($B$29,"|",B41) -> 5|12 | B41: 12 | C41: DIVERSOS (LIMPEZA,ENSAIOS TECNOLÓGICOS, EQUIPAMENTOS) | E41: 20 | F41: 20 | G41: 20 | H41: 20 | I41: 20 | R41: =SUM(E41:P41) -> 100
A43: N | B43: 6 | E43: 1 | F43: 2 | G43: 3 | H43: 4 | I43: 5 | J43: 6 | K43: 7 | L43: 8 | M43: 9 | N43: 10 | O43: 11 | P43: 12
...

Sheet base (3)
A1: N | B1: 3 | E1: 1 | F1: 2 | G1: 3 | H1: 4 | I1: 5 | J1: 6 | K1: 7 | L1: 8 | M1: 9 | N1: 10 | O1: 11 | P1: 12
A2: =CONCATENATE($B$1,"|",B2) -> 3|1 | B2: 1 | C2: SERVIÇOS PRELIMINARES E ADMINISTRAÇÃO DA OBRA | D2: 1 | E2: 50 | F2: 50 | R2: =SUM(E2:P2) -> 100
A3: =CONCATENATE($B$1,"|",B3) -> 3|2 | B3: 2 | C3: MOVIMENTO DE TERRA, DRENAGEM E ÁGUAS PLUVIAIS | D3: 2 | E3: 40 | F3: 50 | G3: 10 | R3: =SUM(E3:P3) -> 100
A4: =CONCATENATE($B$1,"|",B4) -> 3|3 | B4: 3 | C4: FUNDACOES | D4: 3 | E4: 60 | F4: 40 | R4: =SUM(E4:P4) -> 100
A5: =CONCATENATE($B$1,"|",B5) -> 3|4 | B5: 4 | C5: ESTRUTURAS | D5: 4 | E5: 20 | F5: 50 | G5: 30 | R5: =SUM(E5:P5) -> 100
A6: =CONCATENATE($B$1,"|",B6) -> 3|5 | B6: 5 | C6: ALVENARIA, DIVISÓRIAS, MUROS E FECHOS | D6: 5 | E6: 10 | F6: 50 | G6: 40 | R6: =SUM(E6:P6) -> 100
A7: =CONCATENATE($B$1,"|",B7) -> 3|6 | B7: 6 | C7: COBERTURA | F7: 30 | G7: 70 | R7: =SUM(E7:P7) -> 100
A8: =CONCATENATE($B$1,"|",B8) -> 3|7 | B8: 7 | C8: ESQUADRIAS, ACESSORIOS, VIDROS E ESPELHOS | D8: 3 | F8: 40 | G8: 60 | R8: =SUM(E8:P8) -> 100
A9: =CONCATENATE($B$1,"|",B9) -> 3|8 | B9: 8 | C9: INSTAL. ELETRICAS, TELEFONIA, SISTEMAS DE PROTEÇÃO E VENTILAÇÃO | D9: 5 | E9: 10 | F9: 50 | G9: 40 | R9: =SUM(E9:P9) -> 100
A10: =CONCATENATE($B$1,"|",B10) -> 3|9 | B10: 9 | C10: INSTAL. HIDROSANITÁRIAS, GAS-GLP, INCÊNDIO E APARELHOS | E10: 20 | F10: 50 | G10: 30 | R10: =SUM(E10:P10) -> 100
A11: =CONCATENATE($B$1,"|",B11) -> 3|10 | B11: 10 | C11: REVESTIMENTOS DE PAREDES E PISOS, IMPERMEABILIZACÕES, PINTURAS E ARGAMASSAS | D11: 6 | F11: 40 | G11: 60 | R11: =SUM(E11:P11) -> 100
A12: =CONCATENATE($B$1,"|",B12) -> 3|11 | B12: 11 | C12: PAVIMENTACAO E CALCAMENTO, PAISAGISMO E EQUIPAMENTOS EXTERNOS | D12: 6 | E12: 20 | F12: 40 | G12: 40 | R12: =SUM(E12:P12) -> 100
A13: =CONCATENATE($B$1,"|",B13) -> 3|12 | B13: 12 | C13: DIVERSOS (LIMPEZA,ENSAIOS TECNOLÓGICOS, EQUIPAMENTOS) | E13: 20 | F13: 40 | G13: 40 | R13: =SUM(E13:P13) -> 100
A15: N | B15: 4 | E15: 1 | F15: 2 | G15: 3 | H15: 4 | I15: 5 | J15: 6 | K15: 7 | L15: 8 | M15: 9 | N15: 10 | O15: 11 | P15: 12
A16: =CONCATENATE($B$15,"|",B16) -> 4|1 | B16: 1 | C16: SERVIÇOS PRELIMINARES E ADMINISTRAÇÃO DA OBRA | D16: 1 | E16: 50 | F16: 50 | R16: =SUM(E16:P16) -> 100
A17: =CONCATENATE($B$15,"|",B17) -> 4|2 | B17: 2 | C17: MOVIMENTO DE TERRA, DRENAGEM E ÁGUAS PLUVIAIS | D17: 2 | E17: 30 | F17: 40 | G17: 20 | H17: 10 | R17: =SUM(E17:P17) -> 100
A18: =CONCATENATE($B$15,"|",B18) -> 4|3 | B18: 3 | C18: FUNDACOES | D18: 3 | E18: 50 | F18: 40 | G18: 10 | R18: =SUM(E18:P18) -> 100
A19: =CONCATENATE($B$15,"|",B19) -> 4|4 | B19: 4 | C19: ESTRUTURAS | D19: 4 | E19: 20 | F19: 40 | G19: 20 | H19: 20 | R19: =SUM(E19:P19) -> 100
A20: =CONCATENATE($B$15,"|",B20) -> 4|5 | B20: 5 | C20: ALVENARIA, DIVISÓRIAS, MUROS E FECHOS | D20: 5 | E20: 10 | F20: 30 | G20: 40 | H20: 20 | R20: =SUM(E20:P20) -> 100
A21: =CONCATENATE($B$15,"|",B21) -> 4|6 | B21: 6 | C21: COBERTURA | F21: 10 | G21: 70 | H21: 20 | R21: =SUM(E21:P21) -> 100
A22: =CONCATENATE($B$15,"|",B22) -> 4|7 | B22: 7 | C22: ESQUADRIAS, ACESSORIOS, VIDROS E ESPELHOS | F22: 30 | G22: 30 | H22: 40 | R22: =SUM(E22:P22) -> 100
A23: =CONCATENATE($B$15,"|",B23) -> 4|8 | B23: 8 | C23: INSTAL. ELETRICAS, TELEFONIA, SISTEMAS DE PROTEÇÃO E VENTILAÇÃO | D23: 3 | E23: 10 | F23: 30 | G23: 30 | H23: 30 | R23: =SUM(E23:P23) -> 100
A24: =CONCATENATE($B$15,"|",B24) -> 4|9 | B24: 9 | C24: INSTAL. HIDROSANITÁRIAS, GAS-GLP, INCÊNDIO E APARELHOS | D24: 5 | E24: 20 | F24: 30 | G24: 30 | H24: 20 | R24: =SUM(E24:P24) -> 100
A25: =CONCATENATE($B$15,"|",B25) -> 4|10 | B25: 10 | C25: REVESTIMENTOS DE PAREDES E PISOS, IMPERMEABILIZACÕES, PINTURAS E ARGAMASSAS | D25: 6 | F25: 30 | G25: 40 | H25: 30 | R25: =SUM(E25:P25) -> 100
A26: =CONCATENATE($B$15,"|",B26) -> 4|11 | B26: 11 | C26: PAVIMENTACAO E CALCAMENTO, PAISAGISMO E EQUIPAMENTOS EXTERNOS | D26: 6 | E26: 10 | F26: 30 | G26: 30 | H26: 30 | R26: =SUM(E26:P26) -> 100
A27: =CONCATENATE($B$15,"|",B27) -> 4|12 | B27: 12 | C27: DIVERSOS (LIMPEZA,ENSAIOS TECNOLÓGICOS, EQUIPAMENTOS) | E27: 20 | F27: 20 | G27: 40 | H27: 20 | R27: =SUM(E27:P27) -> 100
A29: N | B29: 5 | E29: 1 | F29: 2 | G29: 3 | H29: 4 | I29: 5 | J29: 6 | K29: 7 | L29: 8 | M29: 9 | N29: 10 | O29: 11 | P29: 12
A30: =CONCATENATE($B$29,"|",B30) -> 5|1 | B30: 1 | C30: SERVIÇOS PRELIMINARES E ADMINISTRAÇÃO DA OBRA | D30: 1 | E30: 40 | F30: 40 | G30: 20 | R30: =SUM(E30:P30) -> 100
A31: =CONCATENATE($B$29,"|",B31) -> 5|2 | B31: 2 | C31: MOVIMENTO DE TERRA, DRENAGEM E ÁGUAS PLUVIAIS | D31: 2 | E31: 20 | F31: 30 | G31: 30 | H31: 10 | I31: 10 | R31: =SUM(E31:P31) -> 100
A32: =CONCATENATE($B$29,"|",B32) -> 5|3 | B32: 3 | C32: FUNDACOES | D32: 3 | E32: 40 | F32: 40 | G32: 20 | R32: =SUM(E32:P32) -> 100
A33: =CONCATENATE($B$29,"|",B33) -> 5|4 | B33: 4 | C33: ESTRUTURAS | D33: 4 | E33: 20 | F33: 20 | G33: 20 | H33: 20 | I33: 20 | R33: =SUM(E33:P33) -> 100
A34: =CONCATENATE($B$29,"|",B34) -> 5|5 | B34: 5 | C34: ALVENARIA, DIVISÓRIAS, MUROS E FECHOS | D34: 5 | E34: 5 | F34: 15 | G34: 20 | H34: 30 | I34: 30 | R34: =SUM(E34:P34) -> 100
A35: =CONCATENATE($B$29,"|",B35) -> 5|6 | B35: 6 | C35: COBERTURA | G35: 60 | H35: 40 | R35: =SUM(E35:P35) -> 100
A36: =CONCATENATE($B$29,"|",B36) -> 5|7 | B36: 7 | C36: ESQUADRIAS, ACESSORIOS, VIDROS E ESPELHOS | D36: 3 | F36: 10 | G36: 30 | H36: 30 | I36: 30 | R36: =SUM(E36:P36) -> 100
A37: =CONCATENATE($B$29,"|",B37) -> 5|8 | B37: 8 | C37: INSTAL. ELETRICAS, TELEFONIA, SISTEMAS DE PROTEÇÃO E VENTILAÇÃO | D37: 5 | E37: 10 | F37: 20 | G37: 30 | H37: 20 | I37: 20 | R37: =SUM(E37:P37) -> 100
A38: =CONCATENATE($B$29,"|",B38) -> 5|9 | B38: 9 | C38: INSTAL. HIDROSANITÁRIAS, GAS-GLP, INCÊNDIO E APARELHOS | D38: 6 | E38: 20 | F38: 20 | G38: 30 | H38: 20 | I38: 10 | R38: =SUM(E38:P38) -> 100
A39: =CONCATENATE($B$29,"|",B39) -> 5|10 | B39: 10 | C39: REVESTIMENTOS DE PAREDES E PISOS, IMPERMEABILIZACÕES, PINTURAS E ARGAMASSAS | D39: 6 | F39: 10 | G39: 30 | H39: 30 | I39: 30 | R39: =SUM(E39:P39) -> 100
A40: =CONCATENATE($B$29,"|",B40) -> 5|11 | B40: 11 | C40: PAVIMENTACAO E CALCAMENTO, PAISAGISMO E EQUIPAMENTOS EXTERNOS | E40: 10 | F40: 20 | G40: 20 | H40: 30 | I40: 20 | R40: =SUM(E40:P40) -> 100
A41: =CONCATENATE($B$29,"|",B41) -> 5|12 | B41: 12 | C41: DIVERSOS (LIMPEZA,ENSAIOS TECNOLÓGICOS, EQUIPAMENTOS) | E41: 20 | F41: 20 | G41: 20 | H41: 20 | I41: 20 | R41: =SUM(E41:P41) -> 100
A43: N | B43: 6 | E43: 1 | F43: 2 | G43: 3 | H43: 4 | I43: 5 | J43: 6 | K43: 7 | L43: 8 | M43: 9 | N43: 10 | O43: 11 | P43: 12
...

Sheet Cronograma PAM
B1: PAM | C1: SECRETARIA DE ESTADO DO DESENVOLVIMENTO URBANO - SEDU | G1: CONSTRUÇÃO CIVIL
B2: Município: | C2: Piên | F2: SAM | G2: 76 | H2: Edital no Município | J2: Procedimento prévio | L2: Início previsto da Obra | N2: Convênio | P2: Repasse do Concedente | S2: 320000 | T2: =IF(S4=0,0,S2/S4) -> 0.75613052
B3: Projeto: | C3: CAMPO DE GRAMA SINTÉTICA COM ALAMBRADO | F3: Lote nº | G3: 1 | H3: Data | I3: 44650 | J3: Dias | K3: =80-10 -> 70 | L3: Data | M3: =I3+K3+10 -> 44730 | N3: nº | P3: Contrapartida do Proponente | S3: =S29-S2 -> 103207.36 | T3: =IF(S3=0,0,1-T2) -> 0.24386948
B4: Quantidade: | E4: CRONOGRAMA FÍSICO FINANCEIRO | P4: Valor Total | S4: =SUM(S2:S3) -> 423207.36 | T4: =SUM(T2:T3) -> 1 | W4: Controle
B5: GRUPO | C5: SERVIÇOS | E5: N | F5: PARCELAS (%) | S5: TOTAL | T5: % S/ | W5: =IF(S4=S61,"OK","erro") -> OK
B6: ITEM | E6: 6 | F6: =IF(E6=0,0,1) -> 1 | G6: =IF($E$6<2,0,2) -> 2 | H6: =IF($E$6<3,0,3) -> 3 | I6: =IF($E$6<4,0,4) -> 4 | J6: =IF($E$6<5,0,5) -> 5 | K6: =IF($E$6<6,0,6) -> 6 | L6: =IF($E$6<7,0,7) -> 0 | M6: =IF($E$6<8,0,8) -> 0 | N6: =IF($E$6<9,0,9) -> 0 | O6: =IF($E$6<10,0,10) -> 0 | P6: =IF($E$6<11,0,11) -> 0 | Q6: =IF($E$6<12,0,12) -> 0 | S6: ITEM (R$) | T6: TOTAL
C7: Data Início | F7: =IF(E6=0,0,M3) -> 44730 | G7: =IF(G6=0,0,F8+1) -> 44761 | H7: =IF(H6=0,0,G8+1) -> 44792 | I7: =IF(I6=0,0,H8+1) -> 44823 | J7: =IF(J6=0,0,I8+1) -> 44854 | K7: =IF(K6=0,0,J8+1) -> 44885 | L7: =IF(L6=0,0,K8+1) -> 0 | M7: =IF(M6=0,0,L8+1) -> 0 | N7: =IF(N6=0,0,M8+1) -> 0 | ... Q7: =IF(Q6=0,0,P8+1) -> 0
C8: Data Fim | F8: =IF(E6=0,0,F7+30) -> 44760 | G8: =IF(G6=0,0,G7+30) -> 44791 | H8: =IF(H6=0,0,H7+30) -> 44822 | I8: =IF(I6=0,0,I7+30) -> 44853 | J8: =IF(J6=0,0,J7+30) -> 44884 | K8: =IF(K6=0,0,K7+30) -> 44915 | L8: =IF(L6=0,0,L7+30) -> 0 | M8: =IF(M6=0,0,M7+30) -> 0 | N8: =IF(N6=0,0,N7+30) -> 0 | ... Q8: =IF(Q6=0,0,Q7+30) -> 0
A9: =CONCATENATE($E$6,"|",B9) -> 6|1 | B9: 1 | C9: SERVIÇOS PRELIMINARES E ADMINISTRAÇÃO DA OBRA | E9: 1 | F9: =IF(E$6<3,0,IF(F$6=0,0,VLOOKUP($A9,'base (3)'!$A:$P,F$6+4,FALSE))) -> 40 | G9: =IF(E$6<3,0,IF(G$6=0,0,VLOOKUP($A9,'base (3)'!$A:$P,G$6+4,FALSE))) -> 30 | H9: =IF(H$6=0,0,VLOOKUP($A9,'base (3)'!$A:$P,H$6+4,FALSE)) -> 30 | I9: =IF(I$6=0,0,VLOOKUP($A9,'base (3)'!$A:$P,I$6+4,FALSE)) -> 0 | J9: =IF(J$6=0,0,VLOOKUP($A9,'base (3)'!$A:$P,J$6+4,FALSE)) -> 0 | K9: =IF(K$6=0,0,VLOOKUP($A9,'base (3)'!$A:$P,K$6+4,FALSE)) -> 0 | L9: =IF(L$6=0,0,VLOOKUP($A9,'base (3)'!$A:$P,L$6+4,FALSE)) -> 0 | M9: =IF(M$6=0,0,VLOOKUP($A9,'base (3)'!$A:$P,M$6+4,FALSE)) -> 0 | N9: =IF(N$6=0,0,VLOOKUP($A9,'base (3)'!$A:$P,N$6+4,FALSE)) -> 0 | O9: =IF(O$6=0,0,VLOOKUP($A9,'base (3)'!$A:$P,O$6+4,FALSE)) -> 0 | ... Q9: =IF(Q$6=0,0,VLOOKUP($A9,'base (3)'!$A:$P,Q$6+4,FALSE)) -> 0 | S9: 16126.9 | T9: =IF($S$29=0,0,(S9/$S$29)*100) -> 3.8106379 | W9: =SUM(F9:Q9) -> 100
A10: =CONCATENATE($E$6,"|",B10) -> 6|2 | B10: 2 | C10: MOVIMENTO DE TERRA, DRENAGEM E ÁGUAS PLUVIAIS | E10: 2 | F10: =IF(E$6<3,0,IF(F$6=0,0,VLOOKUP($A10,'base (3)'!$A:$P,F$6+4,FALSE))) -> 20 | G10: =IF(E$6<3,0,IF(G$6=0,0,VLOOKUP($A10,'base (3)'!$A:$P,G$6+4,FALSE))) -> 30 | H10: =IF(H$6=0,0,VLOOKUP($A10,'base (3)'!$A:$P,H$6+4,FALSE)) -> 20 | I10: =IF(I$6=0,0,VLOOKUP($A10,'base (3)'!$A:$P,I$6+4,FALSE)) -> 10 | J10: =IF(J$6=0,0,VLOOKUP($A10,'base (3)'!$A:$P,J$6+4,FALSE)) -> 10 | K10: =IF(K$6=0,0,VLOOKUP($A10,'base (3)'!$A:$P,K$6+4,FALSE)) -> 10 | L10: =IF(L$6=0,0,VLOOKUP($A10,'base (3)'!$A:$P,L$6+4,FALSE)) -> 0 | M10: =IF(M$6=0,0,VLOOKUP($A10,'base (3)'!$A:$P,M$6+4,FALSE)) -> 0 | N10: =IF(N$6=0,0,VLOOKUP($A10,'base (3)'!$A:$P,N$6+4,FALSE)) -> 0 | O10: =IF(O$6=0,0,VLOOKUP($A10,'base (3)'!$A:$P,O$6+4,FALSE)) -> 0 | ... Q10: =IF(Q$6=0,0,VLOOKUP($A10,'base (3)'!$A:$P,Q$6+4,FALSE)) -> 0 | S10: 73683.46 | T10: =IF($S$29=0,0,(S10/$S$29)*100) -> 17.410723 | W10: =SUM(F10:Q10) -> 100
A11: =CONCATENATE($E$6,"|",B11) -> 6|3 | B11: 3 | C11: FUNDACOES | E11: 3 | F11: =IF(E$6<3,0,IF(F$6=0,0,VLOOKUP($A11,'base (3)'!$A:$P,F$6+4,FALSE))) -> 20 | G11: =IF(E$6<3,0,IF(G$6=0,0,VLOOKUP($A11,'base (3)'!$A:$P,G$6+4,FALSE))) -> 40 | H11: =IF(H$6=0,0,VLOOKUP($A11,'base (3)'!$A:$P,H$6+4,FALSE)) -> 40 | I11: =IF(I$6=0,0,VLOOKUP($A11,'base (3)'!$A:$P,I$6+4,FALSE)) -> 0 | J11: =IF(J$6=0,0,VLOOKUP($A11,'base (3)'!$A:$P,J$6+4,FALSE)) -> 0 | K11: =IF(K$6=0,0,VLOOKUP($A11,'base (3)'!$A:$P,K$6+4,FALSE)) -> 0 | L11: =IF(L$6=0,0,VLOOKUP($A11,'base (3)'!$A:$P,L$6+4,FALSE)) -> 0 | M11: =IF(M$6=0,0,VLOOKUP($A11,'base (3)'!$A:$P,M$6+4,FALSE)) -> 0 | N11: =IF(N$6=0,0,VLOOKUP($A11,'base (3)'!$A:$P,N$6+4,FALSE)) -> 0 | O11: =IF(O$6=0,0,VLOOKUP($A11,'base (3)'!$A:$P,O$6+4,FALSE)) -> 0 | ... Q11: =IF(Q$6=0,0,VLOOKUP($A11,'base (3)'!$A:$P,Q$6+4,FALSE)) -> 0 | S11: 4963.87 | T11: =IF($S$29=0,0,(S11/$S$29)*100) -> 1.1729167 | W11: =SUM(F11:Q11) -> 100
A12: =CONCATENATE($E$6,"|",B12) -> 6|4 | B12: 4 | C12: ESTRUTURAS | E12: 4 | F12: =IF(E$6<3,0,IF(F$6=0,0,VLOOKUP($A12,'base (3)'!$A:$P,F$6+4,FALSE))) -> 10 | G12: =IF(E$6<3,0,IF(G$6=0,0,VLOOKUP($A12,'base (3)'!$A:$P,G$6+4,FALSE))) -> 20 | H12: =IF(H$6=0,0,VLOOKUP($A12,'base (3)'!$A:$P,H$6+4,FALSE)) -> 20 | I12: =IF(I$6=0,0,VLOOKUP($A12,'base (3)'!$A:$P,I$6+4,FALSE)) -> 20 | J12: =IF(J$6=0,0,VLOOKUP($A12,'base (3)'!$A:$P,J$6+4,FALSE)) -> 20 | K12: =IF(K$6=0,0,VLOOKUP($A12,'base (3)'!$A:$P,K$6+4,FALSE)) -> 10 | L12: =IF(L$6=0,0,VLOOKUP($A12,'base (3)'!$A:$P,L$6+4,FALSE)) -> 0 | M12: =IF(M$6=0,0,VLOOKUP($A12,'base (3)'!$A:$P,M$6+4,FALSE)) -> 0 | N12: =IF(N$6=0,0,VLOOKUP($A12,'base (3)'!$A:$P,N$6+4,FALSE)) -> 0 | O12: =IF(O$6=0,0,VLOOKUP($A12,'base (3)'!$A:$P,O$6+4,FALSE)) -> 0 | ... Q12: =IF(Q$6=0,0,VLOOKUP($A12,'base (3)'!$A:$P,Q$6+4,FALSE)) -> 0 | S12: 37418.28 | T12: =IF($S$29=0,0,(S12/$S$29)*100) -> 8.8415948 | W12: =SUM(F12:Q12) -> 100
A13: =CONCATENATE($E$6,"|",B13) -> 6|5 | B13: 5 | C13: ALVENARIA, DIVISÓRIAS, MUROS E FECHOS | E13: 5 | F13: =IF(E$6<3,0,IF(F$6=0,0,VLOOKUP($A13,'base (3)'!$A:$P,F$6+4,FALSE))) -> 5 | G13: =IF(E$6<3,0,IF(G$6=0,0,VLOOKUP($A13,'base (3)'!$A:$P,G$6+4,FALSE))) -> 10 | H13: =IF(H$6=0,0,VLOOKUP($A13,'base (3)'!$A:$P,H$6+4,FALSE)) -> 20 | I13: =IF(I$6=0,0,VLOOKUP($A13,'base (3)'!$A:$P,I$6+4,FALSE)) -> 30 | J13: =IF(J$6=0,0,VLOOKUP($A13,'base (3)'!$A:$P,J$6+4,FALSE)) -> 25 | K13: =IF(K$6=0,0,VLOOKUP($A13,'base (3)'!$A:$P,K$6+4,FALSE)) -> 10 | L13: =IF(L$6=0,0,VLOOKUP($A13,'base (3)'!$A:$P,L$6+4,FALSE)) -> 0 | M13: =IF(M$6=0,0,VLOOKUP($A13,'base (3)'!$A:$P,M$6+4,FALSE)) -> 0 | N13: =IF(N$6=0,0,VLOOKUP($A13,'base (3)'!$A:$P,N$6+4,FALSE)) -> 0 | O13: =IF(O$6=0,0,VLOOKUP($A13,'base (3)'!$A:$P,O$6+4,FALSE)) -> 0 | ... Q13: =IF(Q$6=0,0,VLOOKUP($A13,'base (3)'!$A:$P,Q$6+4,FALSE)) -> 0 | S13: 126516.6 | T13: =IF($S$29=0,0,(S13/$S$29)*100) -> 29.894707 | W13: =SUM(F13:Q13) -> 100
A14: =CONCATENATE($E$6,"|",B14) -> 6|6 | B14: 6 | C14: COBERTURA | E14: 3 | F14: =IF(E$6<3,0,IF(F$6=0,0,VLOOKUP($A14,'base (3)'!$A:$P,F$6+4,FALSE))) -> 0 | G14: =IF(E$6<3,0,IF(G$6=0,0,VLOOKUP($A14,'base (3)'!$A:$P,G$6+4,FALSE))) -> 0 | H14: =IF(H$6=0,0,VLOOKUP($A14,'base (3)'!$A:$P,H$6+4,FALSE)) -> 50 | I14: =IF(I$6=0,0,VLOOKUP($A14,'base (3)'!$A:$P,I$6+4,FALSE)) -> 50 | J14: =IF(J$6=0,0,VLOOKUP($A14,'base (3)'!$A:$P,J$6+4,FALSE)) -> 0 | K14: =IF(K$6=0,0,VLOOKUP($A14,'base (3)'!$A:$P,K$6+4,FALSE)) -> 0 | L14: =IF(L$6=0,0,VLOOKUP($A14,'base (3)'!$A:$P,L$6+4,FALSE)) -> 0 | M14: =IF(M$6=0,0,VLOOKUP($A14,'base (3)'!$A:$P,M$6+4,FALSE)) -> 0 | N14: =IF(N$6=0,0,VLOOKUP($A14,'base (3)'!$A:$P,N$6+4,FALSE)) -> 0 | O14: =IF(O$6=0,0,VLOOKUP($A14,'base (3)'!$A:$P,O$6+4,FALSE)) -> 0 | ... Q14: =IF(Q$6=0,0,VLOOKUP($A14,'base (3)'!$A:$P,Q$6+4,FALSE)) -> 0 | T14: =IF($S$29=0,0,(S14/$S$29)*100) -> 0 | W14: =SUM(F14:Q14) -> 100
A15: =CONCATENATE($E$6,"|",B15) -> 6|7 | B15: 7 | C15: ESQUADRIAS, ACESSORIOS, VIDROS E ESPELHOS | E15: 5 | F15: =IF(E$6<3,0,IF(F$6=0,0,VLOOKUP($A15,'base (3)'!$A:$P,F$6+4,FALSE))) -> 0 | G15: =IF(E$6<3,0,IF(G$6=0,0,VLOOKUP($A15,'base (3)'!$A:$P,G$6+4,FALSE))) -> 0 | H15: =IF(H$6=0,0,VLOOKUP($A15,'base (3)'!$A:$P,H$6+4,FALSE)) -> 20 | I15: =IF(I$6=0,0,VLOOKUP($A15,'base (3)'!$A:$P,I$6+4,FALSE)) -> 30 | J15: =IF(J$6=0,0,VLOOKUP($A15,'base (3)'!$A:$P,J$6+4,FALSE)) -> 30 | K15: =IF(K$6=0,0,VLOOKUP($A15,'base (3)'!$A:$P,K$6+4,FALSE)) -> 20 | L15: =IF(L$6=0,0,VLOOKUP($A15,'base (3)'!$A:$P,L$6+4,FALSE)) -> 0 | M15: =IF(M$6=0,0,VLOOKUP($A15,'base (3)'!$A:$P,M$6+4,FALSE)) -> 0 | N15: =IF(N$6=0,0,VLOOKUP($A15,'base (3)'!$A:$P,N$6+4,FALSE)) -> 0 | O15: =IF(O$6=0,0,VLOOKUP($A15,'base (3)'!$A:$P,O$6+4,FALSE)) -> 0 | ... Q15: =IF(Q$6=0,0,VLOOKUP($A15,'base (3)'!$A:$P,Q$6+4,FALSE)) -> 0 | T15: =IF($S$29=0,0,(S15/$S$29)*100) -> 0 | W15: =SUM(F15:Q15) -> 100
A16: =CONCATENATE($E$6,"|",B16) -> 6|8 | B16: 8 | C16: INSTAL. ELETRICAS, TELEFONIA, SISTEMAS DE PROTEÇÃO E VENTILAÇÃO | E16: 6 | F16: =IF(E$6<3,0,IF(F$6=0,0,VLOOKUP($A16,'base (3)'!$A:$P,F$6+4,FALSE))) -> 10 | G16: =IF(E$6<3,0,IF(G$6=0,0,VLOOKUP($A16,'base (3)'!$A:$P,G$6+4,FALSE))) -> 10 | H16: =IF(H$6=0,0,VLOOKUP($A16,'base (3)'!$A:$P,H$6+4,FALSE)) -> 20 | I16: =IF(I$6=0,0,VLOOKUP($A16,'base (3)'!$A:$P,I$6+4,FALSE)) -> 20 | J16: =IF(J$6=0,0,VLOOKUP($A16,'base (3)'!$A:$P,J$6+4,FALSE)) -> 20 | K16: =IF(K$6=0,0,VLOOKUP($A16,'base (3)'!$A:$P,K$6+4,FALSE)) -> 20 | L16: =IF(L$6=0,0,VLOOKUP($A16,'base (3)'!$A:$P,L$6+4,FALSE)) -> 0 | M16: =IF(M$6=0,0,VLOOKUP($A16,'base (3)'!$A:$P,M$6+4,FALSE)) -> 0 | N16: =IF(N$6=0,0,VLOOKUP($A16,'base (3)'!$A:$P,N$6+4,FALSE)) -> 0 | O16: =IF(O$6=0,0,VLOOKUP($A16,'base (3)'!$A:$P,O$6+4,FALSE)) -> 0 | ... Q16: =IF(Q$6=0,0,VLOOKUP($A16,'base (3)'!$A:$P,Q$6+4,FALSE)) -> 0 | S16: 21964.69 | T16: =IF($S$29=0,0,(S16/$S$29)*100) -> 5.1900539 | W16: =SUM(F16:Q16) -> 100
A17: =CONCATENATE($E$6,"|",B17) -> 6|9 | B17: 9 | C17: INSTAL. HIDROSANITÁRIAS, GAS-GLP, INCÊNDIO E APARELHOS | E17: 6 | F17: =IF(E$6<3,0,IF(F$6=0,0,VLOOKUP($A17,'base (3)'!$A:$P,F$6+4,FALSE))) -> 10 | G17: =IF(E$6<3,0,IF(G$6=0,0,VLOOKUP($A17,'base (3)'!$A:$P,G$6+4,FALSE))) -> 20 | H17: =IF(H$6=0,0,VLOOKUP($A17,'base (3)'!$A:$P,H$6+4,FALSE)) -> 20 | I17: =IF(I$6=0,0,VLOOKUP($A17,'base (3)'!$A:$P,I$6+4,FALSE)) -> 20 | J17: =IF(J$6=0,0,VLOOKUP($A17,'base (3)'!$A:$P,J$6+4,FALSE)) -> 20 | K17: =IF(K$6=0,0,VLOOKUP($A17,'base (3)'!$A:$P,K$6+4,FALSE)) -> 10 | L17: =IF(L$6=0,0,VLOOKUP($A17,'base (3)'!$A:$P,L$6+4,FALSE)) -> 0 | M17: =IF(M$6=0,0,VLOOKUP($A17,'base (3)'!$A:$P,M$6+4,FALSE)) -> 0 | N17: =IF(N$6=0,0,VLOOKUP($A17,'base (3)'!$A:$P,N$6+4,FALSE)) -> 0 | O17: =IF(O$6=0,0,VLOOKUP($A17,'base (3)'!$A:$P,O$6+4,FALSE)) -> 0 | ... Q17: =IF(Q$6=0,0,VLOOKUP($A17,'base (3)'!$A:$P,Q$6+4,FALSE)) -> 0 | S17: 1014.42 | T17: =IF($S$29=0,0,(S17/$S$29)*100) -> 0.2396981 | W17: =SUM(F17:Q17) -> 100
A18: =CONCATENATE($E$6,"|",B18) -> 6|10 | B18: 10 | C18: REVESTIMENTOS DE PAREDES E PISOS, IMPERMEABILIZACÕES, PINTURAS E ARGAMASSAS | F18: =IF(E$6<3,0,IF(F$6=0,0,VLOOKUP($A18,'base (3)'!$A:$P,F$6+4,FALSE))) -> 0 | G18: =IF(E$6<3,0,IF(G$6=0,0,VLOOKUP($A18,'base (3)'!$A:$P,G$6+4,FALSE))) -> 0 | H18: =IF(H$6=0,0,VLOOKUP($A18,'base (3)'!$A:$P,H$6+4,FALSE)) -> 20 | I18: =IF(I$6=0,0,VLOOKUP($A18,'base (3)'!$A:$P,I$6+4,FALSE)) -> 30 | J18: =IF(J$6=0,0,VLOOKUP($A18,'base (3)'!$A:$P,J$6+4,FALSE)) -> 30 | K18: =IF(K$6=0,0,VLOOKUP($A18,'base (3)'!$A:$P,K$6+4,FALSE)) -> 20 | L18: =IF(L$6=0,0,VLOOKUP($A18,'base (3)'!$A:$P,L$6+4,FALSE)) -> 0 | M18: =IF(M$6=0,0,VLOOKUP($A18,'base (3)'!$A:$P,M$6+4,FALSE)) -> 0 | N18: =IF(N$6=0,0,VLOOKUP($A18,'base (3)'!$A:$P,N$6+4,FALSE)) -> 0 | O18: =IF(O$6=0,0,VLOOKUP($A18,'base (3)'!$A:$P,O$6+4,FALSE)) -> 0 | ... Q18: =IF(Q$6=0,0,VLOOKUP($A18,'base (3)'!$A:$P,Q$6+4,FALSE)) -> 0 | T18: =IF($S$29=0,0,(S18/$S$29)*100) -> 0 | W18: =SUM(F18:Q18) -> 100
A19: =CONCATENATE($E$6,"|",B19) -> 6|11 | B19: 11 | C19: PAVIMENTACAO E CALCAMENTO, PAISAGISMO E EQUIPAMENTOS EXTERNOS | F19: =IF(E$6<3,0,IF(F$6=0,0,VLOOKUP($A19,'base (3)'!$A:$P,F$6+4,FALSE))) -> 10 | G19: =IF(E$6<3,0,IF(G$6=0,0,VLOOKUP($A19,'base (3)'!$A:$P,G$6+4,FALSE))) -> 10 | H19: =IF(H$6=0,0,VLOOKUP($A19,'base (3)'!$A:$P,H$6+4,FALSE)) -> 20 | I19: =IF(I$6=0,0,VLOOKUP($A19,'base (3)'!$A:$P,I$6+4,FALSE)) -> 20 | J19: =IF(J$6=0,0,VLOOKUP($A19,'base (3)'!$A:$P,J$6+4,FALSE)) -> 20 | K19: =IF(K$6=0,0,VLOOKUP($A19,'base (3)'!$A:$P,K$6+4,FALSE)) -> 20 | L19: =IF(L$6=0,0,VLOOKUP($A19,'base (3)'!$A:$P,L$6+4,FALSE)) -> 0 | M19: =IF(M$6=0,0,VLOOKUP($A19,'base (3)'!$A:$P,M$6+4,FALSE)) -> 0 | N19: =IF(N$6=0,0,VLOOKUP($A19,'base (3)'!$A:$P,N$6+4,FALSE)) -> 0 | O19: =IF(O$6=0,0,VLOOKUP($A19,'base (3)'!$A:$P,O$6+4,FALSE)) -> 0 | ... Q19: =IF(Q$6=0,0,VLOOKUP($A19,'base (3)'!$A:$P,Q$6+4,FALSE)) -> 0 | S19: 141519.14 | T19: =IF($S$29=0,0,(S19/$S$29)*100) -> 33.439669 | W19: =SUM(F19:Q19) -> 100
A20: =CONCATENATE($E$6,"|",B20) -> 6|12 | B20: 12 | C20: DIVERSOS (LIMPEZA,ENSAIOS TECNOLÓGICOS, EQUIPAMENTOS) | F20: =IF(E$6<3,0,IF(F$6=0,0,VLOOKUP($A20,'base (3)'!$A:$P,F$6+4,FALSE))) -> 10 | G20: =IF(E$6<3,0,IF(G$6=0,0,VLOOKUP($A20,'base (3)'!$A:$P,G$6+4,FALSE))) -> 20 | H20: =IF(H$6=0,0,VLOOKUP($A20,'base (3)'!$A:$P,H$6+4,FALSE)) -> 20 | I20: =IF(I$6=0,0,VLOOKUP($A20,'base (3)'!$A:$P,I$6+4,FALSE)) -> 20 | J20: =IF(J$6=0,0,VLOOKUP($A20,'base (3)'!$A:$P,J$6+4,FALSE)) -> 20 | K20: =IF(K$6=0,0,VLOOKUP($A20,'base (3)'!$A:$P,K$6+4,FALSE)) -> 10 | L20: =IF(L$6=0,0,VLOOKUP($A20,'base (3)'!$A:$P,L$6+4,FALSE)) -> 0 | M20: =IF(M$6=0,0,VLOOKUP($A20,'base (3)'!$A:$P,M$6+4,FALSE)) -> 0 | N20: =IF(N$6=0,0,VLOOKUP($A20,'base (3)'!$A:$P,N$6+4,FALSE)) -> 0 | O20: =IF(O$6=0,0,VLOOKUP($A20,'base (3)'!$A:$P,O$6+4,FALSE)) -> 0 | ... Q20: =IF(Q$6=0,0,VLOOKUP($A20,'base (3)'!$A:$P,Q$6+4,FALSE)) -> 0 | T20: =IF($S$29=0,0,(S20/$S$29)*100) -> 0 | W20: =SUM(F20:Q20) -> 100
F21: =IF(F$6=0,0,VLOOKUP($A21,'base (3)'!$A:$P,F$6+4,FALSE)) -> #N/A | T21: =IF($S$29=0,0,(S21/$S$29)*100) -> 0
F22: =IF(F$6=0,0,VLOOKUP($A22,'base (3)'!$A:$P,F$6+4,FALSE)) -> #N/A | T22: =IF($S$29=0,0,(S22/$S$29)*100) -> 0
F23: =IF(F$6=0,0,VLOOKUP($A23,'base (3)'!$A:$P,F$6+4,FALSE)) -> #N/A | T23: =IF($S$29=0,0,(S23/$S$29)*100) -> 0
F24: =IF(F$6=0,0,VLOOKUP($A24,'base (3)'!$A:$P,F$6+4,FALSE)) -> #N/A | T24: =IF($S$29=0,0,(S24/$S$29)*100) -> 0
F25: =IF(F$6=0,0,VLOOKUP($A25,'base (3)'!$A:$P,F$6+4,FALSE)) -> #N/A | T25: =IF($S$29=0,0,(S25/$S$29)*100) -> 0
F26: =IF(F$6=0,0,VLOOKUP($A26,'base (3)'!$A:$P,F$6+4,FALSE)) -> #N/A | T26: =IF($S$29=0,0,(S26/$S$29)*100) -> 0
F27: =IF(F$6=0,0,VLOOKUP($A27,'base (3)'!$A:$P,F$6+4,FALSE)) -> #N/A | T27: =IF($S$29=0,0,(S27/$S$29)*100) -> 0
C29: TOTAIS | D29: TOTAIS | S29: =SUM(S9:S28) -> 423207.36 | T29: =SUM(T9:T27) -> 100
B30: COMPOSIÇÃO DOS RECURSOS (TESOURO E CONTRAPARTIDA)
B31: ITEM | F31: PARCELAS | R31: Nº DE | S31: TOTAL | T31: % S/
F32: =F6 -> 1 | G32: =G6 -> 2 | H32: =H6 -> 3 | I32: =I6 -> 4 | J32: =J6 -> 5 | K32: =K6 -> 6 | L32: =L6 -> 0 | M32: =M6 -> 0 | ... Q32: =Q6 -> 0 | R32: MESES | S32: ITEM | T32: ITEM
B33: 1T | C33: SERVIÇOS PRELIMINARES | D33: TESOURO | E33: R$ | F33: =((F9/100)*$S$9)*$T$2 -> 4877.6165 | G33: =((G9/100)*$S$9)*$T$2 -> 3658.2124 | H33: =((H9/100)*$S$9)*$T$2 -> 3658.2124 | I33: =((I9/100)*$S$9)*$T$2 -> 0 | J33: =((J9/100)*$S$9)*$T$2 -> 0 | K33: =((K9/100)*$S$9)*$T$2 -> 0 | L33: =((L9/100)*$S$9)*$T$2 -> 0 | M33: =((M9/100)*$S$9)*$T$2 -> 0 | ... Q33: =((Q9/100)*$S$9)*$T$2 -> 0 | R33: =COUNTIF(F33:Q33,">0") -> 3 | S33: =SUM(F33:Q33) -> 12194.041 | T33: =IF($S$61=0,0,(S33/$S$61)) -> 0.028813396
B34: 1C | C34: E ADMINISTRAÇÃO DA OBRA | D34: CONTRAPARTIDA | E34: R$ | F34: =((F9/100)*$S$9)*T3 -> 1573.1435 | G34: =((G9/100)*$S$9)*$T$3 -> 1179.8576 | H34: =((H9/100)*$S$9)*$T$3 -> 1179.8576 | I34: =((I9/100)*$S$9)*$T$3 -> 0 | J34: =((J9/100)*$S$9)*$T$3 -> 0 | K34: =((K9/100)*$S$9)*$T$3 -> 0 | L34: =((L9/100)*$S$9)*$T$3 -> 0 | M34: =((M9/100)*$S$9)*$T$3 -> 0 | N34: =((N9/100)*$S$9)*$T$3 -> 0 | ... Q34: =((Q9/100)*$S$9)*$T$3 -> 0 | R34: =COUNTIF(F34:Q34,">0") -> 3 | S34: =SUM(F34:Q34) -> 3932.8588 | T34: =IF($S$61=0,0,(S34/$S$61)) -> 0.0092929829
B35: 2T | C35: MOVIMENTO DE TERRA, DRENAGEM | D35: TESOURO | E35: R$ | F35: =((F10/100)*$S$10)*$T$2 -> 11142.863 | G35: =((G10/100)*$S$10)*$T$2 -> 16714.294 | H35: =((H10/100)*$S$10)*$T$2 -> 11142.863 | I35: =((I10/100)*$S$10)*$T$2 -> 5571.4313 | J35: =((J10/100)*$S$10)*$T$2 -> 5571.4313 | K35: =((K10/100)*$S$10)*$T$2 -> 5571.4313 | L35: =((L10/100)*$S$10)*$T$2 -> 0 | M35: =((M10/100)*$S$10)*$T$2 -> 0 | ... Q35: =((Q10/100)*$S$10)*$T$2 -> 0 | R35: =COUNTIF(F35:Q35,">0") -> 6 | S35: =SUM(F35:Q35) -> 55714.313 | T35: =IF($S$61=0,0,(S35/$S$61)) -> 0.13164779
B36: 2C | C36: E ÁGUAS PLUVIAIS | D36: CONTRAPARTIDA | E36: R$ | F36: =((F10/100)*$S$10)*$T$3 -> 3593.8295 | G36: =((G10/100)*$S$10)*$T$3 -> 5390.7442 | H36: =((H10/100)*$S$10)*$T$3 -> 3593.8295 | I36: =((I10/100)*$S$10)*$T$3 -> 1796.9147 | J36: =((J10/100)*$S$10)*$T$3 -> 1796.9147 | K36: =((K10/100)*$S$10)*$T$3 -> 1796.9147 | L36: =((L10/100)*$S$10)*$T$3 -> 0 | M36: =((M10/100)*$S$10)*$T$3 -> 0 | ... Q36: =((Q10/100)*$S$10)*$T$3 -> 0 | R36: =COUNTIF(F36:Q36,">0") -> 6 | S36: =SUM(F36:Q36) -> 17969.147 | T36: =IF($S$61=0,0,(S36/$S$61)) -> 0.042459439
B37: 3T | C37: FUNDACOES | D37: TESOURO | E37: R$ | F37: =((F11/100)*$S$11)*$T$2 -> 750.66672 | G37: =((G11/100)*$S$11)*$T$2 -> 1501.3334 | H37: =((H11/100)*$S$11)*$T$2 -> 1501.3334 | I37: =((I11/100)*$S$11)*$T$2 -> 0 | J37: =((J11/100)*$S$11)*$T$2 -> 0 | K37: =((K11/100)*$S$11)*$T$2 -> 0 | L37: =((L11/100)*$S$11)*$T$2 -> 0 | M37: =((M11/100)*$S$11)*$T$2 -> 0 | ... Q37: =((Q11/100)*$S$11)*$T$2 -> 0 | R37: =COUNTIF(F37:Q37,">0") -> 3 | S37: =SUM(F37:Q37) -> 3753.3336 | T37: =IF($S$61=0,0,(S37/$S$61)) -> 0.0088687815
B38: 3C | D38: CONTRAPARTIDA | E38: R$ | F38: =((F11/100)*$S$11)*$T$3 -> 242.10728 | G38: =((G11/100)*$S$11)*$T$3 -> 484.21456 | H38: =((H11/100)*$S$11)*$T$3 -> 484.21456 | I38: =((I11/100)*$S$11)*$T$3 -> 0 | J38: =((J11/100)*$S$11)*$T$3 -> 0 | K38: =((K11/100)*$S$11)*$T$3 -> 0 | L38: =((L11/100)*$S$11)*$T$3 -> 0 | M38: =((M11/100)*$S$11)*$T$3 -> 0 | ... Q38: =((Q11/100)*$S$11)*$T$3 -> 0 | R38: =COUNTIF(F38:Q38,">0") -> 3 | S38: =SUM(F38:Q38) -> 1210.5364 | T38: =IF($S$61=0,0,(S38/$S$61)) -> 0.002860386
B39: 4T | C39: ESTRUTURAS | D39: TESOURO | E39: R$ | F39: =((F12/100)*$S$12)*T2 -> 2829.3103 | G39: =((G12/100)*$S$12)*$T$2 -> 5658.6207 | H39: =((H12/100)*$S$12)*$T$2 -> 5658.6207 | I39: =((I12/100)*$S$12)*$T$2 -> 5658.6207 | J39: =((J12/100)*$S$12)*$T$2 -> 5658.6207 | K39: =((K12/100)*$S$12)*$T$2 -> 2829.3103 | L39: =((L12/100)*$S$12)*$T$2 -> 0 | M39: =((M12/100)*$S$12)*$T$2 -> 0 | N39: =((N12/100)*$S$12)*$T$2 -> 0 | ... Q39: =((Q12/100)*$S$12)*$T$2 -> 0 | R39: =COUNTIF(F39:Q39,">0") -> 6 | S39: =SUM(F39:Q39) -> 28293.103 | T39: =IF($S$61=0,0,(S39/$S$61)) -> 0.066853997
B40: 4C | D40: CONTRAPARTIDA | E40: R$ | F40: =((F12/100)*$S$12)*$T$3 -> 912.51766 | G40: =((G12/100)*$S$12)*$T$3 -> 1825.0353 | H40: =((H12/100)*$S$12)*$T$3 -> 1825.0353 | I40: =((I12/100)*$S$12)*$T$3 -> 1825.0353 | J40: =((J12/100)*$S$12)*$T$3 -> 1825.0353 | K40: =((K12/100)*$S$12)*$T$3 -> 912.51766 | L40: =((L12/100)*$S$12)*$T$3 -> 0 | M40: =((M12/100)*$S$12)*$T$3 -> 0 | ... Q40: =((Q12/100)*$S$12)*$T$3 -> 0 | R40: =COUNTIF(F40:Q40,">0") -> 6 | S40: =SUM(F40:Q40) -> 9125.1766 | T40: =IF($S$61=0,0,(S40/$S$61)) -> 0.021561952
B41: 5T | C41: ALVENARIA, DIVISÓRIAS, | D41: TESOURO | E41: R$ | F41: =((F13/100)*$S$13)*$T$2 -> 4783.1531 | G41: =((G13/100)*$S$13)*$T$2 -> 9566.3062 | H41: =((H13/100)*$S$13)*$T$2 -> 19132.612 | I41: =((I13/100)*$S$13)*$T$2 -> 28698.919 | J41: =((J13/100)*$S$13)*$T$2 -> 23915.766 | K41: =((K13/100)*$S$13)*$T$2 -> 9566.3062 | L41: =((L13/100)*$S$13)*$T$2 -> 0 | M41: =((M13/100)*$S$13)*$T$2 -> 0 | ... Q41: =((Q13/100)*$S$13)*$T$2 -> 0 | R41: =COUNTIF(F41:Q41,">0") -> 6 | S41: =SUM(F41:Q41) -> 95663.062 | T41: =IF($S$61=0,0,(S41/$S$61)) -> 0.226043
...

Sheet base
A1: N | B1: 3 | E1: 1 | F1: 2 | G1: 3 | H1: 4 | I1: 5 | J1: 6 | K1: 7 | L1: 8 | M1: 9 | N1: 10 | O1: 11 | P1: 12
A2: =CONCATENATE($B$1,"|",B2) -> 3|1 | B2: 1 | C2: SERVIÇOS PRELIMINARES E ADMINISTRAÇÃO DA OBRA | D2: 1 | E2: 50 | F2: 50 | R2: =SUM(E2:P2) -> 100
A3: =CONCATENATE($B$1,"|",B3) -> 3|2 | B3: 2 | C3: MOVIMENTO DE TERRA, DRENAGEM E ÁGUAS PLUVIAIS | D3: 2 | E3: 40 | F3: 50 | G3: 10 | R3: =SUM(E3:P3) -> 100
A4: =CONCATENATE($B$1,"|",B4) -> 3|3 | B4: 3 | C4: FUNDACOES | D4: 3 | E4: 60 | F4: 40 | R4: =SUM(E4:P4) -> 100
A5: =CONCATENATE($B$1,"|",B5) -> 3|4 | B5: 4 | C5: ESTRUTURAS | D5: 4 | E5: 20 | F5: 50 | G5: 30 | R5: =SUM(E5:P5) -> 100
A6: =CONCATENATE($B$1,"|",B6) -> 3|5 | B6: 5 | C6: ALVENARIA, DIVISÓRIAS, MUROS E FECHOS | D6: 5 | E6: 10 | F6: 50 | G6: 40 | R6: =SUM(E6:P6) -> 100
A7: =CONCATENATE($B$1,"|",B7) -> 3|6 | B7: 6 | C7: COBERTURA | F7: 30 | G7: 70 | R7: =SUM(E7:P7) -> 100
A8: =CONCATENATE($B$1,"|",B8) -> 3|7 | B8: 7 | C8: ESQUADRIAS, ACESSORIOS, VIDROS E ESPELHOS | D8: 3 | F8: 40 | G8: 60 | R8: =SUM(E8:P8) -> 100
A9: =CONCATENATE($B$1,"|",B9) -> 3|8 | B9: 8 | C9: INSTAL. ELETRICAS, TELEFONIA, SISTEMAS DE PROTEÇÃO E VENTILAÇÃO | D9: 5 | E9: 10 | F9: 50 | G9: 40 | R9: =SUM(E9:P9) -> 100
A10: =CONCATENATE($B$1,"|",B10) -> 3|9 | B10: 9 | C10: INSTAL. HIDROSANITÁRIAS, GAS-GLP, INCÊNDIO E APARELHOS | E10: 20 | F10: 50 | G10: 30 | R10: =SUM(E10:P10) -> 100
A11: =CONCATENATE($B$1,"|",B11) -> 3|10 | B11: 10 | C11: REVESTIMENTOS DE PAREDES E PISOS, IMPERMEABILIZACÕES, PINTURAS E ARGAMASSAS | D11: 6 | F11: 40 | G11: 60 | R11: =SUM(E11:P11) -> 100
A12: =CONCATENATE($B$1,"|",B12) -> 3|11 | B12: 11 | C12: PAVIMENTACAO E CALCAMENTO, PAISAGISMO E EQUIPAMENTOS EXTERNOS | D12: 6 | E12: 20 | F12: 40 | G12: 40 | R12: =SUM(E12:P12) -> 100
A13: =CONCATENATE($B$1,"|",B13) -> 3|12 | B13: 12 | C13: DIVERSOS (LIMPEZA,ENSAIOS TECNOLÓGICOS, EQUIPAMENTOS) | E13: 20 | F13: 40 | G13: 40 | R13: =SUM(E13:P13) -> 100
A15: N | B15: 4 | E15: 1 | F15: 2 | G15: 3 | H15: 4 | I15: 5 | J15: 6 | K15: 7 | L15: 8 | M15: 9 | N15: 10 | O15: 11 | P15: 12
A16: =CONCATENATE($B$15,"|",B16) -> 4|1 | B16: 1 | C16: SERVIÇOS PRELIMINARES E ADMINISTRAÇÃO DA OBRA | D16: 1 | E16: 50 | F16: 50 | R16: =SUM(E16:P16) -> 100
A17: =CONCATENATE($B$15,"|",B17) -> 4|2 | B17: 2 | C17: MOVIMENTO DE TERRA, DRENAGEM E ÁGUAS PLUVIAIS | D17: 2 | E17: 30 | F17: 40 | G17: 20 | H17: 10 | R17: =SUM(E17:P17) -> 100
A18: =CONCATENATE($B$15,"|",B18) -> 4|3 | B18: 3 | C18: FUNDACOES | D18: 3 | E18: 50 | F18: 40 | G18: 10 | R18: =SUM(E18:P18) -> 100
A19: =CONCATENATE($B$15,"|",B19) -> 4|4 | B19: 4 | C19: ESTRUTURAS | D19: 4 | E19: 20 | F19: 40 | G19: 20 | H19: 20 | R19: =SUM(E19:P19) -> 100
A20: =CONCATENATE($B$15,"|",B20) -> 4|5 | B20: 5 | C20: ALVENARIA, DIVISÓRIAS, MUROS E FECHOS | D20: 5 | E20: 10 | F20: 30 | G20: 40 | H20: 20 | R20: =SUM(E20:P20) -> 100
A21: =CONCATENATE($B$15,"|",B21) -> 4|6 | B21: 6 | C21: COBERTURA | F21: 10 | G21: 70 | H21: 20 | R21: =SUM(E21:P21) -> 100
A22: =CONCATENATE($B$15,"|",B22) -> 4|7 | B22: 7 | C22: ESQUADRIAS, ACESSORIOS, VIDROS E ESPELHOS | F22: 30 | G22: 30 | H22: 40 | R22: =SUM(E22:P22) -> 100
A23: =CONCATENATE($B$15,"|",B23) -> 4|8 | B23: 8 | C23: INSTAL. ELETRICAS, TELEFONIA, SISTEMAS DE PROTEÇÃO E VENTILAÇÃO | D23: 3 | E23: 10 | F23: 30 | G23: 30 | H23: 30 | R23: =SUM(E23:P23) -> 100
A24: =CONCATENATE($B$15,"|",B24) -> 4|9 | B24: 9 | C24: INSTAL. HIDROSANITÁRIAS, GAS-GLP, INCÊNDIO E APARELHOS | D24: 5 | E24: 20 | F24: 30 | G24: 30 | H24: 20 | R24: =SUM(E24:P24) -> 100
A25: =CONCATENATE($B$15,"|",B25) -> 4|10 | B25: 10 | C25: REVESTIMENTOS DE PAREDES E PISOS, IMPERMEABILIZACÕES, PINTURAS E ARGAMASSAS | D25: 6 | F25: 30 | G25: 40 | H25: 30 | R25: =SUM(E25:P25) -> 100
A26: =CONCATENATE($B$15,"|",B26) -> 4|11 | B26: 11 | C26: PAVIMENTACAO E CALCAMENTO, PAISAGISMO E EQUIPAMENTOS EXTERNOS | D26: 6 | E26: 10 | F26: 30 | G26: 30 | H26: 30 | R26: =SUM(E26:P26) -> 100
A27: =CONCATENATE($B$15,"|",B27) -> 4|12 | B27: 12 | C27: DIVERSOS (LIMPEZA,ENSAIOS TECNOLÓGICOS, EQUIPAMENTOS) | E27: 20 | F27: 20 | G27: 40 | H27: 20 | R27: =SUM(E27:P27) -> 100
A29: N | B29: 5 | E29: 1 | F29: 2 | G29: 3 | H29: 4 | I29: 5 | J29: 6 | K29: 7 | L29: 8 | M29: 9 | N29: 10 | O29: 11 | P29: 12
A30: =CONCATENATE($B$29,"|",B30) -> 5|1 | B30: 1 | C30: SERVIÇOS PRELIMINARES E ADMINISTRAÇÃO DA OBRA | D30: 1 | E30: 40 | F30: 40 | G30: 20 | R30: =SUM(E30:P30) -> 100
A31: =CONCATENATE($B$29,"|",B31) -> 5|2 | B31: 2 | C31: MOVIMENTO DE TERRA, DRENAGEM E ÁGUAS PLUVIAIS | D31: 2 | E31: 20 | F31: 30 | G31: 30 | H31: 10 | I31: 10 | R31: =SUM(E31:P31) -> 100
A32: =CONCATENATE($B$29,"|",B32) -> 5|3 | B32: 3 | C32: FUNDACOES | D32: 3 | E32: 40 | F32: 40 | G32: 20 | R32: =SUM(E32:P32) -> 100
A33: =CONCATENATE($B$29,"|",B33) -> 5|4 | B33: 4 | C33: ESTRUTURAS | D33: 4 | E33: 20 | F33: 20 | G33: 20 | H33: 20 | I33: 20 | R33: =SUM(E33:P33) -> 100
A34: =CONCATENATE($B$29,"|",B34) -> 5|5 | B34: 5 | C34: ALVENARIA, DIVISÓRIAS, MUROS E FECHOS | D34: 5 | E34: 5 | F34: 15 | G34: 20 | H34: 30 | I34: 30 | R34: =SUM(E34:P34) -> 100
A35: =CONCATENATE($B$29,"|",B35) -> 5|6 | B35: 6 | C35: COBERTURA | G35: 60 | H35: 40 | R35: =SUM(E35:P35) -> 100
A36: =CONCATENATE($B$29,"|",B36) -> 5|7 | B36: 7 | C36: ESQUADRIAS, ACESSORIOS, VIDROS E ESPELHOS | D36: 3 | F36: 10 | G36: 30 | H36: 30 | I36: 30 | R36: =SUM(E36:P36) -> 100
A37: =CONCATENATE($B$29,"|",B37) -> 5|8 | B37: 8 | C37: INSTAL. ELETRICAS, TELEFONIA, SISTEMAS DE PROTEÇÃO E VENTILAÇÃO | D37: 5 | E37: 10 | F37: 20 | G37: 30 | H37: 20 | I37: 20 | R37: =SUM(E37:P37) -> 100
A38: =CONCATENATE($B$29,"|",B38) -> 5|9 | B38: 9 | C38: INSTAL. HIDROSANITÁRIAS, GAS-GLP, INCÊNDIO E APARELHOS | D38: 6 | E38: 20 | F38: 20 | G38: 30 | H38: 20 | I38: 10 | R38: =SUM(E38:P38) -> 100
A39: =CONCATENATE($B$29,"|",B39) -> 5|10 | B39: 10 | C39: REVESTIMENTOS DE PAREDES E PISOS, IMPERMEABILIZACÕES, PINTURAS E ARGAMASSAS | D39: 6 | F39: 10 | G39: 30 | H39: 30 | I39: 30 | R39: =SUM(E39:P39) -> 100
A40: =CONCATENATE($B$29,"|",B40) -> 5|11 | B40: 11 | C40: PAVIMENTACAO E CALCAMENTO, PAISAGISMO E EQUIPAMENTOS EXTERNOS | E40: 10 | F40: 20 | G40: 20 | H40: 30 | I40: 20 | R40: =SUM(E40:P40) -> 100
A41: =CONCATENATE($B$29,"|",B41) -> 5|12 | B41: 12 | C41: DIVERSOS (LIMPEZA,ENSAIOS TECNOLÓGICOS, EQUIPAMENTOS) | E41: 20 | F41: 20 | G41: 20 | H41: 20 | I41: 20 | R41: =SUM(E41:P41) -> 100
A43: N | B43: 6 | E43: 1 | F43: 2 | G43: 3 | H43: 4 | I43: 5 | J43: 6 | K43: 7 | L43: 8 | M43: 9 | N43: 10 | O43: 11 | P43: 12
...

Sheet composição dos itens
A2: 1 | B2: SERVIÇOS PRELIMINARES E ADMINISTRAÇÃO DA OBRA | L2: 1 | M2: 2 | S2: ADM | T2: PRELIM
A3: 2 | B3: MOVIMENTO DE TERRA, DRENAGEM E ÁGUAS PLUVIAIS | L3: 3 | M3: 4 | N3: 27 | O3: 28 | P3: 35 | Q3: 39 | S3: MOV TERR | T3: TRANSP | U3: DRE | V3: CAIXAS | W3: CONTENSÕES | X3: AGREGADOS
A4: 3 | B4: FUNDACOES | L4: 5 | T4: C
A5: 4 | B5: ESTRUTURAS | L5: 6 | M5: 7 | N5: 8 | O5: 9 | P5: 10 | Q5: 11 | T5: FORMAS | U5: ARMADURAS | V5: CONCRETOS | W5: LASTROS | X5: LAJES | Y5: ELEMENTOS VAZADOS
A6: 5 | B6: ALVENARIA, DIVISÓRIAS, MUROS E FECHOS | L6: 12 | M6: 13 | N6: 34 | S6: ALVENARIA | T6: DIVISÓRIAS E PAREDES | U6: MUROS E FSCHOS
A7: 6 | B7: COBERTURA | L7: 14 | S7: COBERTURA
A8: 7 | B8: ESQUADRIAS, ACESSORIOS, VIDROS E ESPELHOS | L8: 15 | M8: 17 | S8: ESQUADRIAS E ACESSÓRIOS | T8: VIDROS E ESPELHOS
A9: 8 | B9: INSTALACOES ELETRICAS, TELEFONIA, SISTEMAS DE PROTEÇÃO E VENTILAÇÃO | L9: 18 | M9: 19 | N9: 20 | O9: 21 | P9: 22
A10: 9 | B10: INSTALACOES HIDROSANITÁRIAS, GAS-GLP, PREVENÇÃO CONTRA INCÊNDIO E APRARELHOS SANITÁRIOS | L10: 23 | M10: 24 | N10: 25 | O10: 26
A11: 10 | B11: REVESTIMENTOS, IMPERMEABILIZACÕES, PINTURAS E ARGAMASSAS | L11: 16 | M11: 29 | N11: 30 | O11: 31 | P11: 32 | Q11: 38
A12: 11 | B12: PAVIMENTACAO E CALCAMENTO, PAISAGISMO E EQUIPAMENTOS EXTERNOS | L12: 33 | M12: 36
A13: 12 | B13: DIVERSOS (LIMPEZA,ENSAIOS TECNOLÓGICOS, EQUIPAMENTOS) | L13: 37 | M13: 40 | N13: 41
