Workbook
Name ___xlnm.Print_Area_2: #REF!
Name ___xlnm.Print_Titles_2: #REF!
Name ___xlnm.Print_Titles_3: #REF!
Name __Anonymous_Sheet_DB__0: #REF!
Name __xlnm.Print_Area_2: #REF!
Name __xlnm.Print_Area_3: #REF!
Name __xlnm.Print_Area_3_1: #REF!
Name __xlnm.Print_Titles_2: #REF!
Name __xlnm.Print_Titles_3: #REF!
Name _R10P: #REF!
Name _R10R: #REF!
Name _R11P: #REF!
Name _R11R: #REF!
Name _R12P: #REF!
Name _R12R: #REF!
Name _R13P: #REF!
Name _R13R: #REF!
Name _R14P: #REF!
Name _R14R: #REF!
Name _R15P: #REF!
Name _R15R: #REF!
Name _R16P: #REF!
Name _R16R: #REF!
Name _R17P: #REF!
Name _R17R: #REF!
Name _R18P: #REF!
Name _R18R: #REF!
Name _R19P: #REF!
Name _R19R: #REF!
Name _R1P: #REF!
Name _R1R: #REF!
Name _R20P: #REF!
Name _R20R: #REF!
Name _R21P: #REF!
Name _R21R: #REF!
Name _R22P: #REF!
Name _R22R: #REF!
Name _R23P: #REF!
Name _R23R: #REF!
Name _R24P: #REF!
Name _R24R: #REF!
Name _R2P: #REF!
Name _R2R: #REF!
Name _R3P: #REF!
Name _R3R: #REF!
Name _R4P: #REF!
Name _R4R: #REF!
Name _R5P: #REF!
Name _R5R: #REF!
Name _R6P: #REF!
Name _R6R: #REF!
Name _R7P: #REF!
Name _R7R: #REF!
Name _R8P: #REF!
Name _R8R: #REF!
Name _R9P: #REF!
Name _R9R: #REF!
Name _RP1: #REF!
Name _RP10: #REF!
Name _RP11: #REF!

Sheet base (2)
A1: N | B1: 3 | E1: 1 | F1: 2 | G1: 3 | H1: 4 | I1: 5 | J1: 6 | K1: 7 | L1: 8 | M1: 9 | N1: 10 | O1: 11 | P1: 12
A2: =CONCATENATE($B$1,"|",B2) -> 3|1 | B2: 1 | C2: SERVIÇOS PRELIMINARES E ADMINISTRAÇÃO DA OBRA | D2: 1 | E2: 50 | F2: 50 | R2: =SUM(E2:P2) -> 100
A3: =CONCATENATE($B$1,"|",B3) -> 3|2 | B3: 2 | C3: MOVIMENTO DE TERRA, DRENAGEM E ÁGUAS PLUVIAIS | D3: 2 | E3: 40 | F3: 50 | G3: 10 | R3: =SUM(E3:P3) -> 100
A4: =CONCATENATE($B$1,"|",B4) -> 3|3 | B4: 3 | C4: FUNDACOES | D4: 3 | E4: 60 | F4: 40 | R4: =SUM(E4:P4) -> 100
A5: =CONCATENATE($B$1,"|",B5) -> 3|4 | B5: 4 | C5: ESTRUTURAS | D5: 4 | E5: 20 | F5: 50 | G5: 30 | R5: =SUM(E5:P5) -> 100
A6: =CONCATENATE($B$1,"|",B6) -> 3|5 | B6: 5 | C6: ALVENARIA, DIVISÓRIAS, MUROS E FECHOS | D6: 5 | E6: 10 | F6: 50 | G6: 40 | R6: =SUM(E6:P6) -> 100
A7: =CONCATENATE($B$1,"|",B7) -> 3|6 | B7: 6 | C7: COBERTURA | F7: 30 | G7: 70 | R7: =SUM(E7:P7) -> 100
A8: =CONCATENATE($B$1,"|",B8) -> 3|7 | B8: 7 | C8: ESQUADRIAS, ACESSORIOS, VIDROS E ESPELHOS | D8: 3 | F8: 40 | G8: 60 | R8: =SUM(E8:P8) -> 100
A9: =CONCATENATE($B$1,"|",B9) -> 3|8 | B9: 8 | C9: INSTAL. ELETRICAS, TELEFONIA, SISTEMAS DE PROTEÇÃO E VENTILAÇÃO | D9: 5 | E9: 10 | F9: 50 | G9: 40 | R9: =SUM(E9:P9) -> 100
A10: =CONCATENATE($B$1,"|",B10) -> 3|9 | B10: 9 | C10: INSTAL. HIDROSANITÁRIAS, GAS-GLP, INCÊNDIO E APARELHOS | E10: 20 | F10: 50 | G10: 30 | R10: =SUM(E10:P10) -> 100
A11: =CONCATENATE($B$1,"|",B11) -> 3|10 | B11: 10 | C11: REVESTIMENTOS DE PAREDES E PISOS, IMPERMEABILIZACÕES, PINTURAS E ARGAMASSAS | D11: 6 | F11: 40 | G11: 60 | R11: =SUM(E11:P11) -> 100
A12: =CONCATENATE($B$1,"|",B12) -> 3|11 | B12: 11 | C12: PAVIMENTACAO E CALCAMENTO, PAISAGISMO E EQUIPAMENTOS EXTERNOS | D12: 6 | E12: 20 | F12: 40 | G12: 40 | R12: =SUM(E12:P12) -> 100
A13: =CONCATENATE($B$1,"|",B13) -> 3|12 | B13: 12 | C13: DIVERSOS (LIMPEZA,ENSAIOS TECNOLÓGICOS, EQUIPAMENTOS) | E13: 20 | F13: 40 | G13: 40 | R13: =SUM(E13:P13) -> 100
A15: N | B15: 4 | E15: 1 | F15: 2 | G15: 3 | H15: 4 | I15: 5 | J15: 6 | K15: 7 | L15: 8 | M15: 9 | N15: 10 | O15: 11 | P15: 12
A16: =CONCATENATE($B$15,"|",B16) -> 4|1 | B16: 1 | C16: SERVIÇOS PRELIMINARES E ADMINISTRAÇÃO DA OBRA | D16: 1 | E16: 50 | F16: 50 | R16: =SUM(E16:P16) -> 100
A17: =CONCATENATE($B$15,"|",B17) -> 4|2 | B17: 2 | C17: MOVIMENTO DE TERRA, DRENAGEM E ÁGUAS PLUVIAIS | D17: 2 | E17: 30 | F17: 40 | G17: 20 | H17: 10 | R17: =SUM(E17:P17) -> 100
A18: =CONCATENATE($B$15,"|",B18) -> 4|3 | B18: 3 | C18: FUNDACOES | D18: 3 | E18: 50 | F18: 40 | G18: 10 | R18: =SUM(E18:P18) -> 100
A19: =CONCATENATE($B$15,"|",B19) -> 4|4 | B19: 4 | C19: ESTRUTURAS | D19: 4 | E19: 20 | F19: 40 | G19: 20 | H19: 20 | R19: =SUM(E19:P19) -> 100
A20: =CONCATENATE($B$15,"|",B20) -> 4|5 | B20: 5 | C20: ALVENARIA, DIVISÓRIAS, MUROS E FECHOS | D20: 5 | E20: 10 | F20: 30 | G20: 40 | H20: 20 | R20: =SUM(E20:P20) -> 100
A21: =CONCATENATE($B$15,"|",B21) -> 4|6 | B21: 6 | C21: COBERTURA | F21: 10 | G21: 70 | H21: 20 | R21: =SUM(E21:P21) -> 100
A22: =CONCATENATE($B$15,"|",B22) -> 4|7 | B22: 7 | C22: ESQUADRIAS, ACESSORIOS, VIDROS E ESPELHOS | F22: 30 | G22: 30 | H22: 40 | R22: =SUM(E22:P22) -> 100
A23: =CONCATENATE($B$15,"|",B23) -> 4|8 | B23: 8 | C23: INSTAL. ELETRICAS, TELEFONIA, SISTEMAS DE PROTEÇÃO E VENTILAÇÃO | D23: 3 | E23: 10 | F23: 30 | G23: 30 | H23: 30 | R23: =SUM(E23:P23) -> 100
A24: =CONCATENATE($B$15,"|",B24) -> 4|9 | B24: 9 | C24: INSTAL. HIDROSANITÁRIAS, GAS-GLP, INCÊNDIO E APARELHOS | D24: 5 | E24: 20 | F24: 30 | G24: 30 | H24: 20 | R24: =SUM(E24:P24) -> 100
A25: =CONCATENATE($B$15,"|",B25) -> 4|10 | B25: 10 | C25: REVESTIMENTOS DE PAREDES E PISOS, IMPERMEABILIZACÕES, PINTURAS E ARGAMASSAS | D25: 6 | F25: 30 | G25: 40 | H25: 30 | R25: =SUM(E25:P25) -> 100
A26: =CONCATENATE($B$15,"|",B26) -> 4|11 | B26: 11 | C26: PAVIMENTACAO E CALCAMENTO, PAISAGISMO E EQUIPAMENTOS EXTERNOS | D26: 6 | E26: 10 | F26: 30 | G26: 30 | H26: 30 | R26: =SUM(E26:P26) -> 100
A27: =CONCATENATE($B$15,"|",B27) -> 4|12 | B27: 12 | C27: DIVERSOS (LIMPEZA,ENSAIOS TECNOLÓGICOS, EQUIPAMENTOS) | E27: 20 | F27: 20 | G27: 40 | H27: 20 | R27: =SUM(E27:P27) -> 100
A29: N | B29: 5 | E29: 1 | F29: 2 | G29: 3 | H29: 4 | I29: 5 | J29: 6 | K29: 7 | L29: 8 | M29: 9 | N29: 10 | O29: 11 | P29: 12
A30: =CONCATENATE($B$29,"|",B30) -> 5|1 | B30: 1 | C30: SERVIÇOS PRELIMINARES E ADMINISTRAÇÃO DA OBRA | D30: 1 | E30: 40 | F30: 40 | G30: 20 | R30: =SUM(E30:P30) -> 100
A31: =CONCATENATE($B$29,"|",B31) -> 5|2 | B31: 2 | C31: MOVIMENTO DE TERRA, DRENAGEM E ÁGUAS PLUVIAIS | D31: 2 | E31: 20 | F31: 30 | G31: 30 | H31: 10 | I31: 10 | R31: =SUM(E31:P31) -> 100
A32: =CONCATENATE($B$29,"|",B32) -> 5|3 | B32: 3 | C32: FUNDACOES | D32: 3 | E32: 40 | F32: 40 | G32: 20 | R32: =SUM(E32:P32) -> 100
A33: =CONCATENATE($B$29,"|",B33) -> 5|4 | B33: 4 | C33: ESTRUTURAS | D33: 4 | E33: 20 | F33: 20 | G33: 20 | H33: 20 | I33: 20 | R33: =SUM(E33:P33) -> 100
A34: =CONCATENATE($B$29,"|",B34) -> 5|5 | B34: 5 | C34: ALVENARIA, DIVISÓRIAS, MUROS E FECHOS | D34: 5 | E34: 5 | F34: 15 | G34: 20 | H34: 30 | I34: 30 | R34: =SUM(E34:P34) -> 100
A35: =CONCATENATE($B$29,"|",B35) -> 5|6 | B35: 6 | C35: COBERTURA | G35: 60 | H35: 40 | R35: =SUM(E35:P35) -> 100
A36: =CONCATENATE($B$29,"|",B36) -> 5|7 | B36: 7 | C36: ESQUADRIAS, ACESSORIOS, VIDROS E ESPELHOS | D36: 3 | F36: 10 | G36: 30 | H36: 30 | I36: 30 | R36: =SUM(E36:P36) -> 100
A37: =CONCATENATE($B$29,"|",B37) -> 5|8 | B37: 8 | C37: INSTAL. ELETRICAS, TELEFONIA, SISTEMAS DE PROTEÇÃO E VENTILAÇÃO | D37: 5 | E37: 10 | F37: 20 | G37: 30 | H37: 20 | I37: 20 | R37: =SUM(E37:P37) -> 100
A38: =CONCATENATE($B$29,"|",B38) -> 5|9 | B38: 9 | C38: INSTAL. HIDROSANITÁRIAS, GAS-GLP, INCÊNDIO E APARELHOS | D38: 6 | E38: 20 | F38: 20 | G38: 30 | H38: 20 | I38: 10 | R38: =SUM(E38:P38) -> 100
A39: =CONCATENATE($B$29,"|",B39) -> 5|10 | B39: 10 | C39: REVESTIMENTOS DE PAREDES E PISOS, IMPERMEABILIZACÕES, PINTURAS E ARGAMASSAS | D39: 6 | F39: 10 | G39: 30 | H39: 30 | I39: 30 | R39: =SUM(E39:P39) -> 100
A40: =CONCATENATE($B$29,"|",B40) -> 5|11 | B40: 11 | C40: PAVIMENTACAO E CALCAMENTO, PAISAGISMO E EQUIPAMENTOS EXTERNOS | E40: 10 | F40: 20 | G40: 20 | H40: 30 | I40: 20 | R40: =SUM(E40:P40) -> 100
A41: =CONCATENATE($B$29,"|",B41) -> 5|12 | B41: 12 | C41: DIVERSOS (LIMPEZA,ENSAIOS TECNOLÓGICOS, EQUIPAMENTOS) | E41: 20 | F41: 20 | G41: 20 | H41: 20 | I41: 20 | R41: =SUM(E41:P41) -> 100
A43: N | B43: 6 | E43: 1 | F43: 2 | G43: 3 | H43: 4 | I43: 5 | J43: 6 | K43: 7 | L43: 8 | M43: 9 | N43: 10 | O43: 11 | P43: 12
A44: =CONCATENATE($B$43,"|",B44) -> 6|1 | B44: 1 | C44: SERVIÇOS PRELIMINARES E ADMINISTRAÇÃO DA OBRA | D44: 1 | E44: 40 | F44: 30 | G44: 30 | R44: =SUM(E44:P44) -> 100
A45: =CONCATENATE($B$43,"|",B45) -> 6|2 | B45: 2 | C45: MOVIMENTO DE TERRA, DRENAGEM E ÁGUAS PLUVIAIS | D45: 2 | E45: 20 | F45: 30 | G45: 20 | H45: 10 | I45: 10 | J45: 10 | R45: =SUM(E45:P45) -> 100
A46: =CONCATENATE($B$43,"|",B46) -> 6|3 | B46: 3 | C46: FUNDACOES | D46: 3 | E46: 20 | F46: 40 | G46: 40 | R46: =SUM(E46:P46) -> 100
A47: =CONCATENATE($B$43,"|",B47) -> 6|4 | B47: 4 | C47: ESTRUTURAS | E47: 10 | F47: 20 | G47: 20 | H47: 20 | I47: 20 | J47: 10 | R47: =SUM(E47:P47) -> 100
A48: =CONCATENATE($B$43,"|",B48) -> 6|5 | B48: 5 | C48: ALVENARIA, DIVISÓRIAS, MUROS E FECHOS | D48: 4 | E48: 5 | F48: 10 | G48: 20 | H48: 30 | I48: 25 | J48: 10 | R48: =SUM(E48:P48) -> 100
A49: =CONCATENATE($B$43,"|",B49) -> 6|6 | B49: 6 | C49: COBERTURA | D49: 5 | G49: 50 | H49: 50 | R49: =SUM(E49:P49) -> 100
A50: =CONCATENATE($B$43,"|",B50) -> 6|7 | B50: 7 | C50: ESQUADRIAS, ACESSORIOS, VIDROS E ESPELHOS | D50: 3 | G50: 20 | H50: 30 | I50: 30 | J50: 20 | R50: =SUM(E50:P50) -> 100
A51: =CONCATENATE($B$43,"|",B51) -> 6|8 | B51: 8 | C51: INSTAL. ELETRICAS, TELEFONIA, SISTEMAS DE PROTEÇÃO E VENTILAÇÃO | D51: 5 | E51: 10 | F51: 10 | G51: 20 | H51: 20 | I51: 20 | J51: 20 | R51: =SUM(E51:P51) -> 100
A52: =CONCATENATE($B$43,"|",B52) -> 6|9 | B52: 9 | C52: INSTAL. HIDROSANITÁRIAS, GAS-GLP, INCÊNDIO E APARELHOS | D52: 6 | E52: 10 | F52: 20 | G52: 20 | H52: 20 | I52: 20 | J52: 10 | R52: =SUM(E52:P52) -> 100
A53: =CONCATENATE($B$43,"|",B53) -> 6|10 | B53: 10 | C53: REVESTIMENTOS DE PAREDES E PISOS, IMPERMEABILIZACÕES, PINTURAS E ARGAMASSAS | D53: 6 | G53: 20 | H53: 30 | I53: 30 | J53: 20 | R53: =SUM(E53:P53) -> 100
A54: =CONCATENATE($B$43,"|",B54) -> 6|11 | B54: 11 | C54: PAVIMENTACAO E CALCAMENTO, PAISAGISMO E EQUIPAMENTOS EXTERNOS | E54: 10 | F54: 10 | G54: 20 | H54: 20 | I54: 20 | J54: 20 | R54: =SUM(E54:P54) -> 100
A55: =CONCATENATE($B$43,"|",B55) -> 6|12 | B55: 12 | C55: DIVERSOS (LIMPEZA,ENSAIOS TECNOLÓGICOS, EQUIPAMENTOS) | E55: 10 | F55: 20 | G55: 20 | H55: 20 | I55: 20 | J55: 10 | R55: =SUM(E55:P55) -> 100
A57: N | B57: 7 | E57: 1 | F57: 2 | G57: 3 | H57: 4 | I57: 5 | J57: 6 | K57: 7 | L57: 8 | M57: 9 | N57: 10 | O57: 11 | P57: 12
A58: =CONCATENATE($B$57,"|",B58) -> 7|1 | B58: 1 | C58: SERVIÇOS PRELIMINARES E ADMINISTRAÇÃO DA OBRA | D58: 1 | E58: 30 | F58: 30 | G58: 30 | H58: 10 | R58: =SUM(E58:P58) -> 100
A59: =CONCATENATE($B$57,"|",B59) -> 7|2 | B59: 2 | C59: MOVIMENTO DE TERRA, DRENAGEM E ÁGUAS PLUVIAIS | D59: 2 | E59: 20 | F59: 20 | G59: 20 | H59: 10 | I59: 10 | J59: 10 | K59: 10 | R59: =SUM(E59:P59) -> 100
A60: =CONCATENATE($B$57,"|",B60) -> 7|3 | B60: 3 | C60: FUNDACOES | D60: 3 | E60: 20 | F60: 30 | G60: 30 | H60: 20 | R60: =SUM(E60:P60) -> 100
A61: =CONCATENATE($B$57,"|",B61) -> 7|4 | B61: 4 | C61: ESTRUTURAS | E61: 10 | F61: 10 | G61: 20 | H61: 20 | I61: 20 | J61: 10 | K61: 10 | R61: =SUM(E61:P61) -> 100
A62: =CONCATENATE($B$57,"|",B62) -> 7|5 | B62: 5 | C62: ALVENARIA, DIVISÓRIAS, MUROS E FECHOS | D62: 4 | E62: 5 | F62: 10 | G62: 20 | H62: 20 | I62: 20 | J62: 15 | K62: 10 | R62: =SUM(E62:P62) -> 100
A63: =CONCATENATE($B$57,"|",B63) -> 7|6 | B63: 6 | C63: COBERTURA | D63: 5 | G63: 30 | H63: 40 | I63: 30 | R63: =SUM(E63:P63) -> 100
A64: =CONCATENATE($B$57,"|",B64) -> 7|7 | B64: 7 | C64: ESQUADRIAS, ACESSORIOS, VIDROS E ESPELHOS | D64: 3 | G64: 20 | H64: 20 | I64: 20 | J64: 20 | K64: 20 | R64: =SUM(E64:P64) -> 100
A65: =CONCATENATE($B$57,"|",B65) -> 7|8 | B65: 8 | C65: INSTAL. ELETRICAS, TELEFONIA, SISTEMAS DE PROTEÇÃO E VENTILAÇÃO | D65: 5 | E65: 10 | F65: 10 | G65: 10 | H65: 20 | I65: 20 | J65: 20 | K65: 10 | R65: =SUM(E65:P65) -> 100
A66: =CONCATENATE($B$57,"|",B66) -> 7|9 | B66: 9 | C66: INSTAL. HIDROSANITÁRIAS, GAS-GLP, INCÊNDIO E APARELHOS | D66: 6 | E66: 10 | F66: 10 | G66: 20 | H66: 20 | I66: 20 | J66: 10 | K66: 10 | R66: =SUM(E66:P66) -> 100
A67: =CONCATENATE($B$57,"|",B67) -> 7|10 | B67: 10 | C67: REVESTIMENTOS DE PAREDES E PISOS, IMPERMEABILIZACÕES, PINTURAS E ARGAMASSAS | D67: 6 | G67: 20 | H67: 20 | I67: 20 | J67: 20 | K67: 20 | R67: =SUM(E67:P67) -> 100
A68: =CONCATENATE($B$57,"|",B68) -> 7|11 | B68: 11 | C68: PAVIMENTACAO E CALCAMENTO, PAISAGISMO E EQUIPAMENTOS EXTERNOS | E68: 5 | F68: 5 | G68: 20 | H68: 20 | I68: 20 | J68: 20 | K68: 10 | R68: =SUM(E68:P68) -> 100
A69: =CONCATENATE($B$57,"|",B69) -> 7|12 | B69: 12 | C69: DIVERSOS (LIMPEZA,ENSAIOS TECNOLÓGICOS, EQUIPAMENTOS) | E69: 10 | F69: 10 | G69: 20 | H69: 20 | I69: 20 | J69: 10 | K69: 10 | R69: =SUM(E69:P69) -> 100
A71: N | B71: 8 | E71: 1 | F71: 2 | G71: 3 | H71: 4 | I71: 5 | J71: 6 | K71: 7 | L71: 8 | M71: 9 | N71: 10 | O71: 11 | P71: 12
A72: =CONCATENATE($B$71,"|",B72) -> 8|1 | B72: 1 | C72: SERVIÇOS PRELIMINARES E ADMINISTRAÇÃO DA OBRA | D72: 1 | E72: 20 | F72: 30 | G72: 30 | H72: 20 | R72: =SUM(E72:P72) -> 100
A73: =CONCATENATE($B$71,"|",B73) -> 8|2 | B73: 2 | C73: MOVIMENTO DE TERRA, DRENAGEM E ÁGUAS PLUVIAIS | D73: 2 | E73: 10 | F73: 20 | G73: 20 | H73: 10 | I73: 10 | J73: 10 | K73: 10 | L73: 10 | R73: =SUM(E73:P73) -> 100
A74: =CONCATENATE($B$71,"|",B74) -> 8|3 | B74: 3 | C74: FUNDACOES | D74: 3 | E74: 20 | F74: 20 | G74: 30 | H74: 20 | I74: 10 | R74: =SUM(E74:P74) -> 100
A75: =CONCATENATE($B$71,"|",B75) -> 8|4 | B75: 4 | C75: ESTRUTURAS | D75: 4 | E75: 10 | F75: 10 | G75: 10 | H75: 20 | I75: 20 | J75: 10 | K75: 10 | L75: 10 | R75: =SUM(E75:P75) -> 100
A76: =CONCATENATE($B$71,"|",B76) -> 8|5 | B76: 5 | C76: ALVENARIA, DIVISÓRIAS, MUROS E FECHOS | D76: 5 | E76: 5 | F76: 10 | G76: 20 | H76: 20 | I76: 15 | J76: 10 | K76: 10 | L76: 10 | R76: =SUM(E76:P76) -> 100
A77: =CONCATENATE($B$71,"|",B77) -> 8|6 | B77: 6 | C77: COBERTURA | G77: 30 | H77: 30 | I77: 30 | J77: 10 | R77: =SUM(E77:P77) -> 100
A78: =CONCATENATE($B$71,"|",B78) -> 8|7 | B78: 7 | C78: ESQUADRIAS, ACESSORIOS, VIDROS E ESPELHOS | D78: 3 | G78: 10 | H78: 20 | I78: 20 | J78: 20 | K78: 20 | L78: 10 | R78: =SUM(E78:P78) -> 100
A79: =CONCATENATE($B$71,"|",B79) -> 8|8 | B79: 8 | C79: INSTAL. ELETRICAS, TELEFONIA, SISTEMAS DE PROTEÇÃO E VENTILAÇÃO | D79: 5 | E79: 10 | F79: 10 | G79: 10 | H79: 10 | I79: 20 | J79: 20 | K79: 10 | L79: 10 | R79: =SUM(E79:P79) -> 100
A80: =CONCATENATE($B$71,"|",B80) -> 8|9 | B80: 9 | C80: INSTAL. HIDROSANITÁRIAS, GAS-GLP, INCÊNDIO E APARELHOS | D80: 6 | E80: 10 | F80: 10 | G80: 10 | H80: 20 | I80: 20 | J80: 10 | K80: 10 | L80: 10 | R80: =SUM(E80:P80) -> 100
A81: =CONCATENATE($B$71,"|",B81) -> 8|10 | B81: 10 | C81: REVESTIMENTOS DE PAREDES E PISOS, IMPERMEABILIZACÕES, PINTURAS E ARGAMASSAS | D81: 6 | G81: 10 | H81: 20 | I81: 20 | J81: 20 | K81: 20 | L81: 10 | R81: =SUM(E81:P81) -> 100
A82: =CONCATENATE($B$71,"|",B82) -> 8|11 | B82: 11 | C82: PAVIMENTACAO E CALCAMENTO, PAISAGISMO E EQUIPAMENTOS EXTERNOS | E82: 5 | F82: 5 | G82: 10 | H82: 20 | I82: 20 | J82: 20 | K82: 10 | L82: 10 | R82: =SUM(E82:P82) -> 100
A83: =CONCATENATE($B$71,"|",B83) -> 8|12 | B83: 12 | C83: DIVERSOS (LIMPEZA,ENSAIOS TECNOLÓGICOS, EQUIPAMENTOS) | E83: 10 | F83: 10 | G83: 10 | H83: 20 | I83: 20 | J83: 10 | K83: 10 | L83: 10 | R83: =SUM(E83:P83) -> 100
A85: N | B85: 9 | E85: 1 | F85: 2 | G85: 3 | H85: 4 | I85: 5 | J85: 6 | K85: 7 | L85: 8 | M85: 9 | N85: 10 | O85: 11 | P85: 12
A86: =CONCATENATE($B$85,"|",B86) -> 9|1 | B86: 1 | C86: SERVIÇOS PRELIMINARES E ADMINISTRAÇÃO DA OBRA | D86: 1 | E86: 20 | F86: 30 | G86: 20 | H86: 20 | I86: 10 | R86: =SUM(E86:P86) -> 100
A87: =CONCATENATE($B$85,"|",B87) -> 9|2 | B87: 2 | C87: MOVIMENTO DE TERRA, DRENAGEM E ÁGUAS PLUVIAIS | D87: 2 | E87: 10 | F87: 20 | G87: 20 | H87: 10 | I87: 10 | J87: 10 | K87: 10 | L87: 10 | R87: =SUM(E87:P87) -> 100
A88: =CONCATENATE($B$85,"|",B88) -> 9|3 | B88: 3 | C88: FUNDACOES | D88: 3 | E88: 20 | F88: 20 | G88: 30 | H88: 20 | I88: 10 | R88: =SUM(E88:P88) -> 100
A89: =CONCATENATE($B$85,"|",B89) -> 9|4 | B89: 4 | C89: ESTRUTURAS | D89: 4 | E89: 10 | F89: 10 | G89: 10 | H89: 10 | I89: 20 | J89: 10 | K89: 10 | L89: 10 | M89: 10 | R89: =SUM(E89:P89) -> 100
A90: =CONCATENATE($B$85,"|",B90) -> 9|5 | B90: 5 | C90: ALVENARIA, DIVISÓRIAS, MUROS E FECHOS | D90: 5 | E90: 5 | F90: 10 | G90: 10 | H90: 20 | I90: 15 | J90: 10 | K90: 10 | L90: 10 | M90: 10 | R90: =SUM(E90:P90) -> 100
A91: =CONCATENATE($B$85,"|",B91) -> 9|6 | B91: 6 | C91: COBERTURA | G91: 20 | H91: 20 | I91: 20 | J91: 20 | K91: 20 | R91: =SUM(E91:P91) -> 100
A92: =CONCATENATE($B$85,"|",B92) -> 9|7 | B92: 7 | C92: ESQUADRIAS, ACESSORIOS, VIDROS E ESPELHOS | D92: 3 | G92: 10 | H92: 10 | I92: 20 | J92: 20 | K92: 20 | L92: 10 | M92: 10 | R92: =SUM(E92:P92) -> 100
A93: =CONCATENATE($B$85,"|",B93) -> 9|8 | B93: 8 | C93: INSTAL. ELETRICAS, TELEFONIA, SISTEMAS DE PROTEÇÃO E VENTILAÇÃO | D93: 5 | E93: 10 | F93: 10 | G93: 10 | H93: 10 | I93: 10 | J93: 20 | K93: 10 | L93: 10 | M93: 10 | R93: =SUM(E93:P93) -> 100
A94: =CONCATENATE($B$85,"|",B94) -> 9|9 | B94: 9 | C94: INSTAL. HIDROSANITÁRIAS, GAS-GLP, INCÊNDIO E APARELHOS | D94: 6 | E94: 10 | F94: 10 | G94: 10 | H94: 10 | I94: 20 | J94: 10 | K94: 10 | L94: 10 | M94: 10 | R94: =SUM(E94:P94) -> 100
A95: =CONCATENATE($B$85,"|",B95) -> 9|10 | B95: 10 | C95: REVESTIMENTOS DE PAREDES E PISOS, IMPERMEABILIZACÕES, PINTURAS E ARGAMASSAS | D95: 6 | G95: 10 | H95: 10 | I95: 20 | J95: 20 | K95: 20 | L95: 10 | M95: 10 | R95: =SUM(E95:P95) -> 100
A96: =CONCATENATE($B$85,"|",B96) -> 9|11 | B96: 11 | C96: PAVIMENTACAO E CALCAMENTO, PAISAGISMO E EQUIPAMENTOS EXTERNOS | F96: 5 | G96: 5 | H96: 20 | I96: 20 | J96: 20 | K96: 10 | L96: 10 | M96: 10 | R96: =SUM(E96:P96) -> 100
A97: =CONCATENATE($B$85,"|",B97) -> 9|12 | B97: 12 | C97: DIVERSOS (LIMPEZA,ENSAIOS TECNOLÓGICOS, EQUIPAMENTOS) | E97: 10 | F97: 10 | G97: 10 | H97: 10 | I97: 20 | J97: 10 | K97: 10 | L97: 10 | M97: 10 | R97: =SUM(E97:P97) -> 100
A99: N | B99: 10 | E99: 1 | F99: 2 | G99: 3 | H99: 4 | I99: 5 | J99: 6 | K99: 7 | L99: 8 | M99: 9 | N99: 10 | O99: 11 | P99: 12
A100: =CONCATENATE($B$99,"|",B100) -> 10|1 | B100: 1 | C100: SERVIÇOS PRELIMINARES E ADMINISTRAÇÃO DA OBRA | D100: 1 | E100: 20 | F100: 30 | G100: 20 | H100: 20 | I100: 10 | R100: =SUM(E100:P100) -> 100
A101: =CONCATENATE($B$99,"|",B101) -> 10|2 | B101: 2 | C101: MOVIMENTO DE TERRA, DRENAGEM E ÁGUAS PLUVIAIS | D101: 2 | E101: 10 | F101: 10 | G101: 20 | H101: 10 | I101: 10 | J101: 10 | K101: 10 | L101: 10 | M101: 10 | R101: =SUM(E101:P101) -> 100
A102: =CONCATENATE($B$99,"|",B102) -> 10|3 | B102: 3 | C102: FUNDACOES | D102: 3 | E102: 20 | F102: 20 | G102: 20 | H102: 20 | I102: 20 | R102: =SUM(E102:P102) -> 100
A103: =CONCATENATE($B$99,"|",B103) -> 10|4 | B103: 4 | C103: ESTRUTURAS | D103: 4 | E103: 5 | F103: 10 | G103: 15 | H103: 10 | I103: 10 | J103: 10 | K103: 10 | L103: 10 | M103: 10 | N103: 10 | R103: =SUM(E103:P103) -> 100
A104: =CONCATENATE($B$99,"|",B104) -> 10|5 | B104: 5 | C104: ALVENARIA, DIVISÓRIAS, MUROS E FECHOS | E104: 5 | F104: 10 | G104: 15 | H104: 10 | I104: 10 | J104: 10 | K104: 10 | L104: 10 | M104: 10 | N104: 10 | R104: =SUM(E104:P104) -> 100
A105: =CONCATENATE($B$99,"|",B105) -> 10|6 | B105: 6 | C105: COBERTURA | D105: 5 | G105: 20 | H105: 20 | I105: 20 | J105: 20 | K105: 20 | R105: =SUM(E105:P105) -> 100
A106: =CONCATENATE($B$99,"|",B106) -> 10|7 | B106: 7 | C106: ESQUADRIAS, ACESSORIOS, VIDROS E ESPELHOS | D106: 3 | G106: 10 | H106: 10 | I106: 10 | J106: 20 | K106: 20 | L106: 10 | M106: 10 | N106: 10 | R106: =SUM(E106:P106) -> 100
A107: =CONCATENATE($B$99,"|",B107) -> 10|8 | B107: 8 | C107: INSTAL. ELETRICAS, TELEFONIA, SISTEMAS DE PROTEÇÃO E VENTILAÇÃO | D107: 5 | E107: 5 | F107: 5 | G107: 10 | H107: 10 | I107: 10 | J107: 20 | K107: 10 | L107: 10 | M107: 10 | N107: 10 | R107: =SUM(E107:P107) -> 100
...

Sheet base (3)
A1: N | B1: 3 | E1: 1 | F1: 2 | G1: 3 | H1: 4 | I1: 5 | J1: 6 | K1: 7 | L1: 8 | M1: 9 | N1: 10 | O1: 11 | P1: 12
A2: =CONCATENATE($B$1,"|",B2) -> 3|1 | B2: 1 | C2: SERVIÇOS PRELIMINARES E ADMINISTRAÇÃO DA OBRA | D2: 1 | E2: 50 | F2: 50 | R2: =SUM(E2:P2) -> 100
A3: =CONCATENATE($B$1,"|",B3) -> 3|2 | B3: 2 | C3: MOVIMENTO DE TERRA, DRENAGEM E ÁGUAS PLUVIAIS | D3: 2 | E3: 40 | F3: 50 | G3: 10 | R3: =SUM(E3:P3) -> 100
A4: =CONCATENATE($B$1,"|",B4) -> 3|3 | B4: 3 | C4: FUNDACOES | D4: 3 | E4: 60 | F4: 40 | R4: =SUM(E4:P4) -> 100
A5: =CONCATENATE($B$1,"|",B5) -> 3|4 | B5: 4 | C5: ESTRUTURAS | D5: 4 | E5: 20 | F5: 50 | G5: 30 | R5: =SUM(E5:P5) -> 100
A6: =CONCATENATE($B$1,"|",B6) -> 3|5 | B6: 5 | C6: ALVENARIA, DIVISÓRIAS, MUROS E FECHOS | D6: 5 | E6: 10 | F6: 50 | G6: 40 | R6: =SUM(E6:P6) -> 100
A7: =CONCATENATE($B$1,"|",B7) -> 3|6 | B7: 6 | C7: COBERTURA | F7: 30 | G7: 70 | R7: =SUM(E7:P7) -> 100
A8: =CONCATENATE($B$1,"|",B8) -> 3|7 | B8: 7 | C8: ESQUADRIAS, ACESSORIOS, VIDROS E ESPELHOS | D8: 3 | F8: 40 | G8: 60 | R8: =SUM(E8:P8) -> 100
A9: =CONCATENATE($B$1,"|",B9) -> 3|8 | B9: 8 | C9: INSTAL. ELETRICAS, TELEFONIA, SISTEMAS DE PROTEÇÃO E VENTILAÇÃO | D9: 5 | E9: 10 | F9: 50 | G9: 40 | R9: =SUM(E9:P9) -> 100
A10: =CONCATENATE($B$1,"|",B10) -> 3|9 | B10: 9 | C10: INSTAL. HIDROSANITÁRIAS, GAS-GLP, INCÊNDIO E APARELHOS | E10: 20 | F10: 50 | G10: 30 | R10: =SUM(E10:P10) -> 100
A11: =CONCATENATE($B$1,"|",B11) -> 3|10 | B11: 10 | C11: REVESTIMENTOS DE PAREDES E PISOS, IMPERMEABILIZACÕES, PINTURAS E ARGAMASSAS | D11: 6 | F11: 40 | G11: 60 | R11: =SUM(E11:P11) -> 100
A12: =CONCATENATE($B$1,"|",B12) -> 3|11 | B12: 11 | C12: PAVIMENTACAO E CALCAMENTO, PAISAGISMO E EQUIPAMENTOS EXTERNOS | D12: 6 | E12: 20 | F12: 40 | G12: 40 | R12: =SUM(E12:P12) -> 100
A13: =CONCATENATE($B$1,"|",B13) -> 3|12 | B13: 12 | C13: DIVERSOS (LIMPEZA,ENSAIOS TECNOLÓGICOS, EQUIPAMENTOS) | E13: 20 | F13: 40 | G13: 40 | R13: =SUM(E13:P13) -> 100
A15: N | B15: 4 | E15: 1 | F15: 2 | G15: 3 | H15: 4 | I15: 5 | J15: 6 | K15: 7 | L15: 8 | M15: 9 | N15: 10 | O15: 11 | P15: 12
A16: =CONCATENATE($B$15,"|",B16) -> 4|1 | B16: 1 | C16: SERVIÇOS PRELIMINARES E ADMINISTRAÇÃO DA OBRA | D16: 1 | E16: 50 | F16: 50 | R16: =SUM(E16:P16) -> 100
A17: =CONCATENATE($B$15,"|",B17) -> 4|2 | B17: 2 | C17: MOVIMENTO DE TERRA, DRENAGEM E ÁGUAS PLUVIAIS | D17: 2 | E17: 30 | F17: 40 | G17: 20 | H17: 10 | R17: =SUM(E17:P17) -> 100
A18: =CONCATENATE($B$15,"|",B18) -> 4|3 | B18: 3 | C18: FUNDACOES | D18: 3 | E18: 50 | F18: 40 | G18: 10 | R18: =SUM(E18:P18) -> 100
A19: =CONCATENATE($B$15,"|",B19) -> 4|4 | B19: 4 | C19: ESTRUTURAS | D19: 4 | E19: 20 | F19: 40 | G19: 20 | H19: 20 | R19: =SUM(E19:P19) -> 100
A20: =CONCATENATE($B$15,"|",B20) -> 4|5 | B20: 5 | C20: ALVENARIA, DIVISÓRIAS, MUROS E FECHOS | D20: 5 | E20: 10 | F20: 30 | G20: 40 | H20: 20 | R20: =SUM(E20:P20) -> 100
A21: =CONCATENATE($B$15,"|",B21) -> 4|6 | B21: 6 | C21: COBERTURA | F21: 10 | G21: 70 | H21: 20 | R21: =SUM(E21:P21) -> 100
A22: =CONCATENATE($B$15,"|",B22) -> 4|7 | B22: 7 | C22: ESQUADRIAS, ACESSORIOS, VIDROS E ESPELHOS | F22: 30 | G22: 30 | H22: 40 | R22: =SUM(E22:P22) -> 100
A23: =CONCATENATE($B$15,"|",B23) -> 4|8 | B23: 8 | C23: INSTAL. ELETRICAS, TELEFONIA, SISTEMAS DE PROTEÇÃO E VENTILAÇÃO | D23: 3 | E23: 10 | F23: 30 | G23: 30 | H23: 30 | R23: =SUM(E23:P23) -> 100
A24: =CONCATENATE($B$15,"|",B24) -> 4|9 | B24: 9 | C24: INSTAL. HIDROSANITÁRIAS, GAS-GLP, INCÊNDIO E APARELHOS | D24: 5 | E24: 20 | F24: 30 | G24: 30 | H24: 20 | R24: =SUM(E24:P24) -> 100
A25: =CONCATENATE($B$15,"|",B25) -> 4|10 | B25: 10 | C25: REVESTIMENTOS DE PAREDES E PISOS, IMPERMEABILIZACÕES, PINTURAS E ARGAMASSAS | D25: 6 | F25: 30 | G25: 40 | H25: 30 | R25: =SUM(E25:P25) -> 100
A26: =CONCATENATE($B$15,"|",B26) -> 4|11 | B26: 11 | C26: PAVIMENTACAO E CALCAMENTO, PAISAGISMO E EQUIPAMENTOS EXTERNOS | D26: 6 | E26: 10 | F26: 30 | G26: 30 | H26: 30 | R26: =SUM(E26:P26) -> 100
A27: =CONCATENATE($B$15,"|",B27) -> 4|12 | B27: 12 | C27: DIVERSOS (LIMPEZA,ENSAIOS TECNOLÓGICOS, EQUIPAMENTOS) | E27: 20 | F27: 20 | G27: 40 | H27: 20 | R27: =SUM(E27:P27) -> 100
A29: N | B29: 5 | E29: 1 | F29: 2 | G29: 3 | H29: 4 | I29: 5 | J29: 6 | K29: 7 | L29: 8 | M29: 9 | N29: 10 | O29: 11 | P29: 12
A30: =CONCATENATE($B$29,"|",B30) -> 5|1 | B30: 1 | C30: SERVIÇOS PRELIMINARES E ADMINISTRAÇÃO DA OBRA | D30: 1 | E30: 40 | F30: 40 | G30: 20 | R30: =SUM(E30:P30) -> 100
A31: =CONCATENATE($B$29,"|",B31) -> 5|2 | B31: 2 | C31: MOVIMENTO DE TERRA, DRENAGEM E ÁGUAS PLUVIAIS | D31: 2 | E31: 20 | F31: 30 | G31: 30 | H31: 10 | I31: 10 | R31: =SUM(E31:P31) -> 100
A32: =CONCATENATE($B$29,"|",B32) -> 5|3 | B32: 3 | C32: FUNDACOES | D32: 3 | E32: 40 | F32: 40 | G32: 20 | R32: =SUM(E32:P32) -> 100
A33: =CONCATENATE($B$29,"|",B33) -> 5|4 | B33: 4 | C33: ESTRUTURAS | D33: 4 | E33: 20 | F33: 20 | G33: 20 | H33: 20 | I33: 20 | R33: =SUM(E33:P33) -> 100
A34: =CONCATENATE($B$29,"|",B34) -> 5|5 | B34: 5 | C34: ALVENARIA, DIVISÓRIAS, MUROS E FECHOS | D34: 5 | E34: 5 | F34: 15 | G34: 20 | H34: 30 | I34: 30 | R34: =SUM(E34:P34) -> 100
A35: =CONCATENATE($B$29,"|",B35) -> 5|6 | B35: 6 | C35: COBERTURA | G35: 60 | H35: 40 | R35: =SUM(E35:P35) -> 100
A36: =CONCATENATE($B$29,"|",B36) -> 5|7 | B36: 7 | C36: ESQUADRIAS, ACESSORIOS, VIDROS E ESPELHOS | D36: 3 | F36: 10 | G36: 30 | H36: 30 | I36: 30 | R36: =SUM(E36:P36) -> 100
A37: =CONCATENATE($B$29,"|",B37) -> 5|8 | B37: 8 | C37: INSTAL. ELETRICAS, TELEFONIA, SISTEMAS DE PROTEÇÃO E VENTILAÇÃO | D37: 5 | E37: 10 | F37: 20 | G37: 30 | H37: 20 | I37: 20 | R37: =SUM(E37:P37) -> 100
A38: =CONCATENATE($B$29,"|",B38) -> 5|9 | B38: 9 | C38: INSTAL. HIDROSANITÁRIAS, GAS-GLP, INCÊNDIO E APARELHOS | D38: 6 | E38: 20 | F38: 20 | G38: 30 | H38: 20 | I38: 10 | R38: =SUM(E38:P38) -> 100
A39: =CONCATENATE($B$29,"|",B39) -> 5|10 | B39: 10 | C39: REVESTIMENTOS DE PAREDES E PISOS, IMPERMEABILIZACÕES, PINTURAS E ARGAMASSAS | D39: 6 | F39: 10 | G39: 30 | H39: 30 | I39: 30 | R39: =SUM(E39:P39) -> 100
A40: =CONCATENATE($B$29,"|",B40) -> 5|11 | B40: 11 | C40: PAVIMENTACAO E CALCAMENTO, PAISAGISMO E EQUIPAMENTOS EXTERNOS | E40: 10 | F40: 20 | G40: 20 | H40: 30 | I40: 20 | R40: =SUM(E40:P40) -> 100
A41: =CONCATENATE($B$29,"|",B41) -> 5|12 | B41: 12 | C41: DIVERSOS (LIMPEZA,ENSAIOS TECNOLÓGICOS, EQUIPAMENTOS) | E41: 20 | F41: 20 | G41: 20 | H41: 20 | I41: 20 | R41: =SUM(E41:P41) -> 100
A43: N | B43: 6 | E43: 1 | F43: 2 | G43: 3 | H43: 4 | I43: 5 | J43: 6 | K43: 7 | L43: 8 | M43: 9 | N43: 10 | O43: 11 | P43: 12
A44: =CONCATENATE($B$43,"|",B44) -> 6|1 | B44: 1 | C44: SERVIÇOS PRELIMINARES E ADMINISTRAÇÃO DA OBRA | D44: 1 | E44: 40 | F44: 30 | G44: 30 | R44: =SUM(E44:P44) -> 100
A45: =CONCATENATE($B$43,"|",B45) -> 6|2 | B45: 2 | C45: MOVIMENTO DE TERRA, DRENAGEM E ÁGUAS PLUVIAIS | D45: 2 | E45: 20 | F45: 30 | G45: 20 | H45: 10 | I45: 10 | J45: 10 | R45: =SUM(E45:P45) -> 100
A46: =CONCATENATE($B$43,"|",B46) -> 6|3 | B46: 3 | C46: FUNDACOES | D46: 3 | E46: 20 | F46: 40 | G46: 40 | R46: =SUM(E46:P46) -> 100
A47: =CONCATENATE($B$43,"|",B47) -> 6|4 | B47: 4 | C47: ESTRUTURAS | E47: 10 | F47: 20 | G47: 20 | H47: 20 | I47: 20 | J47: 10 | R47: =SUM(E47:P47) -> 100
A48: =CONCATENATE($B$43,"|",B48) -> 6|5 | B48: 5 | C48: ALVENARIA, DIVISÓRIAS, MUROS E FECHOS | D48: 4 | E48: 5 | F48: 10 | G48: 20 | H48: 30 | I48: 25 | J48: 10 | R48: =SUM(E48:P48) -> 100
A49: =CONCATENATE($B$43,"|",B49) -> 6|6 | B49: 6 | C49: COBERTURA | D49: 5 | G49: 50 | H49: 50 | R49: =SUM(E49:P49) -> 100
A50: =CONCATENATE($B$43,"|",B50) -> 6|7 | B50: 7 | C50: ESQUADRIAS, ACESSORIOS, VIDROS E ESPELHOS | D50: 3 | G50: 20 | H50: 30 | I50: 30 | J50: 20 | R50: =SUM(E50:P50) -> 100
A51: =CONCATENATE($B$43,"|",B51) -> 6|8 | B51: 8 | C51: INSTAL. ELETRICAS, TELEFONIA, SISTEMAS DE PROTEÇÃO E VENTILAÇÃO | D51: 5 | E51: 10 | F51: 10 | G51: 20 | H51: 20 | I51: 20 | J51: 20 | R51: =SUM(E51:P51) -> 100
A52: =CONCATENATE($B$43,"|",B52) -> 6|9 | B52: 9 | C52: INSTAL. HIDROSANITÁRIAS, GAS-GLP, INCÊNDIO E APARELHOS | D52: 6 | E52: 10 | F52: 20 | G52: 20 | H52: 20 | I52: 20 | J52: 10 | R52: =SUM(E52:P52) -> 100
A53: =CONCATENATE($B$43,"|",B53) -> 6|10 | B53: 10 | C53: REVESTIMENTOS DE PAREDES E PISOS, IMPERMEABILIZACÕES, PINTURAS E ARGAMASSAS | D53: 6 | G53: 20 | H53: 30 | I53: 30 | J53: 20 | R53: =SUM(E53:P53) -> 100
A54: =CONCATENATE($B$43,"|",B54) -> 6|11 | B54: 11 | C54: PAVIMENTACAO E CALCAMENTO, PAISAGISMO E EQUIPAMENTOS EXTERNOS | E54: 10 | F54: 10 | G54: 20 | H54: 20 | I54: 20 | J54: 20 | R54: =SUM(E54:P54) -> 100
A55: =CONCATENATE($B$43,"|",B55) -> 6|12 | B55: 12 | C55: DIVERSOS (LIMPEZA,ENSAIOS TECNOLÓGICOS, EQUIPAMENTOS) | E55: 10 | F55: 20 | G55: 20 | H55: 20 | I55: 20 | J55: 10 | R55: =SUM(E55:P55) -> 100
A57: N | B57: 7 | E57: 1 | F57: 2 | G57: 3 | H57: 4 | I57: 5 | J57: 6 | K57: 7 | L57: 8 | M57: 9 | N57: 10 | O57: 11 | P57: 12
A58: =CONCATENATE($B$57,"|",B58) -> 7|1 | B58: 1 | C58: SERVIÇOS PRELIMINARES E ADMINISTRAÇÃO DA OBRA | D58: 1 | E58: 30 | F58: 30 | G58: 30 | H58: 10 | R58: =SUM(E58:P58) -> 100
A59: =CONCATENATE($B$57,"|",B59) -> 7|2 | B59: 2 | C59: MOVIMENTO DE TERRA, DRENAGEM E ÁGUAS PLUVIAIS | D59: 2 | E59: 20 | F59: 20 | G59: 20 | H59: 10 | I59: 10 | J59: 10 | K59: 10 | R59: =SUM(E59:P59) -> 100
A60: =CONCATENATE($B$57,"|",B60) -> 7|3 | B60: 3 | C60: FUNDACOES | D60: 3 | E60: 20 | F60: 30 | G60: 30 | H60: 20 | R60: =SUM(E60:P60) -> 100
A61: =CONCATENATE($B$57,"|",B61) -> 7|4 | B61: 4 | C61: ESTRUTURAS | E61: 10 | F61: 10 | G61: 20 | H61: 20 | I61: 20 | J61: 10 | K61: 10 | R61: =SUM(E61:P61) -> 100
A62: =CONCATENATE($B$57,"|",B62) -> 7|5 | B62: 5 | C62: ALVENARIA, DIVISÓRIAS, MUROS E FECHOS | D62: 4 | E62: 5 | F62: 10 | G62: 20 | H62: 20 | I62: 20 | J62: 15 | K62: 10 | R62: =SUM(E62:P62) -> 100
A63: =CONCATENATE($B$57,"|",B63) -> 7|6 | B63: 6 | C63: COBERTURA | D63: 5 | G63: 30 | H63: 40 | I63: 30 | R63: =SUM(E63:P63) -> 100
A64: =CONCATENATE($B$57,"|",B64) -> 7|7 | B64: 7 | C64: ESQUADRIAS, ACESSORIOS, VIDROS E ESPELHOS | D64: 3 | G64: 20 | H64: 20 | I64: 20 | J64: 20 | K64: 20 | R64: =SUM(E64:P64) -> 100
A65: =CONCATENATE($B$57,"|",B65) -> 7|8 | B65: 8 | C65: INSTAL. ELETRICAS, TELEFONIA, SISTEMAS DE PROTEÇÃO E VENTILAÇÃO | D65: 5 | E65: 10 | F65: 10 | G65: 10 | H65: 20 | I65: 20 | J65: 20 | K65: 10 | R65: =SUM(E65:P65) -> 100
A66: =CONCATENATE($B$57,"|",B66) -> 7|9 | B66: 9 | C66: INSTAL. HIDROSANITÁRIAS, GAS-GLP, INCÊNDIO E APARELHOS | D66: 6 | E66: 10 | F66: 10 | G66: 20 | H66: 20 | I66: 20 | J66: 10 | K66: 10 | R66: =SUM(E66:P66) -> 100
A67: =CONCATENATE($B$57,"|",B67) -> 7|10 | B67: 10 | C67: REVESTIMENTOS DE PAREDES E PISOS, IMPERMEABILIZACÕES, PINTURAS E ARGAMASSAS | D67: 6 | G67: 20 | H67: 20 | I67: 20 | J67: 20 | K67: 20 | R67: =SUM(E67:P67) -> 100
A68: =CONCATENATE($B$57,"|",B68) -> 7|11 | B68: 11 | C68: PAVIMENTACAO E CALCAMENTO, PAISAGISMO E EQUIPAMENTOS EXTERNOS | E68: 5 | F68: 5 | G68: 20 | H68: 20 | I68: 20 | J68: 20 | K68: 10 | R68: =SUM(E68:P68) -> 100
A69: =CONCATENATE($B$57,"|",B69) -> 7|12 | B69: 12 | C69: DIVERSOS (LIMPEZA,ENSAIOS TECNOLÓGICOS, EQUIPAMENTOS) | E69: 10 | F69: 10 | G69: 20 | H69: 20 | I69: 20 | J69: 10 | K69: 10 | R69: =SUM(E69:P69) -> 100
A71: N | B71: 8 | E71: 1 | F71: 2 | G71: 3 | H71: 4 | I71: 5 | J71: 6 | K71: 7 | L71: 8 | M71: 9 | N71: 10 | O71: 11 | P71: 12
A72: =CONCATENATE($B$71,"|",B72) -> 8|1 | B72: 1 | C72: SERVIÇOS PRELIMINARES E ADMINISTRAÇÃO DA OBRA | D72: 1 | E72: 20 | F72: 30 | G72: 30 | H72: 20 | R72: =SUM(E72:P72) -> 100
A73: =CONCATENATE($B$71,"|",B73) -> 8|2 | B73: 2 | C73: MOVIMENTO DE TERRA, DRENAGEM E ÁGUAS PLUVIAIS | D73: 2 | E73: 10 | F73: 20 | G73: 20 | H73: 10 | I73: 10 | J73: 10 | K73: 10 | L73: 10 | R73: =SUM(E73:P73) -> 100
A74: =CONCATENATE($B$71,"|",B74) -> 8|3 | B74: 3 | C74: FUNDACOES | D74: 3 | E74: 20 | F74: 20 | G74: 30 | H74: 20 | I74: 10 | R74: =SUM(E74:P74) -> 100
A75: =CONCATENATE($B$71,"|",B75) -> 8|4 | B75: 4 | C75: ESTRUTURAS | D75: 4 | E75: 10 | F75: 10 | G75: 10 | H75: 20 | I75: 20 | J75: 10 | K75: 10 | L75: 10 | R75: =SUM(E75:P75) -> 100
A76: =CONCATENATE($B$71,"|",B76) -> 8|5 | B76: 5 | C76: ALVENARIA, DIVISÓRIAS, MUROS E FECHOS | D76: 5 | E76: 5 | F76: 10 | G76: 20 | H76: 20 | I76: 15 | J76: 10 | K76: 10 | L76: 10 | R76: =SUM(E76:P76) -> 100
A77: =CONCATENATE($B$71,"|",B77) -> 8|6 | B77: 6 | C77: COBERTURA | G77: 30 | H77: 30 | I77: 30 | J77: 10 | R77: =SUM(E77:P77) -> 100
A78: =CONCATENATE($B$71,"|",B78) -> 8|7 | B78: 7 | C78: ESQUADRIAS, ACESSORIOS, VIDROS E ESPELHOS | D78: 3 | G78: 10 | H78: 20 | I78: 20 | J78: 20 | K78: 20 | L78: 10 | R78: =SUM(E78:P78) -> 100
A79: =CONCATENATE($B$71,"|",B79) -> 8|8 | B79: 8 | C79: INSTAL. ELETRICAS, TELEFONIA, SISTEMAS DE PROTEÇÃO E VENTILAÇÃO | D79: 5 | E79: 10 | F79: 10 | G79: 10 | H79: 10 | I79: 20 | J79: 20 | K79: 10 | L79: 10 | R79: =SUM(E79:P79) -> 100
A80: =CONCATENATE($B$71,"|",B80) -> 8|9 | B80: 9 | C80: INSTAL. HIDROSANITÁRIAS, GAS-GLP, INCÊNDIO E APARELHOS | D80: 6 | E80: 10 | F80: 10 | G80: 10 | H80: 20 | I80: 20 | J80: 10 | K80: 10 | L80: 10 | R80: =SUM(E80:P80) -> 100
A81: =CONCATENATE($B$71,"|",B81) -> 8|10 | B81: 10 | C81: REVESTIMENTOS DE PAREDES E PISOS, IMPERMEABILIZACÕES, PINTURAS E ARGAMASSAS | D81: 6 | G81: 10 | H81: 20 | I81: 20 | J81: 20 | K81: 20 | L81: 10 | R81: =SUM(E81:P81) -> 100
A82: =CONCATENATE($B$71,"|",B82) -> 8|11 | B82: 11 | C82: PAVIMENTACAO E CALCAMENTO, PAISAGISMO E EQUIPAMENTOS EXTERNOS | E82: 5 | F82: 5 | G82: 10 | H82: 20 | I82: 20 | J82: 20 | K82: 10 | L82: 10 | R82: =SUM(E82:P82) -> 100
A83: =CONCATENATE($B$71,"|",B83) -> 8|12 | B83: 12 | C83: DIVERSOS (LIMPEZA,ENSAIOS TECNOLÓGICOS, EQUIPAMENTOS) | E83: 10 | F83: 10 | G83: 10 | H83: 20 | I83: 20 | J83: 10 | K83: 10 | L83: 10 | R83: =SUM(E83:P83) -> 100
A85: N | B85: 9 | E85: 1 | F85: 2 | G85: 3 | H85: 4 | I85: 5 | J85: 6 | K85: 7 | L85: 8 | M85: 9 | N85: 10 | O85: 11 | P85: 12
A86: =CONCATENATE($B$85,"|",B86) -> 9|1 | B86: 1 | C86: SERVIÇOS PRELIMINARES E ADMINISTRAÇÃO DA OBRA | D86: 1 | E86: 20 | F86: 30 | G86: 20 | H86: 20 | I86: 10 | R86: =SUM(E86:P86) -> 100
A87: =CONCATENATE($B$85,"|",B87) -> 9|2 | B87: 2 | C87: MOVIMENTO DE TERRA, DRENAGEM E ÁGUAS PLUVIAIS | D87: 2 | E87: 10 | F87: 20 | G87: 20 | H87: 10 | I87: 10 | J87: 10 | K87: 10 | L87: 10 | R87: =SUM(E87:P87) -> 100
A88: =CONCATENATE($B$85,"|",B88) -> 9|3 | B88: 3 | C88: FUNDACOES | D88: 3 | E88: 20 | F88: 20 | G88: 30 | H88: 20 | I88: 10 | R88: =SUM(E88:P88) -> 100
A89: =CONCATENATE($B$85,"|",B89) -> 9|4 | B89: 4 | C89: ESTRUTURAS | D89: 4 | E89: 10 | F89: 10 | G89: 10 | H89: 10 | I89: 20 | J89: 10 | K89: 10 | L89: 10 | M89: 10 | R89: =SUM(E89:P89) -> 100
A90: =CONCATENATE($B$85,"|",B90) -> 9|5 | B90: 5 | C90: ALVENARIA, DIVISÓRIAS, MUROS E FECHOS | D90: 5 | E90: 5 | F90: 10 | G90: 10 | H90: 20 | I90: 15 | J90: 10 | K90: 10 | L90: 10 | M90: 10 | R90: =SUM(E90:P90) -> 100
A91: =CONCATENATE($B$85,"|",B91) -> 9|6 | B91: 6 | C91: COBERTURA | G91: 20 | H91: 20 | I91: 20 | J91: 20 | K91: 20 | R91: =SUM(E91:P91) -> 100
A92: =CONCATENATE($B$85,"|",B92) -> 9|7 | B92: 7 | C92: ESQUADRIAS, ACESSORIOS, VIDROS E ESPELHOS | D92: 3 | G92: 10 | H92: 10 | I92: 20 | J92: 20 | K92: 20 | L92: 10 | M92: 10 | R92: =SUM(E92:P92) -> 100
A93: =CONCATENATE($B$85,"|",B93) -> 9|8 | B93: 8 | C93: INSTAL. ELETRICAS, TELEFONIA, SISTEMAS DE PROTEÇÃO E VENTILAÇÃO | D93: 5 | E93: 10 | F93: 10 | G93: 10 | H93: 10 | I93: 10 | J93: 20 | K93: 10 | L93: 10 | M93: 10 | R93: =SUM(E93:P93) -> 100
A94: =CONCATENATE($B$85,"|",B94) -> 9|9 | B94: 9 | C94: INSTAL. HIDROSANITÁRIAS, GAS-GLP, INCÊNDIO E APARELHOS | D94: 6 | E94: 10 | F94: 10 | G94: 10 | H94: 10 | I94: 20 | J94: 10 | K94: 10 | L94: 10 | M94: 10 | R94: =SUM(E94:P94) -> 100
A95: =CONCATENATE($B$85,"|",B95) -> 9|10 | B95: 10 | C95: REVESTIMENTOS DE PAREDES E PISOS, IMPERMEABILIZACÕES, PINTURAS E ARGAMASSAS | D95: 6 | G95: 10 | H95: 10 | I95: 20 | J95: 20 | K95: 20 | L95: 10 | M95: 10 | R95: =SUM(E95:P95) -> 100
A96: =CONCATENATE($B$85,"|",B96) -> 9|11 | B96: 11 | C96: PAVIMENTACAO E CALCAMENTO, PAISAGISMO E EQUIPAMENTOS EXTERNOS | F96: 5 | G96: 5 | H96: 20 | I96: 20 | J96: 20 | K96: 10 | L96: 10 | M96: 10 | R96: =SUM(E96:P96) -> 100
A97: =CONCATENATE($B$85,"|",B97) -> 9|12 | B97: 12 | C97: DIVERSOS (LIMPEZA,ENSAIOS TECNOLÓGICOS, EQUIPAMENTOS) | E97: 10 | F97: 10 | G97: 10 | H97: 10 | I97: 20 | J97: 10 | K97: 10 | L97: 10 | M97: 10 | R97: =SUM(E97:P97) -> 100
A99: N | B99: 10 | E99: 1 | F99: 2 | G99: 3 | H99: 4 | I99: 5 | J99: 6 | K99: 7 | L99: 8 | M99: 9 | N99: 10 | O99: 11 | P99: 12
A100: =CONCATENATE($B$99,"|",B100) -> 10|1 | B100: 1 | C100: SERVIÇOS PRELIMINARES E ADMINISTRAÇÃO DA OBRA | D100: 1 | E100: 20 | F100: 30 | G100: 20 | H100: 20 | I100: 10 | R100: =SUM(E100:P100) -> 100
A101: =CONCATENATE($B$99,"|",B101) -> 10|2 | B101: 2 | C101: MOVIMENTO DE TERRA, DRENAGEM E ÁGUAS PLUVIAIS | D101: 2 | E101: 10 | F101: 10 | G101: 20 | H101: 10 | I101: 10 | J101: 10 | K101: 10 | L101: 10 | M101: 10 | R101: =SUM(E101:P101) -> 100
A102: =CONCATENATE($B$99,"|",B102) -> 10|3 | B102: 3 | C102: FUNDACOES | D102: 3 | E102: 20 | F102: 20 | G102: 20 | H102: 20 | I102: 20 | R102: =SUM(E102:P102) -> 100
A103: =CONCATENATE($B$99,"|",B103) -> 10|4 | B103: 4 | C103: ESTRUTURAS | D103: 4 | E103: 5 | F103: 10 | G103: 15 | H103: 10 | I103: 10 | J103: 10 | K103: 10 | L103: 10 | M103: 10 | N103: 10 | R103: =SUM(E103:P103) -> 100
A104: =CONCATENATE($B$99,"|",B104) -> 10|5 | B104: 5 | C104: ALVENARIA, DIVISÓRIAS, MUROS E FECHOS | E104: 5 | F104: 10 | G104: 15 | H104: 10 | I104: 10 | J104: 10 | K104: 10 | L104: 10 | M104: 10 | N104: 10 | R104: =SUM(E104:P104) -> 100
A105: =CONCATENATE($B$99,"|",B105) -> 10|6 | B105: 6 | C105: COBERTURA | D105: 5 | G105: 20 | H105: 20 | I105: 20 | J105: 20 | K105: 20 | R105: =SUM(E105:P105) -> 100
A106: =CONCATENATE($B$99,"|",B106) -> 10|7 | B106: 7 | C106: ESQUADRIAS, ACESSORIOS, VIDROS E ESPELHOS | D106: 3 | G106: 10 | H106: 10 | I106: 10 | J106: 20 | K106: 20 | L106: 10 | M106: 10 | N106: 10 | R106: =SUM(E106:P106) -> 100
A107: =CONCATENATE($B$99,"|",B107) -> 10|8 | B107: 8 | C107: INSTAL. ELETRICAS, TELEFONIA, SISTEMAS DE PROTEÇÃO E VENTILAÇÃO | D107: 5 | E107: 5 | F107: 5 | G107: 10 | H107: 10 | I107: 10 | J107: 20 | K107: 10 | L107: 10 | M107: 10 | N107: 10 | R107: =SUM(E107:P107) -> 100
...

Sheet Cronograma PAM
B1: PAM | C1: SECRETARIA DE ESTADO DO DESENVOLVIMENTO URBANO - SEDU | G1: CONSTRUÇÃO CIVIL
B2: Município: | C2: Piên | F2: SAM | G2: 76 | H2: Edital no Município | J2: Procedimento prévio | L2: Início previsto da Obra | N2: Convênio | P2: Repasse do Concedente | S2: 320000 | T2: =IF(S4=0,0,S2/S4) -> 0.75613052
B3: Projeto: | C3: CAMPO DE GRAMA SINTÉTICA COM ALAMBRADO | F3: Lote nº | G3: 1 | H3: Data | I3: 44650 | J3: Dias | K3: =80-10 -> 70 | L3: Data | M3: =I3+K3+10 -> 44730 | N3: nº | P3: Contrapartida do Proponente | S3: =S29-S2 -> 103207.36 | T3: =IF(S3=0,0,1-T2) -> 0.24386948
B4: Quantidade: | E4: CRONOGRAMA FÍSICO FINANCEIRO | P4: Valor Total | S4: =SUM(S2:S3) -> 423207.36 | T4: =SUM(T2:T3) -> 1 | W4: Controle
B5: GRUPO | C5: SERVIÇOS | E5: N | F5: PARCELAS (%) | S5: TOTAL | T5: % S/ | W5: =IF(S4=S61,"OK","erro") -> OK
B6: ITEM | E6: 6 | F6: =IF(E6=0,0,1) -> 1 | G6: =IF($E$6<2,0,2) -> 2 | H6: =IF($E$6<3,0,3) -> 3 | I6: =IF($E$6<4,0,4) -> 4 | J6: =IF($E$6<5,0,5) -> 5 | K6: =IF($E$6<6,0,6) -> 6 | L6: =IF($E$6<7,0,7) -> 0 | M6: =IF($E$6<8,0,8) -> 0 | N6: =IF($E$6<9,0,9) -> 0 | O6: =IF($E$6<10,0,10) -> 0 | P6: =IF($E$6<11,0,11) -> 0 | Q6: =IF($E$6<12,0,12) -> 0 | S6: ITEM (R$) | T6: TOTAL
C7: Data Início | F7: =IF(E6=0,0,M3) -> 44730 | G7: =IF(G6=0,0,F8+1) -> 44761 | H7: =IF(H6=0,0,G8+1) -> 44792 | I7: =IF(I6=0,0,H8+1) -> 44823 | J7: =IF(J6=0,0,I8+1) -> 44854 | K7: =IF(K6=0,0,J8+1) -> 44885 | L7: =IF(L6=0,0,K8+1) -> 0 | M7: =IF(M6=0,0,L8+1) -> 0 | N7: =IF(N6=0,0,M8+1) -> 0 | ... Q7: =IF(Q6=0,0,P8+1) -> 0
C8: Data Fim | F8: =IF(E6=0,0,F7+30) -> 44760 | G8: =IF(G6=0,0,G7+30) -> 44791 | H8: =IF(H6=0,0,H7+30) -> 44822 | I8: =IF(I6=0,0,I7+30) -> 44853 | J8: =IF(J6=0,0,J7+30) -> 44884 | K8: =IF(K6=0,0,K7+30) -> 44915 | L8: =IF(L6=0,0,L7+30) -> 0 | M8: =IF(M6=0,0,M7+30) -> 0 | N8: =IF(N6=0,0,N7+30) -> 0 | ... Q8: =IF(Q6=0,0,Q7+30) -> 0
A9: =CONCATENATE($E$6,"|",B9) -> 6|1 | B9: 1 | C9: SERVIÇOS PRELIMINARES E ADMINISTRAÇÃO DA OBRA | E9: 1 | F9: =IF(E$6<3,0,IF(F$6=0,0,VLOOKUP($A9,'base (3)'!$A:$P,F$6+4,FALSE))) -> 40 | G9: =IF(E$6<3,0,IF(G$6=0,0,VLOOKUP($A9,'base (3)'!$A:$P,G$6+4,FALSE))) -> 30 | H9: =IF(H$6=0,0,VLOOKUP($A9,'base (3)'!$A:$P,H$6+4,FALSE)) -> 30 | I9: =IF(I$6=0,0,VLOOKUP($A9,'base (3)'!$A:$P,I$6+4,FALSE)) -> 0 | J9: =IF(J$6=0,0,VLOOKUP($A9,'base (3)'!$A:$P,J$6+4,FALSE)) -> 0 | K9: =IF(K$6=0,0,VLOOKUP($A9,'base (3)'!$A:$P,K$6+4,FALSE)) -> 0 | L9: =IF(L$6=0,0,VLOOKUP($A9,'base (3)'!$A:$P,L$6+4,FALSE)) -> 0 | M9: =IF(M$6=0,0,VLOOKUP($A9,'base (3)'!$A:$P,M$6+4,FALSE)) -> 0 | N9: =IF(N$6=0,0,VLOOKUP($A9,'base (3)'!$A:$P,N$6+4,FALSE)) -> 0 | O9: =IF(O$6=0,0,VLOOKUP($A9,'base (3)'!$A:$P,O$6+4,FALSE)) -> 0 | ... Q9: =IF(Q$6=0,0,VLOOKUP($A9,'base (3)'!$A:$P,Q$6+4,FALSE)) -> 0 | S9: 16126.9 | T9: =IF($S$29=0,0,(S9/$S$29)*100) -> 3.8106379 | W9: =SUM(F9:Q9) -> 100
A10: =CONCATENATE($E$6,"|",B10) -> 6|2 | B10: 2 | C10: MOVIMENTO DE TERRA, DRENAGEM E ÁGUAS PLUVIAIS | E10: 2 | F10: =IF(E$6<3,0,IF(F$6=0,0,VLOOKUP($A10,'base (3)'!$A:$P,F$6+4,FALSE))) -> 20 | G10: =IF(E$6<3,0,IF(G$6=0,0,VLOOKUP($A10,'base (3)'!$A:$P,G$6+4,FALSE))) -> 30 | H10: =IF(H$6=0,0,VLOOKUP($A10,'base (3)'!$A:$P,H$6+4,FALSE)) -> 20 | I10: =IF(I$6=0,0,VLOOKUP($A10,'base (3)'!$A:$P,I$6+4,FALSE)) -> 10 | J10: =IF(J$6=0,0,VLOOKUP($A10,'base (3)'!$A:$P,J$6+4,FALSE)) -> 10 | K10: =IF(K$6=0,0,VLOOKUP($A10,'base (3)'!$A:$P,K$6+4,FALSE)) -> 10 | L10: =IF(L$6=0,0,VLOOKUP($A10,'base (3)'!$A:$P,L$6+4,FALSE)) -> 0 | M10: =IF(M$6=0,0,VLOOKUP($A10,'base (3)'!$A:$P,M$6+4,FALSE)) -> 0 | N10: =IF(N$6=0,0,VLOOKUP($A10,'base (3)'!$A:$P,N$6+4,FALSE)) -> 0 | O10: =IF(O$6=0,0,VLOOKUP($A10,'base (3)'!$A:$P,O$6+4,FALSE)) -> 0 | ... Q10: =IF(Q$6=0,0,VLOOKUP($A10,'base (3)'!$A:$P,Q$6+4,FALSE)) -> 0 | S10: 73683.46 | T10: =IF($S$29=0,0,(S10/$S$29)*100) -> 17.410723 | W10: =SUM(F10:Q10) -> 100
A11: =CONCATENATE($E$6,"|",B11) -> 6|3 | B11: 3 | C11: FUNDACOES | E11: 3 | F11: =IF(E$6<3,0,IF(F$6=0,0,VLOOKUP($A11,'base (3)'!$A:$P,F$6+4,FALSE))) -> 20 | G11: =IF(E$6<3,0,IF(G$6=0,0,VLOOKUP($A11,'base (3)'!$A:$P,G$6+4,FALSE))) -> 40 | H11: =IF(H$6=0,0,VLOOKUP($A11,'base (3)'!$A:$P,H$6+4,FALSE)) -> 40 | I11: =IF(I$6=0,0,VLOOKUP($A11,'base (3)'!$A:$P,I$6+4,FALSE)) -> 0 | J11: =IF(J$6=0,0,VLOOKUP($A11,'base (3)'!$A:$P,J$6+4,FALSE)) -> 0 | K11: =IF(K$6=0,0,VLOOKUP($A11,'base (3)'!$A:$P,K$6+4,FALSE)) -> 0 | L11: =IF(L$6=0,0,VLOOKUP($A11,'base (3)'!$A:$P,L$6+4,FALSE)) -> 0 | M11: =IF(M$6=0,0,VLOOKUP($A11,'base (3)'!$A:$P,M$6+4,FALSE)) -> 0 | N11: =IF(N$6=0,0,VLOOKUP($A11,'base (3)'!$A:$P,N$6+4,FALSE)) -> 0 | O11: =IF(O$6=0,0,VLOOKUP($A11,'base (3)'!$A:$P,O$6+4,FALSE)) -> 0 | ... Q11: =IF(Q$6=0,0,VLOOKUP($A11,'base (3)'!$A:$P,Q$6+4,FALSE)) -> 0 | S11: 4963.87 | T11: =IF($S$29=0,0,(S11/$S$29)*100) -> 1.1729167 | W11: =SUM(F11:Q11) -> 100
A12: =CONCATENATE($E$6,"|",B12) -> 6|4 | B12: 4 | C12: ESTRUTURAS | E12: 4 | F12: =IF(E$6<3,0,IF(F$6=0,0,VLOOKUP($A12,'base (3)'!$A:$P,F$6+4,FALSE))) -> 10 | G12: =IF(E$6<3,0,IF(G$6=0,0,VLOOKUP($A12,'base (3)'!$A:$P,G$6+4,FALSE))) -> 20 | H12: =IF(H$6=0,0,VLOOKUP($A12,'base (3)'!$A:$P,H$6+4,FALSE)) -> 20 | I12: =IF(I$6=0,0,VLOOKUP($A12,'base (3)'!$A:$P,I$6+4,FALSE)) -> 20 | J12: =IF(J$6=0,0,VLOOKUP($A12,'base (3)'!$A:$P,J$6+4,FALSE)) -> 20 | K12: =IF(K$6=0,0,VLOOKUP($A12,'base (3)'!$A:$P,K$6+4,FALSE)) -> 10 | L12: =IF(L$6=0,0,VLOOKUP($A12,'base (3)'!$A:$P,L$6+4,FALSE)) -> 0 | M12: =IF(M$6=0,0,VLOOKUP($A12,'base (3)'!$A:$P,M$6+4,FALSE)) -> 0 | N12: =IF(N$6=0,0,VLOOKUP($A12,'base (3)'!$A:$P,N$6+4,FALSE)) -> 0 | O12: =IF(O$6=0,0,VLOOKUP($A12,'base (3)'!$A:$P,O$6+4,FALSE)) -> 0 | ... Q12: =IF(Q$6=0,0,VLOOKUP($A12,'base (3)'!$A:$P,Q$6+4,FALSE)) -> 0 | S12: 37418.28 | T12: =IF($S$29=0,0,(S12/$S$29)*100) -> 8.8415948 | W12: =SUM(F12:Q12) -> 100
A13: =CONCATENATE($E$6,"|",B13) -> 6|5 | B13: 5 | C13: ALVENARIA, DIVISÓRIAS, MUROS E FECHOS | E13: 5 | F13: =IF(E$6<3,0,IF(F$6=0,0,VLOOKUP($A13,'base (3)'!$A:$P,F$6+4,FALSE))) -> 5 | G13: =IF(E$6<3,0,IF(G$6=0,0,VLOOKUP($A13,'base (3)'!$A:$P,G$6+4,FALSE))) -> 10 | H13: =IF(H$6=0,0,VLOOKUP($A13,'base (3)'!$A:$P,H$6+4,FALSE)) -> 20 | I13: =IF(I$6=0,0,VLOOKUP($A13,'base (3)'!$A:$P,I$6+4,FALSE)) -> 30 | J13: =IF(J$6=0,0,VLOOKUP($A13,'base (3)'!$A:$P,J$6+4,FALSE)) -> 25 | K13: =IF(K$6=0,0,VLOOKUP($A13,'base (3)'!$A:$P,K$6+4,FALSE)) -> 10 | L13: =IF(L$6=0,0,VLOOKUP($A13,'base (3)'!$A:$P,L$6+4,FALSE)) -> 0 | M13: =IF(M$6=0,0,VLOOKUP($A13,'base (3)'!$A:$P,M$6+4,FALSE)) -> 0 | N13: =IF(N$6=0,0,VLOOKUP($A13,'base (3)'!$A:$P,N$6+4,FALSE)) -> 0 | O13: =IF(O$6=0,0,VLOOKUP($A13,'base (3)'!$A:$P,O$6+4,FALSE)) -> 0 | ... Q13: =IF(Q$6=0,0,VLOOKUP($A13,'base (3)'!$A:$P,Q$6+4,FALSE)) -> 0 | S13: 126516.6 | T13: =IF($S$29=0,0,(S13/$S$29)*100) -> 29.894707 | W13: =SUM(F13:Q13) -> 100
A14: =CONCATENATE($E$6,"|",B14) -> 6|6 | B14: 6 | C14: COBERTURA | E14: 3 | F14: =IF(E$6<3,0,IF(F$6=0,0,VLOOKUP($A14,'base (3)'!$A:$P,F$6+4,FALSE))) -> 0 | G14: =IF(E$6<3,0,IF(G$6=0,0,VLOOKUP($A14,'base (3)'!$A:$P,G$6+4,FALSE))) -> 0 | H14: =IF(H$6=0,0,VLOOKUP($A14,'base (3)'!$A:$P,H$6+4,FALSE)) -> 50 | I14: =IF(I$6=0,0,VLOOKUP($A14,'base (3)'!$A:$P,I$6+4,FALSE)) -> 50 | J14: =IF(J$6=0,0,VLOOKUP($A14,'base (3)'!$A:$P,J$6+4,FALSE)) -> 0 | K14: =IF(K$6=0,0,VLOOKUP($A14,'base (3)'!$A:$P,K$6+4,FALSE)) -> 0 | L14: =IF(L$6=0,0,VLOOKUP($A14,'base (3)'!$A:$P,L$6+4,FALSE)) -> 0 | M14: =IF(M$6=0,0,VLOOKUP($A14,'base (3)'!$A:$P,M$6+4,FALSE)) -> 0 | N14: =IF(N$6=0,0,VLOOKUP($A14,'base (3)'!$A:$P,N$6+4,FALSE)) -> 0 | O14: =IF(O$6=0,0,VLOOKUP($A14,'base (3)'!$A:$P,O$6+4,FALSE)) -> 0 | ... Q14: =IF(Q$6=0,0,VLOOKUP($A14,'base (3)'!$A:$P,Q$6+4,FALSE)) -> 0 | T14: =IF($S$29=0,0,(S14/$S$29)*100) -> 0 | W14: =SUM(F14:Q14) -> 100
A15: =CONCATENATE($E$6,"|",B15) -> 6|7 | B15: 7 | C15: ESQUADRIAS, ACESSORIOS, VIDROS E ESPELHOS | E15: 5 | F15: =IF(E$6<3,0,IF(F$6=0,0,VLOOKUP($A15,'base (3)'!$A:$P,F$6+4,FALSE))) -> 0 | G15: =IF(E$6<3,0,IF(G$6=0,0,VLOOKUP($A15,'base (3)'!$A:$P,G$6+4,FALSE))) -> 0 | H15: =IF(H$6=0,0,VLOOKUP($A15,'base (3)'!$A:$P,H$6+4,FALSE)) -> 20 | I15: =IF(I$6=0,0,VLOOKUP($A15,'base (3)'!$A:$P,I$6+4,FALSE)) -> 30 | J15: =IF(J$6=0,0,VLOOKUP($A15,'base (3)'!$A:$P,J$6+4,FALSE)) -> 30 | K15: =IF(K$6=0,0,VLOOKUP($A15,'base (3)'!$A:$P,K$6+4,FALSE)) -> 20 | L15: =IF(L$6=0,0,VLOOKUP($A15,'base (3)'!$A:$P,L$6+4,FALSE)) -> 0 | M15: =IF(M$6=0,0,VLOOKUP($A15,'base (3)'!$A:$P,M$6+4,FALSE)) -> 0 | N15: =IF(N$6=0,0,VLOOKUP($A15,'base (3)'!$A:$P,N$6+4,FALSE)) -> 0 | O15: =IF(O$6=0,0,VLOOKUP($A15,'base (3)'!$A:$P,O$6+4,FALSE)) -> 0 | ... Q15: =IF(Q$6=0,0,VLOOKUP($A15,'base (3)'!$A:$P,Q$6+4,FALSE)) -> 0 | T15: =IF($S$29=0,0,(S15/$S$29)*100) -> 0 | W15: =SUM(F15:Q15) -> 100
A16: =CONCATENATE($E$6,"|",B16) -> 6|8 | B16: 8 | C16: INSTAL. ELETRICAS, TELEFONIA, SISTEMAS DE PROTEÇÃO E VENTILAÇÃO | E16: 6 | F16: =IF(E$6<3,0,IF(F$6=0,0,VLOOKUP($A16,'base (3)'!$A:$P,F$6+4,FALSE))) -> 10 | G16: =IF(E$6<3,0,IF(G$6=0,0,VLOOKUP($A16,'base (3)'!$A:$P,G$6+4,FALSE))) -> 10 | H16: =IF(H$6=0,0,VLOOKUP($A16,'base (3)'!$A:$P,H$6+4,FALSE)) -> 20 | I16: =IF(I$6=0,0,VLOOKUP($A16,'base (3)'!$A:$P,I$6+4,FALSE)) -> 20 | J16: =IF(J$6=0,0,VLOOKUP($A16,'base (3)'!$A:$P,J$6+4,FALSE)) -> 20 | K16: =IF(K$6=0,0,VLOOKUP($A16,'base (3)'!$A:$P,K$6+4,FALSE)) -> 20 | L16: =IF(L$6=0,0,VLOOKUP($A16,'base (3)'!$A:$P,L$6+4,FALSE)) -> 0 | M16: =IF(M$6=0,0,VLOOKUP($A16,'base (3)'!$A:$P,M$6+4,FALSE)) -> 0 | N16: =IF(N$6=0,0,VLOOKUP($A16,'base (3)'!$A:$P,N$6+4,FALSE)) -> 0 | O16: =IF(O$6=0,0,VLOOKUP($A16,'base (3)'!$A:$P,O$6+4,FALSE)) -> 0 | ... Q16: =IF(Q$6=0,0,VLOOKUP($A16,'base (3)'!$A:$P,Q$6+4,FALSE)) -> 0 | S16: 21964.69 | T16: =IF($S$29=0,0,(S16/$S$29)*100) -> 5.1900539 | W16: =SUM(F16:Q16) -> 100
A17: =CONCATENATE($E$6,"|",B17) -> 6|9 | B17: 9 | C17: INSTAL. HIDROSANITÁRIAS, GAS-GLP, INCÊNDIO E APARELHOS | E17: 6 | F17: =IF(E$6<3,0,IF(F$6=0,0,VLOOKUP($A17,'base (3)'!$A:$P,F$6+4,FALSE))) -> 10 | G17: =IF(E$6<3,0,IF(G$6=0,0,VLOOKUP($A17,'base (3)'!$A:$P,G$6+4,FALSE))) -> 20 | H17: =IF(H$6=0,0,VLOOKUP($A17,'base (3)'!$A:$P,H$6+4,FALSE)) -> 20 | I17: =IF(I$6=0,0,VLOOKUP($A17,'base (3)'!$A:$P,I$6+4,FALSE)) -> 20 | J17: =IF(J$6=0,0,VLOOKUP($A17,'base (3)'!$A:$P,J$6+4,FALSE)) -> 20 | K17: =IF(K$6=0,0,VLOOKUP($A17,'base (3)'!$A:$P,K$6+4,FALSE)) -> 10 | L17: =IF(L$6=0,0,VLOOKUP($A17,'base (3)'!$A:$P,L$6+4,FALSE)) -> 0 | M17: =IF(M$6=0,0,VLOOKUP($A17,'base (3)'!$A:$P,M$6+4,FALSE)) -> 0 | N17: =IF(N$6=0,0,VLOOKUP($A17,'base (3)'!$A:$P,N$6+4,FALSE)) -> 0 | O17: =IF(O$6=0,0,VLOOKUP($A17,'base (3)'!$A:$P,O$6+4,FALSE)) -> 0 | ... Q17: =IF(Q$6=0,0,VLOOKUP($A17,'base (3)'!$A:$P,Q$6+4,FALSE)) -> 0 | S17: 1014.42 | T17: =IF($S$29=0,0,(S17/$S$29)*100) -> 0.2396981 | W17: =SUM(F17:Q17) -> 100
A18: =CONCATENATE($E$6,"|",B18) -> 6|10 | B18: 10 | C18: REVESTIMENTOS DE PAREDES E PISOS, IMPERMEABILIZACÕES, PINTURAS E ARGAMASSAS | F18: =IF(E$6<3,0,IF(F$6=0,0,VLOOKUP($A18,'base (3)'!$A:$P,F$6+4,FALSE))) -> 0 | G18: =IF(E$6<3,0,IF(G$6=0,0,VLOOKUP($A18,'base (3)'!$A:$P,G$6+4,FALSE))) -> 0 | H18: =IF(H$6=0,0,VLOOKUP($A18,'base (3)'!$A:$P,H$6+4,FALSE)) -> 20 | I18: =IF(I$6=0,0,VLOOKUP($A18,'base (3)'!$A:$P,I$6+4,FALSE)) -> 30 | J18: =IF(J$6=0,0,VLOOKUP($A18,'base (3)'!$A:$P,J$6+4,FALSE)) -> 30 | K18: =IF(K$6=0,0,VLOOKUP($A18,'base (3)'!$A:$P,K$6+4,FALSE)) -> 20 | L18: =IF(L$6=0,0,VLOOKUP($A18,'base (3)'!$A:$P,L$6+4,FALSE)) -> 0 | M18: =IF(M$6=0,0,VLOOKUP($A18,'base (3)'!$A:$P,M$6+4,FALSE)) -> 0 | N18: =IF(N$6=0,0,VLOOKUP($A18,'base (3)'!$A:$P,N$6+4,FALSE)) -> 0 | O18: =IF(O$6=0,0,VLOOKUP($A18,'base (3)'!$A:$P,O$6+4,FALSE)) -> 0 | ... Q18: =IF(Q$6=0,0,VLOOKUP($A18,'base (3)'!$A:$P,Q$6+4,FALSE)) -> 0 | T18: =IF($S$29=0,0,(S18/$S$29)*100) -> 0 | W18: =SUM(F18:Q18) -> 100
A19: =CONCATENATE($E$6,"|",B19) -> 6|11 | B19: 11 | C19: PAVIMENTACAO E CALCAMENTO, PAISAGISMO E EQUIPAMENTOS EXTERNOS | F19: =IF(E$6<3,0,IF(F$6=0,0,VLOOKUP($A19,'base (3)'!$A:$P,F$6+4,FALSE))) -> 10 | G19: =IF(E$6<3,0,IF(G$6=0,0,VLOOKUP($A19,'base (3)'!$A:$P,G$6+4,FALSE))) -> 10 | H19: =IF(H$6=0,0,VLOOKUP($A19,'base (3)'!$A:$P,H$6+4,FALSE)) -> 20 | I19: =IF(I$6=0,0,VLOOKUP($A19,'base (3)'!$A:$P,I$6+4,FALSE)) -> 20 | J19: =IF(J$6=0,0,VLOOKUP($A19,'base (3)'!$A:$P,J$6+4,FALSE)) -> 20 | K19: =IF(K$6=0,0,VLOOKUP($A19,'base (3)'!$A:$P,K$6+4,FALSE)) -> 20 | L19: =IF(L$6=0,0,VLOOKUP($A19,'base (3)'!$A:$P,L$6+4,FALSE)) -> 0 | M19: =IF(M$6=0,0,VLOOKUP($A19,'base (3)'!$A:$P,M$6+4,FALSE)) -> 0 | N19: =IF(N$6=0,0,VLOOKUP($A19,'base (3)'!$A:$P,N$6+4,FALSE)) -> 0 | O19: =IF(O$6=0,0,VLOOKUP($A19,'base (3)'!$A:$P,O$6+4,FALSE)) -> 0 | ... Q19: =IF(Q$6=0,0,VLOOKUP($A19,'base (3)'!$A:$P,Q$6+4,FALSE)) -> 0 | S19: 141519.14 | T19: =IF($S$29=0,0,(S19/$S$29)*100) -> 33.439669 | W19: =SUM(F19:Q19) -> 100
A20: =CONCATENATE($E$6,"|",B20) -> 6|12 | B20: 12 | C20: DIVERSOS (LIMPEZA,ENSAIOS TECNOLÓGICOS, EQUIPAMENTOS) | F20: =IF(E$6<3,0,IF(F$6=0,0,VLOOKUP($A20,'base (3)'!$A:$P,F$6+4,FALSE))) -> 10 | G20: =IF(E$6<3,0,IF(G$6=0,0,VLOOKUP($A20,'base (3)'!$A:$P,G$6+4,FALSE))) -> 20 | H20: =IF(H$6=0,0,VLOOKUP($A20,'base (3)'!$A:$P,H$6+4,FALSE)) -> 20 | I20: =IF(I$6=0,0,VLOOKUP($A20,'base (3)'!$A:$P,I$6+4,FALSE)) -> 20 | J20: =IF(J$6=0,0,VLOOKUP($A20,'base (3)'!$A:$P,J$6+4,FALSE)) -> 20 | K20: =IF(K$6=0,0,VLOOKUP($A20,'base (3)'!$A:$P,K$6+4,FALSE)) -> 10 | L20: =IF(L$6=0,0,VLOOKUP($A20,'base (3)'!$A:$P,L$6+4,FALSE)) -> 0 | M20: =IF(M$6=0,0,VLOOKUP($A20,'base (3)'!$A:$P,M$6+4,FALSE)) -> 0 | N20: =IF(N$6=0,0,VLOOKUP($A20,'base (3)'!$A:$P,N$6+4,FALSE)) -> 0 | O20: =IF(O$6=0,0,VLOOKUP($A20,'base (3)'!$A:$P,O$6+4,FALSE)) -> 0 | ... Q20: =IF(Q$6=0,0,VLOOKUP($A20,'base (3)'!$A:$P,Q$6+4,FALSE)) -> 0 | T20: =IF($S$29=0,0,(S20/$S$29)*100) -> 0 | W20: =SUM(F20:Q20) -> 100
F21: =IF(F$6=0,0,VLOOKUP($A21,'base (3)'!$A:$P,F$6+4,FALSE)) -> #N/A | T21: =IF($S$29=0,0,(S21/$S$29)*100) -> 0
F22: =IF(F$6=0,0,VLOOKUP($A22,'base (3)'!$A:$P,F$6+4,FALSE)) -> #N/A | T22: =IF($S$29=0,0,(S22/$S$29)*100) -> 0
F23: =IF(F$6=0,0,VLOOKUP($A23,'base (3)'!$A:$P,F$6+4,FALSE)) -> #N/A | T23: =IF($S$29=0,0,(S23/$S$29)*100) -> 0
F24: =IF(F$6=0,0,VLOOKUP($A24,'base (3)'!$A:$P,F$6+4,FALSE)) -> #N/A | T24: =IF($S$29=0,0,(S24/$S$29)*100) -> 0
F25: =IF(F$6=0,0,VLOOKUP($A25,'base (3)'!$A:$P,F$6+4,FALSE)) -> #N/A | T25: =IF($S$29=0,0,(S25/$S$29)*100) -> 0
F26: =IF(F$6=0,0,VLOOKUP($A26,'base (3)'!$A:$P,F$6+4,FALSE)) -> #N/A | T26: =IF($S$29=0,0,(S26/$S$29)*100) -> 0
F27: =IF(F$6=0,0,VLOOKUP($A27,'base (3)'!$A:$P,F$6+4,FALSE)) -> #N/A | T27: =IF($S$29=0,0,(S27/$S$29)*100) -> 0
C29: TOTAIS | D29: TOTAIS | S29: =SUM(S9:S28) -> 423207.36 | T29: =SUM(T9:T27) -> 100
B30: COMPOSIÇÃO DOS RECURSOS (TESOURO E CONTRAPARTIDA)
B31: ITEM | F31: PARCELAS | R31: Nº DE | S31: TOTAL | T31: % S/
F32: =F6 -> 1 | G32: =G6 -> 2 | H32: =H6 -> 3 | I32: =I6 -> 4 | J32: =J6 -> 5 | K32: =K6 -> 6 | L32: =L6 -> 0 | M32: =M6 -> 0 | ... Q32: =Q6 -> 0 | R32: MESES | S32: ITEM | T32: ITEM
B33: 1T | C33: SERVIÇOS PRELIMINARES | D33: TESOURO | E33: R$ | F33: =((F9/100)*$S$9)*$T$2 -> 4877.6165 | G33: =((G9/100)*$S$9)*$T$2 -> 3658.2124 | H33: =((H9/100)*$S$9)*$T$2 -> 3658.2124 | I33: =((I9/100)*$S$9)*$T$2 -> 0 | J33: =((J9/100)*$S$9)*$T$2 -> 0 | K33: =((K9/100)*$S$9)*$T$2 -> 0 | L33: =((L9/100)*$S$9)*$T$2 -> 0 | M33: =((M9/100)*$S$9)*$T$2 -> 0 | ... Q33: =((Q9/100)*$S$9)*$T$2 -> 0 | R33: =COUNTIF(F33:Q33,">0") -> 3 | S33: =SUM(F33:Q33) -> 12194.041 | T33: =IF($S$61=0,0,(S33/$S$61)) -> 0.028813396
B34: 1C | C34: E ADMINISTRAÇÃO DA OBRA | D34: CONTRAPARTIDA | E34: R$ | F34: =((F9/100)*$S$9)*T3 -> 1573.1435 | G34: =((G9/100)*$S$9)*$T$3 -> 1179.8576 | H34: =((H9/100)*$S$9)*$T$3 -> 1179.8576 | I34: =((I9/100)*$S$9)*$T$3 -> 0 | J34: =((J9/100)*$S$9)*$T$3 -> 0 | K34: =((K9/100)*$S$9)*$T$3 -> 0 | L34: =((L9/100)*$S$9)*$T$3 -> 0 | M34: =((M9/100)*$S$9)*$T$3 -> 0 | N34: =((N9/100)*$S$9)*$T$3 -> 0 | ... Q34: =((Q9/100)*$S$9)*$T$3 -> 0 | R34: =COUNTIF(F34:Q34,">0") -> 3 | S34: =SUM(F34:Q34) -> 3932.8588 | T34: =IF($S$61=0,0,(S34/$S$61)) -> 0.0092929829
B35: 2T | C35: MOVIMENTO DE TERRA, DRENAGEM | D35: TESOURO | E35: R$ | F35: =((F10/100)*$S$10)*$T$2 -> 11142.863 | G35: =((G10/100)*$S$10)*$T$2 -> 16714.294 | H35: =((H10/100)*$S$10)*$T$2 -> 11142.863 | I35: =((I10/100)*$S$10)*$T$2 -> 5571.4313 | J35: =((J10/100)*$S$10)*$T$2 -> 5571.4313 | K35: =((K10/100)*$S$10)*$T$2 -> 5571.4313 | L35: =((L10/100)*$S$10)*$T$2 -> 0 | M35: =((M10/100)*$S$10)*$T$2 -> 0 | ... Q35: =((Q10/100)*$S$10)*$T$2 -> 0 | R35: =COUNTIF(F35:Q35,">0") -> 6 | S35: =SUM(F35:Q35) -> 55714.313 | T35: =IF($S$61=0,0,(S35/$S$61)) -> 0.13164779
B36: 2C | C36: E ÁGUAS PLUVIAIS | D36: CONTRAPARTIDA | E36: R$ | F36: =((F10/100)*$S$10)*$T$3 -> 3593.8295 | G36: =((G10/100)*$S$10)*$T$3 -> 5390.7442 | H36: =((H10/100)*$S$10)*$T$3 -> 3593.8295 | I36: =((I10/100)*$S$10)*$T$3 -> 1796.9147 | J36: =((J10/100)*$S$10)*$T$3 -> 1796.9147 | K36: =((K10/100)*$S$10)*$T$3 -> 1796.9147 | L36: =((L10/100)*$S$10)*$T$3 -> 0 | M36: =((M10/100)*$S$10)*$T$3 -> 0 | ... Q36: =((Q10/100)*$S$10)*$T$3 -> 0 | R36: =COUNTIF(F36:Q36,">0") -> 6 | S36: =SUM(F36:Q36) -> 17969.147 | T36: =IF($S$61=0,0,(S36/$S$61)) -> 0.042459439
B37: 3T | C37: FUNDACOES | D37: TESOURO | E37: R$ | F37: =((F11/100)*$S$11)*$T$2 -> 750.66672 | G37: =((G11/100)*$S$11)*$T$2 -> 1501.3334 | H37: =((H11/100)*$S$11)*$T$2 -> 1501.3334 | I37: =((I11/100)*$S$11)*$T$2 -> 0 | J37: =((J11/100)*$S$11)*$T$2 -> 0 | K37: =((K11/100)*$S$11)*$T$2 -> 0 | L37: =((L11/100)*$S$11)*$T$2 -> 0 | M37: =((M11/100)*$S$11)*$T$2 -> 0 | ... Q37: =((Q11/100)*$S$11)*$T$2 -> 0 | R37: =COUNTIF(F37:Q37,">0") -> 3 | S37: =SUM(F37:Q37) -> 3753.3336 | T37: =IF($S$61=0,0,(S37/$S$61)) -> 0.0088687815
B38: 3C | D38: CONTRAPARTIDA | E38: R$ | F38: =((F11/100)*$S$11)*$T$3 -> 242.10728 | G38: =((G11/100)*$S$11)*$T$3 -> 484.21456 | H38: =((H11/100)*$S$11)*$T$3 -> 484.21456 | I38: =((I11/100)*$S$11)*$T$3 -> 0 | J38: =((J11/100)*$S$11)*$T$3 -> 0 | K38: =((K11/100)*$S$11)*$T$3 -> 0 | L38: =((L11/100)*$S$11)*$T$3 -> 0 | M38: =((M11/100)*$S$11)*$T$3 -> 0 | ... Q38: =((Q11/100)*$S$11)*$T$3 -> 0 | R38: =COUNTIF(F38:Q38,">0") -> 3 | S38: =SUM(F38:Q38) -> 1210.5364 | T38: =IF($S$61=0,0,(S38/$S$61)) -> 0.002860386
B39: 4T | C39: ESTRUTURAS | D39: TESOURO | E39: R$ | F39: =((F12/100)*$S$12)*T2 -> 2829.3103 | G39: =((G12/100)*$S$12)*$T$2 -> 5658.6207 | H39: =((H12/100)*$S$12)*$T$2 -> 5658.6207 | I39: =((I12/100)*$S$12)*$T$2 -> 5658.6207 | J39: =((J12/100)*$S$12)*$T$2 -> 5658.6207 | K39: =((K12/100)*$S$12)*$T$2 -> 2829.3103 | L39: =((L12/100)*$S$12)*$T$2 -> 0 | M39: =((M12/100)*$S$12)*$T$2 -> 0 | N39: =((N12/100)*$S$12)*$T$2 -> 0 | ... Q39: =((Q12/100)*$S$12)*$T$2 -> 0 | R39: =COUNTIF(F39:Q39,">0") -> 6 | S39: =SUM(F39:Q39) -> 28293.103 | T39: =IF($S$61=0,0,(S39/$S$61)) -> 0.066853997
B40: 4C | D40: CONTRAPARTIDA | E40: R$ | F40: =((F12/100)*$S$12)*$T$3 -> 912.51766 | G40: =((G12/100)*$S$12)*$T$3 -> 1825.0353 | H40: =((H12/100)*$S$12)*$T$3 -> 1825.0353 | I40: =((I12/100)*$S$12)*$T$3 -> 1825.0353 | J40: =((J12/100)*$S$12)*$T$3 -> 1825.0353 | K40: =((K12/100)*$S$12)*$T$3 -> 912.51766 | L40: =((L12/100)*$S$12)*$T$3 -> 0 | M40: =((M12/100)*$S$12)*$T$3 -> 0 | ... Q40: =((Q12/100)*$S$12)*$T$3 -> 0 | R40: =COUNTIF(F40:Q40,">0") -> 6 | S40: =SUM(F40:Q40) -> 9125.1766 | T40: =IF($S$61=0,0,(S40/$S$61)) -> 0.021561952
B41: 5T | C41: ALVENARIA, DIVISÓRIAS, | D41: TESOURO | E41: R$ | F41: =((F13/100)*$S$13)*$T$2 -> 4783.1531 | G41: =((G13/100)*$S$13)*$T$2 -> 9566.3062 | H41: =((H13/100)*$S$13)*$T$2 -> 19132.612 | I41: =((I13/100)*$S$13)*$T$2 -> 28698.919 | J41: =((J13/100)*$S$13)*$T$2 -> 23915.766 | K41: =((K13/100)*$S$13)*$T$2 -> 9566.3062 | L41: =((L13/100)*$S$13)*$T$2 -> 0 | M41: =((M13/100)*$S$13)*$T$2 -> 0 | ... Q41: =((Q13/100)*$S$13)*$T$2 -> 0 | R41: =COUNTIF(F41:Q41,">0") -> 6 | S41: =SUM(F41:Q41) -> 95663.062 | T41: =IF($S$61=0,0,(S41/$S$61)) -> 0.226043
B42: 5C | C42: MUROS E FECHOS | D42: CONTRAPARTIDA | E42: R$ | F42: =((F13/100)*$S$13)*$T$3 -> 1542.6769 | G42: =((G13/100)*$S$13)*$T$3 -> 3085.3538 | H42: =((H13/100)*$S$13)*$T$3 -> 6170.7076 | I42: =((I13/100)*$S$13)*$T$3 -> 9256.0613 | J42: =((J13/100)*$S$13)*$T$3 -> 7713.3845 | K42: =((K13/100)*$S$13)*$T$3 -> 3085.3538 | L42: =((L13/100)*$S$13)*$T$3 -> 0 | M42: =((M13/100)*$S$13)*$T$3 -> 0 | ... Q42: =((Q13/100)*$S$13)*$T$3 -> 0 | R42: =COUNTIF(F42:Q42,">0") -> 6 | S42: =SUM(F42:Q42) -> 30853.538 | T42: =IF($S$61=0,0,(S42/$S$61)) -> 0.072904067
B43: 6T | C43: COBERTURA | D43: TESOURO | E43: R$ | F43: =((F14/100)*$S$14)*$T$2 -> 0 | G43: =((G14/100)*$S$14)*$T$2 -> 0 | H43: =((H14/100)*$S$14)*$T$2 -> 0 | I43: =((I14/100)*$S$14)*$T$2 -> 0 | J43: =((J14/100)*$S$14)*$T$2 -> 0 | K43: =((K14/100)*$S$14)*$T$2 -> 0 | L43: =((L14/100)*$S$14)*$T$2 -> 0 | M43: =((M14/100)*$S$14)*$T$2 -> 0 | ... Q43: =((Q14/100)*$S$14)*$T$2 -> 0 | R43: =COUNTIF(F43:Q43,">0") -> 0 | S43: =SUM(F43:Q43) -> 0 | T43: =IF($S$61=0,0,(S43/$S$61)) -> 0
B44: 6C | D44: CONTRAPARTIDA | E44: R$ | F44: =((F14/100)*$S$14)*$T$3 -> 0 | G44: =((G14/100)*$S$14)*$T$3 -> 0 | H44: =((H14/100)*$S$14)*$T$3 -> 0 | I44: =((I14/100)*$S$14)*$T$3 -> 0 | J44: =((J14/100)*$S$14)*$T$3 -> 0 | K44: =((K14/100)*$S$14)*$T$3 -> 0 | L44: =((L14/100)*$S$14)*$T$3 -> 0 | M44: =((M14/100)*$S$14)*$T$3 -> 0 | ... Q44: =((Q14/100)*$S$14)*$T$3 -> 0 | R44: =COUNTIF(F44:Q44,">0") -> 0 | S44: =SUM(F44:Q44) -> 0 | T44: =IF($S$61=0,0,(S44/$S$61)) -> 0
B45: 7T | C45: ESQUADRIAS, ACESSORIOS, | D45: TESOURO | E45: R$ | F45: =((F15/100)*$S$15)*$T$2 -> 0 | G45: =((G15/100)*$S$15)*$T$2 -> 0 | H45: =((H15/100)*$S$15)*$T$2 -> 0 | I45: =((I15/100)*$S$15)*$T$2 -> 0 | J45: =((J15/100)*$S$15)*$T$2 -> 0 | K45: =((K15/100)*$S$15)*$T$2 -> 0 | L45: =((L15/100)*$S$15)*$T$2 -> 0 | M45: =((M15/100)*$S$15)*$T$2 -> 0 | ... Q45: =((Q15/100)*$S$15)*$T$2 -> 0 | R45: =COUNTIF(F45:Q45,">0") -> 0 | S45: =SUM(F45:Q45) -> 0 | T45: =IF($S$61=0,0,(S45/$S$61)) -> 0
B46: 7C | C46: VIDROS E ESPELHOS | D46: CONTRAPARTIDA | E46: R$ | F46: =((F15/100)*$S$15)*$T$3 -> 0 | G46: =((G15/100)*$S$15)*$T$3 -> 0 | H46: =((H15/100)*$S$15)*$T$3 -> 0 | I46: =((I15/100)*$S$15)*$T$3 -> 0 | J46: =((J15/100)*$S$15)*$T$3 -> 0 | K46: =((K15/100)*$S$15)*$T$3 -> 0 | L46: =((L15/100)*$S$15)*$T$3 -> 0 | M46: =((M15/100)*$S$15)*$T$3 -> 0 | ... Q46: =((Q15/100)*$S$15)*$T$3 -> 0 | R46: =COUNTIF(F46:Q46,">0") -> 0 | S46: =SUM(F46:Q46) -> 0 | T46: =IF($S$61=0,0,(S46/$S$61)) -> 0
B47: 8T | C47: INSTAL. ELETRICAS, TELEFONIA, | D47: TESOURO | E47: R$ | F47: =((F16/100)*$S$16)*$T$2 -> 1660.8172 | G47: =((G16/100)*$S$16)*$T$2 -> 1660.8172 | H47: =((H16/100)*$S$16)*$T$2 -> 3321.6345 | I47: =((I16/100)*$S$16)*$T$2 -> 3321.6345 | J47: =((J16/100)*$S$16)*$T$2 -> 3321.6345 | K47: =((K16/100)*$S$16)*$T$2 -> 3321.6345 | L47: =((L16/100)*$S$16)*$T$2 -> 0 | M47: =((M16/100)*$S$16)*$T$2 -> 0 | ... Q47: =((Q16/100)*$S$16)*$T$2 -> 0 | R47: =COUNTIF(F47:Q47,">0") -> 6 | S47: =SUM(F47:Q47) -> 16608.172 | T47: =IF($S$61=0,0,(S47/$S$61)) -> 0.039243581
B48: 8C | C48: SISTEMAS DE PROTEÇÃO E VENTILAÇÃO | D48: CONTRAPARTIDA | E48: R$ | F48: =((F16/100)*$S$16)*$T$3 -> 535.65176 | G48: =((G16/100)*$S$16)*$T$3 -> 535.65176 | H48: =((H16/100)*$S$16)*$T$3 -> 1071.3035 | I48: =((I16/100)*$S$16)*$T$3 -> 1071.3035 | J48: =((J16/100)*$S$16)*$T$3 -> 1071.3035 | K48: =((K16/100)*$S$16)*$T$3 -> 1071.3035 | L48: =((L16/100)*$S$16)*$T$3 -> 0 | M48: =((M16/100)*$S$16)*$T$3 -> 0 | ... Q48: =((Q16/100)*$S$16)*$T$3 -> 0 | R48: =COUNTIF(F48:Q48,">0") -> 6 | S48: =SUM(F48:Q48) -> 5356.5176 | T48: =IF($S$61=0,0,(S48/$S$61)) -> 0.012656958
B49: 9T | C49: INSTAL. HIDROSANITÁRIAS, GAS-GLP, | D49: TESOURO | E49: R$ | F49: =((F17/100)*$S$17)*$T$2 -> 76.703392 | G49: =((G17/100)*$S$17)*$T$2 -> 153.40678 | H49: =((H17/100)*$S$17)*$T$2 -> 153.40678 | I49: =((I17/100)*$S$17)*$T$2 -> 153.40678 | J49: =((J17/100)*$S$17)*$T$2 -> 153.40678 | K49: =((K17/100)*$S$17)*$T$2 -> 76.703392 | L49: =((L17/100)*$S$17)*$T$2 -> 0 | M49: =((M17/100)*$S$17)*$T$2 -> 0 | ... Q49: =((Q17/100)*$S$17)*$T$2 -> 0 | R49: =COUNTIF(F49:Q49,">0") -> 6 | S49: =SUM(F49:Q49) -> 767.03392 | T49: =IF($S$61=0,0,(S49/$S$61)) -> 0.0018124305
B50: 9C | C50: INCÊNDIO E APARELHOS | D50: CONTRAPARTIDA | E50: R$ | F50: =((F17/100)*$S$17)*$T$3 -> 24.738608 | G50: =((G17/100)*$S$17)*$T$3 -> 49.477216 | H50: =((H17/100)*$S$17)*$T$3 -> 49.477216 | I50: =((I17/100)*$S$17)*$T$3 -> 49.477216 | J50: =((J17/100)*$S$17)*$T$3 -> 49.477216 | K50: =((K17/100)*$S$17)*$T$3 -> 24.738608 | L50: =((L17/100)*$S$17)*$T$3 -> 0 | M50: =((M17/100)*$S$17)*$T$3 -> 0 | ... Q50: =((Q17/100)*$S$17)*$T$3 -> 0 | R50: =COUNTIF(F50:Q50,">0") -> 6 | S50: =SUM(F50:Q50) -> 247.38608 | T50: =IF($S$61=0,0,(S50/$S$61)) -> 0.00058455052
B51: 10T | C51: REVESTIMENTOS DE PAREDES E PISOS, IMPERMEABILIZACÕES, | D51: TESOURO | E51: R$ | F51: =((F18/100)*$S$18)*$T$2 -> 0 | G51: =((G18/100)*$S$18)*$T$2 -> 0 | H51: =((H18/100)*$S$18)*$T$2 -> 0 | I51: =((I18/100)*$S$18)*$T$2 -> 0 | J51: =((J18/100)*$S$18)*$T$2 -> 0 | K51: =((K18/100)*$S$18)*$T$2 -> 0 | L51: =((L18/100)*$S$18)*$T$2 -> 0 | M51: =((M18/100)*$S$18)*$T$2 -> 0 | ... Q51: =((Q18/100)*$S$18)*$T$2 -> 0 | R51: =COUNTIF(F51:Q51,">0") -> 0 | S51: =SUM(F51:Q51) -> 0 | T51: =IF($S$61=0,0,(S51/$S$61)) -> 0
B52: 10C | C52: PINTURAS E ARGAMASSAS | D52: CONTRAPARTIDA | E52: R$ | F52: =((F18/100)*$S$18)*$T$3 -> 0 | G52: =((G18/100)*$S$18)*$T$3 -> 0 | H52: =((H18/100)*$S$18)*$T$3 -> 0 | I52: =((I18/100)*$S$18)*$T$3 -> 0 | J52: =((J18/100)*$S$18)*$T$3 -> 0 | K52: =((K18/100)*$S$18)*$T$3 -> 0 | L52: =((L18/100)*$S$18)*$T$3 -> 0 | M52: =((M18/100)*$S$18)*$T$3 -> 0 | ... Q52: =((Q18/100)*$S$18)*$T$3 -> 0 | R52: =COUNTIF(F52:Q52,">0") -> 0 | S52: =SUM(F52:Q52) -> 0 | T52: =IF($S$61=0,0,(S52/$S$61)) -> 0
B53: 11T | C53: PAVIMENTACAO E CALCAMENTO, PAISAGISMO | D53: TESOURO | E53: R$ | F53: =((F19/100)*$S$19)*$T$2 -> 10700.694 | G53: =((G19/100)*$S$19)*$T$2 -> 10700.694 | H53: =((H19/100)*$S$19)*$T$2 -> 21401.388 | I53: =((I19/100)*$S$19)*$T$2 -> 21401.388 | J53: =((J19/100)*$S$19)*$T$2 -> 21401.388 | K53: =((K19/100)*$S$19)*$T$2 -> 21401.388 | L53: =((L19/100)*$S$19)*$T$2 -> 0 | M53: =((M19/100)*$S$19)*$T$2 -> 0 | ... Q53: =((Q19/100)*$S$19)*$T$2 -> 0 | R53: =COUNTIF(F53:Q53,">0") -> 6 | S53: =SUM(F53:Q53) -> 107006.94 | T53: =IF($S$61=0,0,(S53/$S$61)) -> 0.25284754
B54: 11C | C54: E EQUIPAMENTOS EXTERNOS | D54: CONTRAPARTIDA | E54: R$ | F54: =((F19/100)*$S$19)*$T$3 -> 3451.2199 | G54: =((G19/100)*$S$19)*$T$3 -> 3451.2199 | H54: =((H19/100)*$S$19)*$T$3 -> 6902.4399 | I54: =((I19/100)*$S$19)*$T$3 -> 6902.4399 | J54: =((J19/100)*$S$19)*$T$3 -> 6902.4399 | K54: =((K19/100)*$S$19)*$T$3 -> 6902.4399 | L54: =((L19/100)*$S$19)*$T$3 -> 0 | M54: =((M19/100)*$S$19)*$T$3 -> 0 | ... Q54: =((Q19/100)*$S$19)*$T$3 -> 0 | R54: =COUNTIF(F54:Q54,">0") -> 6 | S54: =SUM(F54:Q54) -> 34512.199 | T54: =IF($S$61=0,0,(S54/$S$61)) -> 0.081549148
B55: 12T | C55: DIVERSOS (LIMPEZA, | D55: TESOURO | E55: R$ | F55: =((F20/100)*$S$20)*$T$2 -> 0 | G55: =((G20/100)*$S$20)*$T$2 -> 0 | H55: =((H20/100)*$S$20)*$T$2 -> 0 | I55: =((I20/100)*$S$20)*$T$2 -> 0 | J55: =((J20/100)*$S$20)*$T$2 -> 0 | K55: =((K20/100)*$S$20)*$T$2 -> 0 | L55: =((L20/100)*$S$20)*$T$2 -> 0 | M55: =((M20/100)*$S$20)*$T$2 -> 0 | ... Q55: =((Q20/100)*$S$20)*$T$2 -> 0 | R55: =COUNTIF(F55:Q55,">0") -> 0 | S55: =SUM(F55:Q55) -> 0 | T55: =IF($S$61=0,0,(S55/$S$61)) -> 0
B56: 12C | C56: ENSAIOS TECNOLÓGICOS, EQUIPAMENTOS) | D56: CONTRAPARTIDA | E56: R$ | F56: =((F20/100)*$S$20)*$T$3 -> 0 | G56: =((G20/100)*$S$20)*$T$3 -> 0 | H56: =((H20/100)*$S$20)*$T$3 -> 0 | I56: =((I20/100)*$S$20)*$T$3 -> 0 | J56: =((J20/100)*$S$20)*$T$3 -> 0 | K56: =((K20/100)*$S$20)*$T$3 -> 0 | L56: =((L20/100)*$S$20)*$T$3 -> 0 | M56: =((M20/100)*$S$20)*$T$3 -> 0 | ... Q56: =((Q20/100)*$S$20)*$T$3 -> 0 | R56: =COUNTIF(F56:Q56,">0") -> 0 | S56: =SUM(F56:Q56) -> 0 | T56: =IF($S$61=0,0,(S56/$S$61)) -> 0
B58: T | C58: TOTAIS | D58: TESOURO | E58: R$ | F58: =SUMIF($D$33:$D$56,"TESOURO",F$33:F$56) -> 36821.824 | G58: =SUMIF($D$33:$D$56,"TESOURO",G$33:G$56) -> 49613.685 | H58: =SUMIF($D$33:$D$56,"TESOURO",H$33:H$56) -> 65970.071 | I58: =SUMIF($D$33:$D$56,"TESOURO",I$33:I$56) -> 64805.4 | J58: =SUMIF($D$33:$D$56,"TESOURO",J$33:J$56) -> 60022.247 | K58: =SUMIF($D$33:$D$56,"TESOURO",K$33:K$56) -> 42766.774 | L58: =SUMIF($D$33:$D$56,"TESOURO",L$33:L$56) -> 0 | M58: =SUMIF($D$33:$D$56,"TESOURO",M$33:M$56) -> 0 | ... Q58: =SUMIF($D$33:$D$56,"TESOURO",Q$33:Q$56) -> 0 | S58: =SUMIF($D$33:$D$56,"TESOURO",S$33:S$56) -> 320000 | T58: =SUMIF($D$33:$D$56,"TESOURO",T$33:T$56) -> 0.75613052
B59: C | D59: CONTRAPARTIDA | E59: R$ | F59: =SUMIF($D$33:$D$56,"CONTRAPARTIDA",F$33:F$56) -> 11875.885 | G59: =SUMIF($D$33:$D$56,"CONTRAPARTIDA",G$33:G$56) -> 16001.554 | H59: =SUMIF($D$33:$D$56,"CONTRAPARTIDA",H$33:H$56) -> 21276.865 | I59: =SUMIF($D$33:$D$56,"CONTRAPARTIDA",I$33:I$56) -> 20901.232 | J59: =SUMIF($D$33:$D$56,"CONTRAPARTIDA",J$33:J$56) -> 19358.555 | K59: =SUMIF($D$33:$D$56,"CONTRAPARTIDA",K$33:K$56) -> 13793.268 | L59: =SUMIF($D$33:$D$56,"CONTRAPARTIDA",L$33:L$56) -> 0 | M59: =SUMIF($D$33:$D$56,"CONTRAPARTIDA",M$33:M$56) -> 0 | ... Q59: =SUMIF($D$33:$D$56,"CONTRAPARTIDA",Q$33:Q$56) -> 0 | S59: =SUMIF($D$33:$D$56,"CONTRAPARTIDA",S$33:S$56) -> 103207.36 | T59: =SUMIF($D$33:$D$56,"CONTRAPARTIDA",T$33:T$56) -> 0.24386948
B61: FATURAMENTO MENSAL PREVISTO | E61: R$ | F61: =SUM(F58:F59) -> 48697.709 | G61: =SUM(G58:G59) -> 65615.239 | H61: =SUM(H58:H59) -> 87246.936 | I61: =SUM(I58:I59) -> 85706.632 | J61: =SUM(J58:J59) -> 79380.802 | K61: =SUM(K58:K59) -> 56560.042 | L61: =SUM(L58:L59) -> 0 | M61: =SUM(M58:M59) -> 0 | ... Q61: =SUM(Q58:Q59) -> 0 | S61: =SUM(F61:Q61) -> 423207.36 | T61: =SUM(T58:T59) -> 1
B62: MENSAL PARCIAL PREVISTO EM % | E62: R$ | F62: =IF($S$61=0,0,F61/$S$61) -> 0.1150682 | G62: =IF($S$61=0,0,G61/$S$61) -> 0.15504276 | H62: =IF($S$61=0,0,H61/$S$61) -> 0.20615647 | I62: =IF($S$61=0,0,I61/$S$61) -> 0.20251687 | J62: =IF($S$61=0,0,J61/$S$61) -> 0.18756952 | K62: =IF($S$61=0,0,K61/$S$61) -> 0.13364617 | L62: =IF($S$61=0,0,L61/$S$61) -> 0 | M62: =IF($S$61=0,0,M61/$S$61) -> 0 | ... Q62: =IF($S$61=0,0,Q61/$S$61) -> 0 | S62: =S58+S59 -> 423207.36 | T62: =SUM(F62:Q62) -> 1
B63: MENSAL ACUMULADO PREVISTO EM % | E63: R$ | F63: =F62 -> 0.1150682 | G63: =IF(G61=0,0,F63+G62) -> 0.27011096 | H63: =IF(H61=0,0,G63+H62) -> 0.47626744 | I63: =IF(I61=0,0,H63+I62) -> 0.67878431 | J63: =IF(J61=0,0,I63+J62) -> 0.86635383 | K63: =IF(K61=0,0,J63+K62) -> 1 | L63: =IF(L61=0,0,K63+L62) -> 0 | M63: =IF(M61=0,0,L63+M62) -> 0 | N63: =IF(N61=0,0,M63+N62) -> 0 | ... Q63: =IF(Q61=0,0,P63+Q62) -> 0 | S63: =IF(S61=S62,"OK","CORRIGIR") -> OK | T63: =IF(T61=T62,"OK","CORRIGIR") -> OK
B64: Resp. Técnico: | C64: Carolina da Rosa Conceição Baptista | F64: Assinatura: | J64: Prefeito: | K64: Maicon Grosskopf | N64: Assinatura: | Q64: data:
C65: Engenheira Civil - CREA-PR VISTO 199118/D | G65: ___________________________ | O65: __________________

Sheet base
A1: N | B1: 3 | E1: 1 | F1: 2 | G1: 3 | H1: 4 | I1: 5 | J1: 6 | K1: 7 | L1: 8 | M1: 9 | N1: 10 | O1: 11 | P1: 12
A2: =CONCATENATE($B$1,"|",B2) -> 3|1 | B2: 1 | C2: SERVIÇOS PRELIMINARES E ADMINISTRAÇÃO DA OBRA | D2: 1 | E2: 50 | F2: 50 | R2: =SUM(E2:P2) -> 100
A3: =CONCATENATE($B$1,"|",B3) -> 3|2 | B3: 2 | C3: MOVIMENTO DE TERRA, DRENAGEM E ÁGUAS PLUVIAIS | D3: 2 | E3: 40 | F3: 50 | G3: 10 | R3: =SUM(E3:P3) -> 100
A4: =CONCATENATE($B$1,"|",B4) -> 3|3 | B4: 3 | C4: FUNDACOES | D4: 3 | E4: 60 | F4: 40 | R4: =SUM(E4:P4) -> 100
A5: =CONCATENATE($B$1,"|",B5) -> 3|4 | B5: 4 | C5: ESTRUTURAS | D5: 4 | E5: 20 | F5: 50 | G5: 30 | R5: =SUM(E5:P5) -> 100
A6: =CONCATENATE($B$1,"|",B6) -> 3|5 | B6: 5 | C6: ALVENARIA, DIVISÓRIAS, MUROS E FECHOS | D6: 5 | E6: 10 | F6: 50 | G6: 40 | R6: =SUM(E6:P6) -> 100
A7: =CONCATENATE($B$1,"|",B7) -> 3|6 | B7: 6 | C7: COBERTURA | F7: 30 | G7: 70 | R7: =SUM(E7:P7) -> 100
A8: =CONCATENATE($B$1,"|",B8) -> 3|7 | B8: 7 | C8: ESQUADRIAS, ACESSORIOS, VIDROS E ESPELHOS | D8: 3 | F8: 40 | G8: 60 | R8: =SUM(E8:P8) -> 100
A9: =CONCATENATE($B$1,"|",B9) -> 3|8 | B9: 8 | C9: INSTAL. ELETRICAS, TELEFONIA, SISTEMAS DE PROTEÇÃO E VENTILAÇÃO | D9: 5 | E9: 10 | F9: 50 | G9: 40 | R9: =SUM(E9:P9) -> 100
A10: =CONCATENATE($B$1,"|",B10) -> 3|9 | B10: 9 | C10: INSTAL. HIDROSANITÁRIAS, GAS-GLP, INCÊNDIO E APARELHOS | E10: 20 | F10: 50 | G10: 30 | R10: =SUM(E10:P10) -> 100
A11: =CONCATENATE($B$1,"|",B11) -> 3|10 | B11: 10 | C11: REVESTIMENTOS DE PAREDES E PISOS, IMPERMEABILIZACÕES, PINTURAS E ARGAMASSAS | D11: 6 | F11: 40 | G11: 60 | R11: =SUM(E11:P11) -> 100
A12: =CONCATENATE($B$1,"|",B12) -> 3|11 | B12: 11 | C12: PAVIMENTACAO E CALCAMENTO, PAISAGISMO E EQUIPAMENTOS EXTERNOS | D12: 6 | E12: 20 | F12: 40 | G12: 40 | R12: =SUM(E12:P12) -> 100
A13: =CONCATENATE($B$1,"|",B13) -> 3|12 | B13: 12 | C13: DIVERSOS (LIMPEZA,ENSAIOS TECNOLÓGICOS, EQUIPAMENTOS) | E13: 20 | F13: 40 | G13: 40 | R13: =SUM(E13:P13) -> 100
A15: N | B15: 4 | E15: 1 | F15: 2 | G15: 3 | H15: 4 | I15: 5 | J15: 6 | K15: 7 | L15: 8 | M15: 9 | N15: 10 | O15: 11 | P15: 12
A16: =CONCATENATE($B$15,"|",B16) -> 4|1 | B16: 1 | C16: SERVIÇOS PRELIMINARES E ADMINISTRAÇÃO DA OBRA | D16: 1 | E16: 50 | F16: 50 | R16: =SUM(E16:P16) -> 100
A17: =CONCATENATE($B$15,"|",B17) -> 4|2 | B17: 2 | C17: MOVIMENTO DE TERRA, DRENAGEM E ÁGUAS PLUVIAIS | D17: 2 | E17: 30 | F17: 40 | G17: 20 | H17: 10 | R17: =SUM(E17:P17) -> 100
A18: =CONCATENATE($B$15,"|",B18) -> 4|3 | B18: 3 | C18: FUNDACOES | D18: 3 | E18: 50 | F18: 40 | G18: 10 | R18: =SUM(E18:P18) -> 100
A19: =CONCATENATE($B$15,"|",B19) -> 4|4 | B19: 4 | C19: ESTRUTURAS | D19: 4 | E19: 20 | F19: 40 | G19: 20 | H19: 20 | R19: =SUM(E19:P19) -> 100
A20: =CONCATENATE($B$15,"|",B20) -> 4|5 | B20: 5 | C20: ALVENARIA, DIVISÓRIAS, MUROS E FECHOS | D20: 5 | E20: 10 | F20: 30 | G20: 40 | H20: 20 | R20: =SUM(E20:P20) -> 100
A21: =CONCATENATE($B$15,"|",B21) -> 4|6 | B21: 6 | C21: COBERTURA | F21: 10 | G21: 70 | H21: 20 | R21: =SUM(E21:P21) -> 100
A22: =CONCATENATE($B$15,"|",B22) -> 4|7 | B22: 7 | C22: ESQUADRIAS, ACESSORIOS, VIDROS E ESPELHOS | F22: 30 | G22: 30 | H22: 40 | R22: =SUM(E22:P22) -> 100
A23: =CONCATENATE($B$15,"|",B23) -> 4|8 | B23: 8 | C23: INSTAL. ELETRICAS, TELEFONIA, SISTEMAS DE PROTEÇÃO E VENTILAÇÃO | D23: 3 | E23: 10 | F23: 30 | G23: 30 | H23: 30 | R23: =SUM(E23:P23) -> 100
A24: =CONCATENATE($B$15,"|",B24) -> 4|9 | B24: 9 | C24: INSTAL. HIDROSANITÁRIAS, GAS-GLP, INCÊNDIO E APARELHOS | D24: 5 | E24: 20 | F24: 30 | G24: 30 | H24: 20 | R24: =SUM(E24:P24) -> 100
A25: =CONCATENATE($B$15,"|",B25) -> 4|10 | B25: 10 | C25: REVESTIMENTOS DE PAREDES E PISOS, IMPERMEABILIZACÕES, PINTURAS E ARGAMASSAS | D25: 6 | F25: 30 | G25: 40 | H25: 30 | R25: =SUM(E25:P25) -> 100
A26: =CONCATENATE($B$15,"|",B26) -> 4|11 | B26: 11 | C26: PAVIMENTACAO E CALCAMENTO, PAISAGISMO E EQUIPAMENTOS EXTERNOS | D26: 6 | E26: 10 | F26: 30 | G26: 30 | H26: 30 | R26: =SUM(E26:P26) -> 100
A27: =CONCATENATE($B$15,"|",B27) -> 4|12 | B27: 12 | C27: DIVERSOS (LIMPEZA,ENSAIOS TECNOLÓGICOS, EQUIPAMENTOS) | E27: 20 | F27: 20 | G27: 40 | H27: 20 | R27: =SUM(E27:P27) -> 100
A29: N | B29: 5 | E29: 1 | F29: 2 | G29: 3 | H29: 4 | I29: 5 | J29: 6 | K29: 7 | L29: 8 | M29: 9 | N29: 10 | O29: 11 | P29: 12
A30: =CONCATENATE($B$29,"|",B30) -> 5|1 | B30: 1 | C30: SERVIÇOS PRELIMINARES E ADMINISTRAÇÃO DA OBRA | D30: 1 | E30: 40 | F30: 40 | G30: 20 | R30: =SUM(E30:P30) -> 100
A31: =CONCATENATE($B$29,"|",B31) -> 5|2 | B31: 2 | C31: MOVIMENTO DE TERRA, DRENAGEM E ÁGUAS PLUVIAIS | D31: 2 | E31: 20 | F31: 30 | G31: 30 | H31: 10 | I31: 10 | R31: =SUM(E31:P31) -> 100
A32: =CONCATENATE($B$29,"|",B32) -> 5|3 | B32: 3 | C32: FUNDACOES | D32: 3 | E32: 40 | F32: 40 | G32: 20 | R32: =SUM(E32:P32) -> 100
A33: =CONCATENATE($B$29,"|",B33) -> 5|4 | B33: 4 | C33: ESTRUTURAS | D33: 4 | E33: 20 | F33: 20 | G33: 20 | H33: 20 | I33: 20 | R33: =SUM(E33:P33) -> 100
A34: =CONCATENATE($B$29,"|",B34) -> 5|5 | B34: 5 | C34: ALVENARIA, DIVISÓRIAS, MUROS E FECHOS | D34: 5 | E34: 5 | F34: 15 | G34: 20 | H34: 30 | I34: 30 | R34: =SUM(E34:P34) -> 100
A35: =CONCATENATE($B$29,"|",B35) -> 5|6 | B35: 6 | C35: COBERTURA | G35: 60 | H35: 40 | R35: =SUM(E35:P35) -> 100
A36: =CONCATENATE($B$29,"|",B36) -> 5|7 | B36: 7 | C36: ESQUADRIAS, ACESSORIOS, VIDROS E ESPELHOS | D36: 3 | F36: 10 | G36: 30 | H36: 30 | I36: 30 | R36: =SUM(E36:P36) -> 100
A37: =CONCATENATE($B$29,"|",B37) -> 5|8 | B37: 8 | C37: INSTAL. ELETRICAS, TELEFONIA, SISTEMAS DE PROTEÇÃO E VENTILAÇÃO | D37: 5 | E37: 10 | F37: 20 | G37: 30 | H37: 20 | I37: 20 | R37: =SUM(E37:P37) -> 100
A38: =CONCATENATE($B$29,"|",B38) -> 5|9 | B38: 9 | C38: INSTAL. HIDROSANITÁRIAS, GAS-GLP, INCÊNDIO E APARELHOS | D38: 6 | E38: 20 | F38: 20 | G38: 30 | H38: 20 | I38: 10 | R38: =SUM(E38:P38) -> 100
A39: =CONCATENATE($B$29,"|",B39) -> 5|10 | B39: 10 | C39: REVESTIMENTOS DE PAREDES E PISOS, IMPERMEABILIZACÕES, PINTURAS E ARGAMASSAS | D39: 6 | F39: 10 | G39: 30 | H39: 30 | I39: 30 | R39: =SUM(E39:P39) -> 100
A40: =CONCATENATE($B$29,"|",B40) -> 5|11 | B40: 11 | C40: PAVIMENTACAO E CALCAMENTO, PAISAGISMO E EQUIPAMENTOS EXTERNOS | E40: 10 | F40: 20 | G40: 20 | H40: 30 | I40: 20 | R40: =SUM(E40:P40) -> 100
A41: =CONCATENATE($B$29,"|",B41) -> 5|12 | B41: 12 | C41: DIVERSOS (LIMPEZA,ENSAIOS TECNOLÓGICOS, EQUIPAMENTOS) | E41: 20 | F41: 20 | G41: 20 | H41: 20 | I41: 20 | R41: =SUM(E41:P41) -> 100
A43: N | B43: 6 | E43: 1 | F43: 2 | G43: 3 | H43: 4 | I43: 5 | J43: 6 | K43: 7 | L43: 8 | M43: 9 | N43: 10 | O43: 11 | P43: 12
A44: =CONCATENATE($B$43,"|",B44) -> 6|1 | B44: 1 | C44: SERVIÇOS PRELIMINARES E ADMINISTRAÇÃO DA OBRA | D44: 1 | E44: 40 | F44: 30 | G44: 30 | R44: =SUM(E44:P44) -> 100
A45: =CONCATENATE($B$43,"|",B45) -> 6|2 | B45: 2 | C45: MOVIMENTO DE TERRA, DRENAGEM E ÁGUAS PLUVIAIS | D45: 2 | E45: 20 | F45: 30 | G45: 20 | H45: 10 | I45: 10 | J45: 10 | R45: =SUM(E45:P45) -> 100
A46: =CONCATENATE($B$43,"|",B46) -> 6|3 | B46: 3 | C46: FUNDACOES | D46: 3 | E46: 20 | F46: 40 | G46: 40 | R46: =SUM(E46:P46) -> 100
A47: =CONCATENATE($B$43,"|",B47) -> 6|4 | B47: 4 | C47: ESTRUTURAS | E47: 10 | F47: 20 | G47: 20 | H47: 20 | I47: 20 | J47: 10 | R47: =SUM(E47:P47) -> 100
A48: =CONCATENATE($B$43,"|",B48) -> 6|5 | B48: 5 | C48: ALVENARIA, DIVISÓRIAS, MUROS E FECHOS | D48: 4 | E48: 5 | F48: 10 | G48: 20 | H48: 30 | I48: 25 | J48: 10 | R48: =SUM(E48:P48) -> 100
A49: =CONCATENATE($B$43,"|",B49) -> 6|6 | B49: 6 | C49: COBERTURA | D49: 5 | G49: 50 | H49: 50 | R49: =SUM(E49:P49) -> 100
A50: =CONCATENATE($B$43,"|",B50) -> 6|7 | B50: 7 | C50: ESQUADRIAS, ACESSORIOS, VIDROS E ESPELHOS | D50: 3 | G50: 20 | H50: 30 | I50: 30 | J50: 20 | R50: =SUM(E50:P50) -> 100
A51: =CONCATENATE($B$43,"|",B51) -> 6|8 | B51: 8 | C51: INSTAL. ELETRICAS, TELEFONIA, SISTEMAS DE PROTEÇÃO E VENTILAÇÃO | D51: 5 | E51: 10 | F51: 10 | G51: 20 | H51: 20 | I51: 20 | J51: 20 | R51: =SUM(E51:P51) -> 100
A52: =CONCATENATE($B$43,"|",B52) -> 6|9 | B52: 9 | C52: INSTAL. HIDROSANITÁRIAS, GAS-GLP, INCÊNDIO E APARELHOS | D52: 6 | E52: 10 | F52: 20 | G52: 20 | H52: 20 | I52: 20 | J52: 10 | R52: =SUM(E52:P52) -> 100
A53: =CONCATENATE($B$43,"|",B53) -> 6|10 | B53: 10 | C53: REVESTIMENTOS DE PAREDES E PISOS, IMPERMEABILIZACÕES, PINTURAS E ARGAMASSAS | D53: 6 | G53: 20 | H53: 30 | I53: 30 | J53: 20 | R53: =SUM(E53:P53) -> 100
A54: =CONCATENATE($B$43,"|",B54) -> 6|11 | B54: 11 | C54: PAVIMENTACAO E CALCAMENTO, PAISAGISMO E EQUIPAMENTOS EXTERNOS | E54: 10 | F54: 10 | G54: 20 | H54: 20 | I54: 20 | J54: 20 | R54: =SUM(E54:P54) -> 100
A55: =CONCATENATE($B$43,"|",B55) -> 6|12 | B55: 12 | C55: DIVERSOS (LIMPEZA,ENSAIOS TECNOLÓGICOS, EQUIPAMENTOS) | E55: 10 | F55: 20 | G55: 20 | H55: 20 | I55: 20 | J55: 10 | R55: =SUM(E55:P55) -> 100
A57: N | B57: 7 | E57: 1 | F57: 2 | G57: 3 | H57: 4 | I57: 5 | J57: 6 | K57: 7 | L57: 8 | M57: 9 | N57: 10 | O57: 11 | P57: 12
A58: =CONCATENATE($B$57,"|",B58) -> 7|1 | B58: 1 | C58: SERVIÇOS PRELIMINARES E ADMINISTRAÇÃO DA OBRA | D58: 1 | E58: 30 | F58: 30 | G58: 30 | H58: 10 | R58: =SUM(E58:P58) -> 100
A59: =CONCATENATE($B$57,"|",B59) -> 7|2 | B59: 2 | C59: MOVIMENTO DE TERRA, DRENAGEM E ÁGUAS PLUVIAIS | D59: 2 | E59: 20 | F59: 20 | G59: 20 | H59: 10 | I59: 10 | J59: 10 | K59: 10 | R59: =SUM(E59:P59) -> 100
A60: =CONCATENATE($B$57,"|",B60) -> 7|3 | B60: 3 | C60: FUNDACOES | D60: 3 | E60: 20 | F60: 30 | G60: 30 | H60: 20 | R60: =SUM(E60:P60) -> 100
A61: =CONCATENATE($B$57,"|",B61) -> 7|4 | B61: 4 | C61: ESTRUTURAS | E61: 10 | F61: 10 | G61: 20 | H61: 20 | I61: 20 | J61: 10 | K61: 10 | R61: =SUM(E61:P61) -> 100
A62: =CONCATENATE($B$57,"|",B62) -> 7|5 | B62: 5 | C62: ALVENARIA, DIVISÓRIAS, MUROS E FECHOS | D62: 4 | E62: 5 | F62: 10 | G62: 20 | H62: 20 | I62: 20 | J62: 15 | K62: 10 | R62: =SUM(E62:P62) -> 100
A63: =CONCATENATE($B$57,"|",B63) -> 7|6 | B63: 6 | C63: COBERTURA | D63: 5 | G63: 30 | H63: 40 | I63: 30 | R63: =SUM(E63:P63) -> 100
A64: =CONCATENATE($B$57,"|",B64) -> 7|7 | B64: 7 | C64: ESQUADRIAS, ACESSORIOS, VIDROS E ESPELHOS | D64: 3 | G64: 20 | H64: 20 | I64: 20 | J64: 20 | K64: 20 | R64: =SUM(E64:P64) -> 100
A65: =CONCATENATE($B$57,"|",B65) -> 7|8 | B65: 8 | C65: INSTAL. ELETRICAS, TELEFONIA, SISTEMAS DE PROTEÇÃO E VENTILAÇÃO | D65: 5 | E65: 10 | F65: 10 | G65: 10 | H65: 20 | I65: 20 | J65: 20 | K65: 10 | R65: =SUM(E65:P65) -> 100
A66: =CONCATENATE($B$57,"|",B66) -> 7|9 | B66: 9 | C66: INSTAL. HIDROSANITÁRIAS, GAS-GLP, INCÊNDIO E APARELHOS | D66: 6 | E66: 10 | F66: 10 | G66: 20 | H66: 20 | I66: 20 | J66: 10 | K66: 10 | R66: =SUM(E66:P66) -> 100
A67: =CONCATENATE($B$57,"|",B67) -> 7|10 | B67: 10 | C67: REVESTIMENTOS DE PAREDES E PISOS, IMPERMEABILIZACÕES, PINTURAS E ARGAMASSAS | D67: 6 | G67: 20 | H67: 20 | I67: 20 | J67: 20 | K67: 20 | R67: =SUM(E67:P67) -> 100
A68: =CONCATENATE($B$57,"|",B68) -> 7|11 | B68: 11 | C68: PAVIMENTACAO E CALCAMENTO, PAISAGISMO E EQUIPAMENTOS EXTERNOS | E68: 5 | F68: 5 | G68: 20 | H68: 20 | I68: 20 | J68: 20 | K68: 10 | R68: =SUM(E68:P68) -> 100
A69: =CONCATENATE($B$57,"|",B69) -> 7|12 | B69: 12 | C69: DIVERSOS (LIMPEZA,ENSAIOS TECNOLÓGICOS, EQUIPAMENTOS) | E69: 10 | F69: 10 | G69: 20 | H69: 20 | I69: 20 | J69: 10 | K69: 10 | R69: =SUM(E69:P69) -> 100
A71: N | B71: 8 | E71: 1 | F71: 2 | G71: 3 | H71: 4 | I71: 5 | J71: 6 | K71: 7 | L71: 8 | M71: 9 | N71: 10 | O71: 11 | P71: 12
A72: =CONCATENATE($B$71,"|",B72) -> 8|1 | B72: 1 | C72: SERVIÇOS PRELIMINARES E ADMINISTRAÇÃO DA OBRA | D72: 1 | E72: 20 | F72: 30 | G72: 30 | H72: 20 | R72: =SUM(E72:P72) -> 100
A73: =CONCATENATE($B$71,"|",B73) -> 8|2 | B73: 2 | C73: MOVIMENTO DE TERRA, DRENAGEM E ÁGUAS PLUVIAIS | D73: 2 | E73: 10 | F73: 20 | G73: 20 | H73: 10 | I73: 10 | J73: 10 | K73: 10 | L73: 10 | R73: =SUM(E73:P73) -> 100
A74: =CONCATENATE($B$71,"|",B74) -> 8|3 | B74: 3 | C74: FUNDACOES | D74: 3 | E74: 20 | F74: 20 | G74: 30 | H74: 20 | I74: 10 | R74: =SUM(E74:P74) -> 100
A75: =CONCATENATE($B$71,"|",B75) -> 8|4 | B75: 4 | C75: ESTRUTURAS | D75: 4 | E75: 10 | F75: 10 | G75: 10 | H75: 20 | I75: 20 | J75: 10 | K75: 10 | L75: 10 | R75: =SUM(E75:P75) -> 100
A76: =CONCATENATE($B$71,"|",B76) -> 8|5 | B76: 5 | C76: ALVENARIA, DIVISÓRIAS, MUROS E FECHOS | D76: 5 | E76: 5 | F76: 10 | G76: 20 | H76: 20 | I76: 15 | J76: 10 | K76: 10 | L76: 10 | R76: =SUM(E76:P76) -> 100
A77: =CONCATENATE($B$71,"|",B77) -> 8|6 | B77: 6 | C77: COBERTURA | G77: 30 | H77: 30 | I77: 30 | J77: 10 | R77: =SUM(E77:P77) -> 100
A78: =CONCATENATE($B$71,"|",B78) -> 8|7 | B78: 7 | C78: ESQUADRIAS, ACESSORIOS, VIDROS E ESPELHOS | D78: 3 | G78: 10 | H78: 20 | I78: 20 | J78: 20 | K78: 20 | L78: 10 | R78: =SUM(E78:P78) -> 100
A79: =CONCATENATE($B$71,"|",B79) -> 8|8 | B79: 8 | C79: INSTAL. ELETRICAS, TELEFONIA, SISTEMAS DE PROTEÇÃO E VENTILAÇÃO | D79: 5 | E79: 10 | F79: 10 | G79: 10 | H79: 10 | I79: 20 | J79: 20 | K79: 10 | L79: 10 | R79: =SUM(E79:P79) -> 100
A80: =CONCATENATE($B$71,"|",B80) -> 8|9 | B80: 9 | C80: INSTAL. HIDROSANITÁRIAS, GAS-GLP, INCÊNDIO E APARELHOS | D80: 6 | E80: 10 | F80: 10 | G80: 10 | H80: 20 | I80: 20 | J80: 10 | K80: 10 | L80: 10 | R80: =SUM(E80:P80) -> 100
A81: =CONCATENATE($B$71,"|",B81) -> 8|10 | B81: 10 | C81: REVESTIMENTOS DE PAREDES E PISOS, IMPERMEABILIZACÕES, PINTURAS E ARGAMASSAS | D81: 6 | G81: 10 | H81: 20 | I81: 20 | J81: 20 | K81: 20 | L81: 10 | R81: =SUM(E81:P81) -> 100
A82: =CONCATENATE($B$71,"|",B82) -> 8|11 | B82: 11 | C82: PAVIMENTACAO E CALCAMENTO, PAISAGISMO E EQUIPAMENTOS EXTERNOS | E82: 5 | F82: 5 | G82: 10 | H82: 20 | I82: 20 | J82: 20 | K82: 10 | L82: 10 | R82: =SUM(E82:P82) -> 100
A83: =CONCATENATE($B$71,"|",B83) -> 8|12 | B83: 12 | C83: DIVERSOS (LIMPEZA,ENSAIOS TECNOLÓGICOS, EQUIPAMENTOS) | E83: 10 | F83: 10 | G83: 10 | H83: 20 | I83: 20 | J83: 10 | K83: 10 | L83: 10 | R83: =SUM(E83:P83) -> 100
A85: N | B85: 9 | E85: 1 | F85: 2 | G85: 3 | H85: 4 | I85: 5 | J85: 6 | K85: 7 | L85: 8 | M85: 9 | N85: 10 | O85: 11 | P85: 12
A86: =CONCATENATE($B$85,"|",B86) -> 9|1 | B86: 1 | C86: SERVIÇOS PRELIMINARES E ADMINISTRAÇÃO DA OBRA | D86: 1 | E86: 20 | F86: 30 | G86: 20 | H86: 20 | I86: 10 | R86: =SUM(E86:P86) -> 100
A87: =CONCATENATE($B$85,"|",B87) -> 9|2 | B87: 2 | C87: MOVIMENTO DE TERRA, DRENAGEM E ÁGUAS PLUVIAIS | D87: 2 | E87: 10 | F87: 20 | G87: 20 | H87: 10 | I87: 10 | J87: 10 | K87: 10 | L87: 10 | R87: =SUM(E87:P87) -> 100
A88: =CONCATENATE($B$85,"|",B88) -> 9|3 | B88: 3 | C88: FUNDACOES | D88: 3 | E88: 20 | F88: 20 | G88: 30 | H88: 20 | I88: 10 | R88: =SUM(E88:P88) -> 100
A89: =CONCATENATE($B$85,"|",B89) -> 9|4 | B89: 4 | C89: ESTRUTURAS | D89: 4 | E89: 10 | F89: 10 | G89: 10 | H89: 10 | I89: 20 | J89: 10 | K89: 10 | L89: 10 | M89: 10 | R89: =SUM(E89:P89) -> 100
A90: =CONCATENATE($B$85,"|",B90) -> 9|5 | B90: 5 | C90: ALVENARIA, DIVISÓRIAS, MUROS E FECHOS | D90: 5 | E90: 5 | F90: 10 | G90: 10 | H90: 20 | I90: 15 | J90: 10 | K90: 10 | L90: 10 | M90: 10 | R90: =SUM(E90:P90) -> 100
A91: =CONCATENATE($B$85,"|",B91) -> 9|6 | B91: 6 | C91: COBERTURA | G91: 20 | H91: 20 | I91: 20 | J91: 20 | K91: 20 | R91: =SUM(E91:P91) -> 100
A92: =CONCATENATE($B$85,"|",B92) -> 9|7 | B92: 7 | C92: ESQUADRIAS, ACESSORIOS, VIDROS E ESPELHOS | D92: 3 | G92: 10 | H92: 10 | I92: 20 | J92: 20 | K92: 20 | L92: 10 | M92: 10 | R92: =SUM(E92:P92) -> 100
A93: =CONCATENATE($B$85,"|",B93) -> 9|8 | B93: 8 | C93: INSTAL. ELETRICAS, TELEFONIA, SISTEMAS DE PROTEÇÃO E VENTILAÇÃO | D93: 5 | E93: 10 | F93: 10 | G93: 10 | H93: 10 | I93: 10 | J93: 20 | K93: 10 | L93: 10 | M93: 10 | R93: =SUM(E93:P93) -> 100
A94: =CONCATENATE($B$85,"|",B94) -> 9|9 | B94: 9 | C94: INSTAL. HIDROSANITÁRIAS, GAS-GLP, INCÊNDIO E APARELHOS | D94: 6 | E94: 10 | F94: 10 | G94: 10 | H94: 10 | I94: 20 | J94: 10 | K94: 10 | L94: 10 | M94: 10 | R94: =SUM(E94:P94) -> 100
A95: =CONCATENATE($B$85,"|",B95) -> 9|10 | B95: 10 | C95: REVESTIMENTOS DE PAREDES E PISOS, IMPERMEABILIZACÕES, PINTURAS E ARGAMASSAS | D95: 6 | G95: 10 | H95: 10 | I95: 20 | J95: 20 | K95: 20 | L95: 10 | M95: 10 | R95: =SUM(E95:P95) -> 100
A96: =CONCATENATE($B$85,"|",B96) -> 9|11 | B96: 11 | C96: PAVIMENTACAO E CALCAMENTO, PAISAGISMO E EQUIPAMENTOS EXTERNOS | F96: 5 | G96: 5 | H96: 20 | I96: 20 | J96: 20 | K96: 10 | L96: 10 | M96: 10 | R96: =SUM(E96:P96) -> 100
A97: =CONCATENATE($B$85,"|",B97) -> 9|12 | B97: 12 | C97: DIVERSOS (LIMPEZA,ENSAIOS TECNOLÓGICOS, EQUIPAMENTOS) | E97: 10 | F97: 10 | G97: 10 | H97: 10 | I97: 20 | J97: 10 | K97: 10 | L97: 10 | M97: 10 | R97: =SUM(E97:P97) -> 100
A99: N | B99: 10 | E99: 1 | F99: 2 | G99: 3 | H99: 4 | I99: 5 | J99: 6 | K99: 7 | L99: 8 | M99: 9 | N99: 10 | O99: 11 | P99: 12
A100: =CONCATENATE($B$99,"|",B100) -> 10|1 | B100: 1 | C100: SERVIÇOS PRELIMINARES E ADMINISTRAÇÃO DA OBRA | D100: 1 | E100: 20 | F100: 30 | G100: 20 | H100: 20 | I100: 10 | R100: =SUM(E100:P100) -> 100
A101: =CONCATENATE($B$99,"|",B101) -> 10|2 | B101: 2 | C101: MOVIMENTO DE TERRA, DRENAGEM E ÁGUAS PLUVIAIS | D101: 2 | E101: 10 | F101: 10 | G101: 20 | H101: 10 | I101: 10 | J101: 10 | K101: 10 | L101: 10 | M101: 10 | R101: =SUM(E101:P101) -> 100
A102: =CONCATENATE($B$99,"|",B102) -> 10|3 | B102: 3 | C102: FUNDACOES | D102: 3 | E102: 20 | F102: 20 | G102: 20 | H102: 20 | I102: 20 | R102: =SUM(E102:P102) -> 100
A103: =CONCATENATE($B$99,"|",B103) -> 10|4 | B103: 4 | C103: ESTRUTURAS | D103: 4 | E103: 5 | F103: 10 | G103: 15 | H103: 10 | I103: 10 | J103: 10 | K103: 10 | L103: 10 | M103: 10 | N103: 10 | R103: =SUM(E103:P103) -> 100
A104: =CONCATENATE($B$99,"|",B104) -> 10|5 | B104: 5 | C104: ALVENARIA, DIVISÓRIAS, MUROS E FECHOS | E104: 5 | F104: 10 | G104: 15 | H104: 10 | I104: 10 | J104: 10 | K104: 10 | L104: 10 | M104: 10 | N104: 10 | R104: =SUM(E104:P104) -> 100
A105: =CONCATENATE($B$99,"|",B105) -> 10|6 | B105: 6 | C105: COBERTURA | D105: 5 | G105: 20 | H105: 20 | I105: 20 | J105: 20 | K105: 20 | R105: =SUM(E105:P105) -> 100
A106: =CONCATENATE($B$99,"|",B106) -> 10|7 | B106: 7 | C106: ESQUADRIAS, ACESSORIOS, VIDROS E ESPELHOS | D106: 3 | G106: 10 | H106: 10 | I106: 10 | J106: 20 | K106: 20 | L106: 10 | M106: 10 | N106: 10 | R106: =SUM(E106:P106) -> 100
A107: =CONCATENATE($B$99,"|",B107) -> 10|8 | B107: 8 | C107: INSTAL. ELETRICAS, TELEFONIA, SISTEMAS DE PROTEÇÃO E VENTILAÇÃO | D107: 5 | E107: 5 | F107: 5 | G107: 10 | H107: 10 | I107: 10 | J107: 20 | K107: 10 | L107: 10 | M107: 10 | N107: 10 | R107: =SUM(E107:P107) -> 100
...

Sheet composição dos itens
A2: 1 | B2: SERVIÇOS PRELIMINARES E ADMINISTRAÇÃO DA OBRA | L2: 1 | M2: 2 | S2: ADM | T2: PRELIM
A3: 2 | B3: MOVIMENTO DE TERRA, DRENAGEM E ÁGUAS PLUVIAIS | L3: 3 | M3: 4 | N3: 27 | O3: 28 | P3: 35 | Q3: 39 | S3: MOV TERR | T3: TRANSP | U3: DRE | V3: CAIXAS | W3: CONTENSÕES | X3: AGREGADOS
A4: 3 | B4: FUNDACOES | L4: 5 | T4: C
A5: 4 | B5: ESTRUTURAS | L5: 6 | M5: 7 | N5: 8 | O5: 9 | P5: 10 | Q5: 11 | T5: FORMAS | U5: ARMADURAS | V5: CONCRETOS | W5: LASTROS | X5: LAJES | Y5: ELEMENTOS VAZADOS
A6: 5 | B6: ALVENARIA, DIVISÓRIAS, MUROS E FECHOS | L6: 12 | M6: 13 | N6: 34 | S6: ALVENARIA | T6: DIVISÓRIAS E PAREDES | U6: MUROS E FSCHOS
A7: 6 | B7: COBERTURA | L7: 14 | S7: COBERTURA
A8: 7 | B8: ESQUADRIAS, ACESSORIOS, VIDROS E ESPELHOS | L8: 15 | M8: 17 | S8: ESQUADRIAS E ACESSÓRIOS | T8: VIDROS E ESPELHOS
A9: 8 | B9: INSTALACOES ELETRICAS, TELEFONIA, SISTEMAS DE PROTEÇÃO E VENTILAÇÃO | L9: 18 | M9: 19 | N9: 20 | O9: 21 | P9: 22
A10: 9 | B10: INSTALACOES HIDROSANITÁRIAS, GAS-GLP, PREVENÇÃO CONTRA INCÊNDIO E APRARELHOS SANITÁRIOS | L10: 23 | M10: 24 | N10: 25 | O10: 26
A11: 10 | B11: REVESTIMENTOS, IMPERMEABILIZACÕES, PINTURAS E ARGAMASSAS | L11: 16 | M11: 29 | N11: 30 | O11: 31 | P11: 32 | Q11: 38
A12: 11 | B12: PAVIMENTACAO E CALCAMENTO, PAISAGISMO E EQUIPAMENTOS EXTERNOS | L12: 33 | M12: 36
A13: 12 | B13: DIVERSOS (LIMPEZA,ENSAIOS TECNOLÓGICOS, EQUIPAMENTOS) | L13: 37 | M13: 40 | N13: 41
