Workbook
Name d: [1]proposta!#REF!
Name j: 'orc DER JAN 2021'!#REF!

Sheet base
A1: N | B1: 3
A2: =CONCATENATE($B$1,"|",B2) -> 3|1 | B2: 1 | C2: SERVIÇOS PRELIMINARES | D2: 1 | E2: 50 | F2: 50 | S2: =SUM(E2:P2) -> 100
A3: =CONCATENATE($B$1,"|",B3) -> 3|2 | B3: 2 | C3: TERRAPLENAGEM | D3: 2 | E3: 50 | F3: 50 | S3: =SUM(E3:P3) -> 100
A4: =CONCATENATE($B$1,"|",B4) -> 3|3 | B4: 3 | C4: BASE / SUB-BASE | D4: 3 | E4: 25 | F4: 60 | G4: 15 | S4: =SUM(E4:P4) -> 100
A5: =CONCATENATE($B$1,"|",B5) -> 3|4 | B5: 4 | C5: REVESTIMENTO | D5: 4 | F5: 50 | G5: 50 | S5: =SUM(E5:P5) -> 100
A6: =CONCATENATE($B$1,"|",B6) -> 3|5 | B6: 5 | C6: MEIO-FIO E SARJETA | D6: 5 | E6: 20 | F6: 50 | G6: 30 | S6: =SUM(E6:P6) -> 100
A7: =CONCATENATE($B$1,"|",B7) -> 3|6 | B7: 6 | C7: PAISAGISMO / URBANISMO | D7: 3 | F7: 50 | G7: 50 | S7: =SUM(E7:P7) -> 100
A8: =CONCATENATE($B$1,"|",B8) -> 3|7 | B8: 7 | C8: SINALIZAÇÃO DE TRÂNSITO | D8: 5 | F8: 20 | G8: 80 | S8: =SUM(E8:P8) -> 100
A9: =CONCATENATE($B$1,"|",B9) -> 3|8 | B9: 8 | C9: ILUMINAÇÃO PÚBLICA | D9: 6 | F9: 50 | G9: 50 | S9: =SUM(E9:P9) -> 100
A10: =CONCATENATE($B$1,"|",B10) -> 3|9 | B10: 9 | C10: SERVIÇOS DIVERSOS | D10: 6 | E10: 30 | F10: 40 | G10: 30 | S10: =SUM(E10:P10) -> 100
A11: =CONCATENATE($B$1,"|",B11) -> 3|10 | B11: 10 | C11: DRENAGEM | E11: 60 | F11: 40 | S11: =SUM(E11:P11) -> 100
A12: =CONCATENATE($B$1,"|",B12) -> 3|11 | B12: 11 | C12: ENSAIOS TECNOLÓGICOS | E12: 15 | F12: 60 | G12: 25 | S12: =SUM(E12:P12) -> 100
A14: N | B14: 4
A15: =CONCATENATE($B$14,"|",B15) -> 4|1 | B15: 1 | C15: SERVIÇOS PRELIMINARES | D15: 1 | E15: 45 | F15: 45 | G15: 10 | S15: =SUM(E15:P15) -> 100
A16: =CONCATENATE($B$14,"|",B16) -> 4|2 | B16: 2 | C16: TERRAPLENAGEM | D16: 2 | E16: 40 | F16: 40 | G16: 20 | S16: =SUM(E16:P16) -> 100
A17: =CONCATENATE($B$14,"|",B17) -> 4|3 | B17: 3 | C17: BASE / SUB-BASE | D17: 3 | E17: 20 | F17: 35 | G17: 35 | H17: 10 | S17: =SUM(E17:P17) -> 100
A18: =CONCATENATE($B$14,"|",B18) -> 4|4 | B18: 4 | C18: REVESTIMENTO | D18: 4 | F18: 35 | G18: 35 | H18: 30 | S18: =SUM(E18:P18) -> 100
A19: =CONCATENATE($B$14,"|",B19) -> 4|5 | B19: 5 | C19: MEIO-FIO E SARJETA | D19: 5 | E19: 10 | F19: 35 | G19: 35 | H19: 20 | S19: =SUM(E19:P19) -> 100
A20: =CONCATENATE($B$14,"|",B20) -> 4|6 | B20: 6 | C20: PAISAGISMO / URBANISMO | D20: 3 | F20: 35 | G20: 35 | H20: 30 | S20: =SUM(E20:P20) -> 100
A21: =CONCATENATE($B$14,"|",B21) -> 4|7 | B21: 7 | C21: SINALIZAÇÃO DE TRÂNSITO | D21: 5 | F21: 15 | G21: 60 | H21: 25 | S21: =SUM(E21:P21) -> 100
A22: =CONCATENATE($B$14,"|",B22) -> 4|8 | B22: 8 | C22: ILUMINAÇÃO PÚBLICA | D22: 6 | F22: 30 | G22: 40 | H22: 30 | S22: =SUM(E22:P22) -> 100
A23: =CONCATENATE($B$14,"|",B23) -> 4|9 | B23: 9 | C23: SERVIÇOS DIVERSOS | D23: 6 | E23: 10 | F23: 35 | G23: 35 | H23: 20 | S23: =SUM(E23:P23) -> 100
A24: =CONCATENATE($B$14,"|",B24) -> 4|10 | B24: 10 | C24: DRENAGEM | E24: 40 | F24: 40 | G24: 20 | S24: =SUM(E24:P24) -> 100
A25: =CONCATENATE($B$14,"|",B25) -> 4|11 | B25: 11 | C25: ENSAIOS TECNOLÓGICOS | E25: 10 | F25: 35 | G25: 35 | H25: 20 | S25: =SUM(E25:P25) -> 100
A27: N | B27: 5
A28: =CONCATENATE($B$27,"|",B28) -> 5|1 | B28: 1 | C28: SERVIÇOS PRELIMINARES | D28: 1 | E28: 40 | F28: 30 | G28: 25 | H28: 5 | S28: =SUM(E28:P28) -> 100
A29: =CONCATENATE($B$27,"|",B29) -> 5|2 | B29: 2 | C29: TERRAPLENAGEM | D29: 2 | E29: 30 | F29: 30 | G29: 30 | H29: 10 | S29: =SUM(E29:P29) -> 100
A30: =CONCATENATE($B$27,"|",B30) -> 5|3 | B30: 3 | C30: BASE / SUB-BASE | D30: 3 | E30: 10 | F30: 30 | G30: 30 | H30: 25 | I30: 5 | S30: =SUM(E30:P30) -> 100
A31: =CONCATENATE($B$27,"|",B31) -> 5|4 | B31: 4 | C31: REVESTIMENTO | D31: 4 | F31: 15 | G31: 30 | H31: 30 | I31: 25 | S31: =SUM(E31:P31) -> 100
A32: =CONCATENATE($B$27,"|",B32) -> 5|5 | B32: 5 | C32: MEIO-FIO E SARJETA | D32: 5 | F32: 25 | G32: 35 | H32: 35 | I32: 5 | S32: =SUM(E32:P32) -> 100
A33: =CONCATENATE($B$27,"|",B33) -> 5|6 | B33: 6 | C33: PAISAGISMO / URBANISMO | D33: 3 | F33: 5 | G33: 40 | H33: 30 | I33: 25 | S33: =SUM(E33:P33) -> 100
A34: =CONCATENATE($B$27,"|",B34) -> 5|7 | B34: 7 | C34: SINALIZAÇÃO DE TRÂNSITO | D34: 5 | F34: 10 | G34: 35 | H34: 35 | I34: 20 | S34: =SUM(E34:P34) -> 100
A35: =CONCATENATE($B$27,"|",B35) -> 5|8 | B35: 8 | C35: ILUMINAÇÃO PÚBLICA | D35: 6 | F35: 10 | G35: 35 | H35: 35 | I35: 20 | S35: =SUM(E35:P35) -> 100
A36: =CONCATENATE($B$27,"|",B36) -> 5|9 | B36: 9 | C36: SERVIÇOS DIVERSOS | D36: 6 | E36: 5 | F36: 25 | G36: 25 | H36: 25 | I36: 20 | S36: =SUM(E36:P36) -> 100
A37: =CONCATENATE($B$27,"|",B37) -> 5|10 | B37: 10 | C37: DRENAGEM | E37: 25 | F37: 30 | G37: 30 | H37: 15 | S37: =SUM(E37:P37) -> 100
A38: =CONCATENATE($B$27,"|",B38) -> 5|11 | B38: 11 | C38: ENSAIOS TECNOLÓGICOS | E38: 7 | F38: 21 | G38: 27 | H38: 28 | I38: 17 | S38: =SUM(E38:P38) -> 100
A40: N | B40: 6
A41: =CONCATENATE($B$40,"|",B41) -> 6|1 | B41: 1 | C41: SERVIÇOS PRELIMINARES | D41: 1 | E41: 20 | F41: 30 | G41: 30 | H41: 20 | S41: =SUM(E41:P41) -> 100
A42: =CONCATENATE($B$40,"|",B42) -> 6|2 | B42: 2 | C42: TERRAPLENAGEM | D42: 2 | E42: 15 | F42: 25 | G42: 30 | H42: 25 | I42: 5 | S42: =SUM(E42:P42) -> 100
A43: =CONCATENATE($B$40,"|",B43) -> 6|3 | B43: 3 | C43: BASE / SUB-BASE | D43: 3 | E43: 5 | F43: 20 | G43: 30 | H43: 25 | I43: 20 | S43: =SUM(E43:P43) -> 100
...

Sheet base (2)
A1: N | B1: 3
A2: =CONCATENATE($B$1,"|",B2) -> 3|1 | B2: 1 | C2: SERVIÇOS PRELIMINARES | D2: 1 | E2: 50 | F2: 50 | S2: =SUM(E2:P2) -> 100
A3: =CONCATENATE($B$1,"|",B3) -> 3|2 | B3: 2 | C3: TERRAPLENAGEM | D3: 2 | E3: 50 | F3: 50 | S3: =SUM(E3:P3) -> 100
A4: =CONCATENATE($B$1,"|",B4) -> 3|3 | B4: 3 | C4: BASE / SUB-BASE | D4: 3 | E4: 25 | F4: 60 | G4: 15 | S4: =SUM(E4:P4) -> 100
A5: =CONCATENATE($B$1,"|",B5) -> 3|4 | B5: 4 | C5: REVESTIMENTO | D5: 4 | F5: 50 | G5: 50 | S5: =SUM(E5:P5) -> 100
A6: =CONCATENATE($B$1,"|",B6) -> 3|5 | B6: 5 | C6: MEIO-FIO E SARJETA | D6: 5 | E6: 20 | F6: 50 | G6: 30 | S6: =SUM(E6:P6) -> 100
A7: =CONCATENATE($B$1,"|",B7) -> 3|6 | B7: 6 | C7: PAISAGISMO / URBANISMO | D7: 3 | F7: 50 | G7: 50 | S7: =SUM(E7:P7) -> 100
A8: =CONCATENATE($B$1,"|",B8) -> 3|7 | B8: 7 | C8: SINALIZAÇÃO DE TRÂNSITO | D8: 5 | F8: 20 | G8: 80 | S8: =SUM(E8:P8) -> 100
A9: =CONCATENATE($B$1,"|",B9) -> 3|8 | B9: 8 | C9: ILUMINAÇÃO PÚBLICA | D9: 6 | F9: 50 | G9: 50 | S9: =SUM(E9:P9) -> 100
A10: =CONCATENATE($B$1,"|",B10) -> 3|9 | B10: 9 | C10: SERVIÇOS DIVERSOS | D10: 6 | E10: 30 | F10: 40 | G10: 30 | S10: =SUM(E10:P10) -> 100
A11: =CONCATENATE($B$1,"|",B11) -> 3|10 | B11: 10 | C11: DRENAGEM | E11: 60 | F11: 40 | S11: =SUM(E11:P11) -> 100
A12: =CONCATENATE($B$1,"|",B12) -> 3|11 | B12: 11 | C12: ENSAIOS TECNOLÓGICOS | E12: 15 | F12: 60 | G12: 25 | S12: =SUM(E12:P12) -> 100
A14: N | B14: 4
A15: =CONCATENATE($B$14,"|",B15) -> 4|1 | B15: 1 | C15: SERVIÇOS PRELIMINARES | D15: 1 | E15: 45 | F15: 45 | G15: 10 | S15: =SUM(E15:P15) -> 100
A16: =CONCATENATE($B$14,"|",B16) -> 4|2 | B16: 2 | C16: TERRAPLENAGEM | D16: 2 | E16: 40 | F16: 40 | G16: 20 | S16: =SUM(E16:P16) -> 100
A17: =CONCATENATE($B$14,"|",B17) -> 4|3 | B17: 3 | C17: BASE / SUB-BASE | D17: 3 | E17: 20 | F17: 35 | G17: 35 | H17: 10 | S17: =SUM(E17:P17) -> 100
A18: =CONCATENATE($B$14,"|",B18) -> 4|4 | B18: 4 | C18: REVESTIMENTO | D18: 4 | F18: 35 | G18: 35 | H18: 30 | S18: =SUM(E18:P18) -> 100
A19: =CONCATENATE($B$14,"|",B19) -> 4|5 | B19: 5 | C19: MEIO-FIO E SARJETA | D19: 5 | E19: 10 | F19: 35 | G19: 35 | H19: 20 | S19: =SUM(E19:P19) -> 100
A20: =CONCATENATE($B$14,"|",B20) -> 4|6 | B20: 6 | C20: PAISAGISMO / URBANISMO | D20: 3 | F20: 35 | G20: 35 | H20: 30 | S20: =SUM(E20:P20) -> 100
A21: =CONCATENATE($B$14,"|",B21) -> 4|7 | B21: 7 | C21: SINALIZAÇÃO DE TRÂNSITO | D21: 5 | F21: 15 | G21: 60 | H21: 25 | S21: =SUM(E21:P21) -> 100
A22: =CONCATENATE($B$14,"|",B22) -> 4|8 | B22: 8 | C22: ILUMINAÇÃO PÚBLICA | D22: 6 | F22: 30 | G22: 40 | H22: 30 | S22: =SUM(E22:P22) -> 100
A23: =CONCATENATE($B$14,"|",B23) -> 4|9 | B23: 9 | C23: SERVIÇOS DIVERSOS | D23: 6 | E23: 10 | F23: 35 | G23: 35 | H23: 20 | S23: =SUM(E23:P23) -> 100
A24: =CONCATENATE($B$14,"|",B24) -> 4|10 | B24: 10 | C24: DRENAGEM | E24: 40 | F24: 40 | G24: 20 | S24: =SUM(E24:P24) -> 100
A25: =CONCATENATE($B$14,"|",B25) -> 4|11 | B25: 11 | C25: ENSAIOS TECNOLÓGICOS | E25: 10 | F25: 35 | G25: 35 | H25: 20 | S25: =SUM(E25:P25) -> 100
A27: N | B27: 5
A28: =CONCATENATE($B$27,"|",B28) -> 5|1 | B28: 1 | C28: SERVIÇOS PRELIMINARES | D28: 1 | E28: 40 | F28: 30 | G28: 25 | H28: 5 | S28: =SUM(E28:P28) -> 100
A29: =CONCATENATE($B$27,"|",B29) -> 5|2 | B29: 2 | C29: TERRAPLENAGEM | D29: 2 | E29: 30 | F29: 30 | G29: 30 | H29: 10 | S29: =SUM(E29:P29) -> 100
A30: =CONCATENATE($B$27,"|",B30) -> 5|3 | B30: 3 | C30: BASE / SUB-BASE | D30: 3 | E30: 10 | F30: 30 | G30: 30 | H30: 25 | I30: 5 | S30: =SUM(E30:P30) -> 100
A31: =CONCATENATE($B$27,"|",B31) -> 5|4 | B31: 4 | C31: REVESTIMENTO | D31: 4 | F31: 15 | G31: 30 | H31: 30 | I31: 25 | S31: =SUM(E31:P31) -> 100
A32: =CONCATENATE($B$27,"|",B32) -> 5|5 | B32: 5 | C32: MEIO-FIO E SARJETA | D32: 5 | F32: 25 | G32: 35 | H32: 35 | I32: 5 | S32: =SUM(E32:P32) -> 100
A33: =CONCATENATE($B$27,"|",B33) -> 5|6 | B33: 6 | C33: PAISAGISMO / URBANISMO | D33: 3 | F33: 5 | G33: 40 | H33: 30 | I33: 25 | S33: =SUM(E33:P33) -> 100
A34: =CONCATENATE($B$27,"|",B34) -> 5|7 | B34: 7 | C34: SINALIZAÇÃO DE TRÂNSITO | D34: 5 | F34: 10 | G34: 35 | H34: 35 | I34: 20 | S34: =SUM(E34:P34) -> 100
A35: =CONCATENATE($B$27,"|",B35) -> 5|8 | B35: 8 | C35: ILUMINAÇÃO PÚBLICA | D35: 6 | F35: 10 | G35: 35 | H35: 35 | I35: 20 | S35: =SUM(E35:P35) -> 100
A36: =CONCATENATE($B$27,"|",B36) -> 5|9 | B36: 9 | C36: SERVIÇOS DIVERSOS | D36: 6 | E36: 5 | F36: 25 | G36: 25 | H36: 25 | I36: 20 | S36: =SUM(E36:P36) -> 100
A37: =CONCATENATE($B$27,"|",B37) -> 5|10 | B37: 10 | C37: DRENAGEM | E37: 25 | F37: 30 | G37: 30 | H37: 15 | S37: =SUM(E37:P37) -> 100
A38: =CONCATENATE($B$27,"|",B38) -> 5|11 | B38: 11 | C38: ENSAIOS TECNOLÓGICOS | E38: 7 | F38: 21 | G38: 27 | H38: 28 | I38: 17 | S38: =SUM(E38:P38) -> 100
A40: N | B40: 6
A41: =CONCATENATE($B$40,"|",B41) -> 6|1 | B41: 1 | C41: SERVIÇOS PRELIMINARES | D41: 1 | E41: 20 | F41: 30 | G41: 30 | H41: 20 | S41: =SUM(E41:P41) -> 100
A42: =CONCATENATE($B$40,"|",B42) -> 6|2 | B42: 2 | C42: TERRAPLENAGEM | D42: 2 | E42: 15 | F42: 25 | G42: 30 | H42: 25 | I42: 5 | S42: =SUM(E42:P42) -> 100
A43: =CONCATENATE($B$40,"|",B43) -> 6|3 | B43: 3 | C43: BASE / SUB-BASE | D43: 3 | E43: 5 | F43: 20 | G43: 30 | H43: 25 | I43: 20 | S43: =SUM(E43:P43) -> 100
...

Sheet Cronograma PAM
B1: PAM | C1: SECRETARIA DE ESTADO DO DESENVOLVIMENTO URBANO - SEDU | K1: PAVIMENTAÇÃO
B2: Município: | C2: PIÊN | F2: SAM | G2: 70 | H2: Edital no Município | J2: Procedimento prévio | L2: Início previsto da Obra | N2: Convênio | P2: Repasse do Concedente | S2: 600000 | T2: =IF(S4=0,0,S2/S4) -> 0.45686473 | V2: 1313299
B3: Projeto: | C3: PAVIMENTAÇÃO DE VIA URBANA | F3: LOTE nº | G3: 1 | H3: Data | I3: =TODAY() -> 44616 | J3: Dias | K3: =80-10 -> 70 | L3: Data | M3: =I3+K3+10 -> 44696 | N3: nº | P3: Contrapartida do Proponente | S3: =V2-S2 -> 713299.02 | T3: =IF(S3=0,0,1-T2) -> 0.54313527
B4: Quantidade: | C4: 2940.71 | E4: CRONOGRAMA FÍSICO FINANCEIRO | P4: Valor Total | S4: =SUM(S2:S3) -> 1313299 | T4: =SUM(T2:T3) -> 1
B5: GRUPO | C5: SERVIÇOS | E5: N | F5: PARCELAS (%) | S5: TOTAL | T5: % S/ | W5: Controle | X5: =IF(S4=S51,"OK","erro") -> OK
B6: ITEM | E6: 5 | F6: =IF(E6=0,0,1) -> 1 | G6: =IF($E$6<2,0,2) -> 2 | H6: =IF($E$6<3,0,3) -> 3 | I6: =IF($E$6<4,0,4) -> 4 | J6: =IF($E$6<5,0,5) -> 5 | K6: =IF($E$6<6,0,6) -> 0 | L6: =IF($E$6<7,0,7) -> 0 | M6: =IF($E$6<8,0,8) -> 0 | N6: =IF($E$6<9,0,9) -> 0 | O6: =IF($E$6<10,0,10) -> 0 | P6: =IF($E$6<11,0,11) -> 0 | Q6: =IF($E$6<12,0,12) -> 0 | S6: ITEM (R$) | T6: TOTAL
C7: Data Início | F7: =IF(E6=0,0,M3) -> 44696 | G7: =IF(G6=0,0,F8+1) -> 44727 | H7: =IF(H6=0,0,G8+1) -> 44758 | I7: =IF(I6=0,0,H8+1) -> 44789 | J7: =IF(J6=0,0,I8+1) -> 44820 | K7: =IF(K6=0,0,J8+1) -> 0 | L7: =IF(L6=0,0,K8+1) -> 0 | M7: =IF(M6=0,0,L8+1) -> 0 | N7: =IF(N6=0,0,M8+1) -> 0 | ... Q7: =IF(Q6=0,0,P8+1) -> 0
C8: Data Fim | F8: =IF(E6=0,0,F7+30) -> 44726 | G8: =IF(G6=0,0,G7+30) -> 44757 | H8: =IF(H6=0,0,H7+30) -> 44788 | I8: =IF(I6=0,0,I7+30) -> 44819 | J8: =IF(J6=0,0,J7+30) -> 44850 | K8: =IF(K6=0,0,K7+30) -> 0 | L8: =IF(L6=0,0,L7+30) -> 0 | M8: =IF(M6=0,0,M7+30) -> 0 | N8: =IF(N6=0,0,N7+30) -> 0 | ... Q8: =IF(Q6=0,0,Q7+30) -> 0
A9: =CONCATENATE($E$6,"|",B9) -> 5|1 | B9: 1 | C9: SERVIÇOS PRELIMINARES | E9: 1 | F9: =IF(E$6<3,0,IF(F$6=0,0,VLOOKUP($A9,'base (2)'!$A:$P,F$6+4,FALSE))) -> 40 | G9: =IF(E$6<3,0,IF(G$6=0,0,VLOOKUP($A9,'base (2)'!$A:$P,G$6+4,FALSE))) -> 30 | H9: =IF(H$6=0,0,VLOOKUP($A9,'base (2)'!$A:$P,H$6+4,FALSE)) -> 25 | I9: =IF(I$6=0,0,VLOOKUP($A9,'base (2)'!$A:$P,I$6+4,FALSE)) -> 5 | J9: =IF(J$6=0,0,VLOOKUP($A9,'base (2)'!$A:$P,J$6+4,FALSE)) -> 0 | K9: =IF(K$6=0,0,VLOOKUP($A9,'base (2)'!$A:$P,K$6+4,FALSE)) -> 0 | L9: =IF(L$6=0,0,VLOOKUP($A9,'base (2)'!$A:$P,L$6+4,FALSE)) -> 0 | M9: =IF(M$6=0,0,VLOOKUP($A9,'base (2)'!$A:$P,M$6+4,FALSE)) -> 0 | N9: =IF(N$6=0,0,VLOOKUP($A9,'base (2)'!$A:$P,N$6+4,FALSE)) -> 0 | O9: =IF(O$6=0,0,VLOOKUP($A9,'base (2)'!$A:$P,O$6+4,FALSE)) -> 0 | ... Q9: =IF(Q$6=0,0,VLOOKUP($A9,'base (2)'!$A:$P,Q$6+4,FALSE)) -> 0 | S9: 16550.4 | T9: =IF($S$21=0,0,(S9/$S$21)*100) -> 1.2602157 | W9: =SUM(F9:Q9) -> 100
A10: =CONCATENATE($E$6,"|",B10) -> 5|2 | B10: 2 | C10: TERRAPLENAGEM | E10: 2 | F10: =IF(E$6<3,0,IF(F$6=0,0,VLOOKUP($A10,'base (2)'!$A:$P,F$6+4,FALSE))) -> 30 | G10: =IF(E$6<3,0,IF(G$6=0,0,VLOOKUP($A10,'base (2)'!$A:$P,G$6+4,FALSE))) -> 30 | H10: =IF(H$6=0,0,VLOOKUP($A10,'base (2)'!$A:$P,H$6+4,FALSE)) -> 30 | I10: =IF(I$6=0,0,VLOOKUP($A10,'base (2)'!$A:$P,I$6+4,FALSE)) -> 10 | J10: =IF(J$6=0,0,VLOOKUP($A10,'base (2)'!$A:$P,J$6+4,FALSE)) -> 0 | K10: =IF(K$6=0,0,VLOOKUP($A10,'base (2)'!$A:$P,K$6+4,FALSE)) -> 0 | L10: =IF(L$6=0,0,VLOOKUP($A10,'base (2)'!$A:$P,L$6+4,FALSE)) -> 0 | M10: =IF(M$6=0,0,VLOOKUP($A10,'base (2)'!$A:$P,M$6+4,FALSE)) -> 0 | N10: =IF(N$6=0,0,VLOOKUP($A10,'base (2)'!$A:$P,N$6+4,FALSE)) -> 0 | O10: =IF(O$6=0,0,VLOOKUP($A10,'base (2)'!$A:$P,O$6+4,FALSE)) -> 0 | ... Q10: =IF(Q$6=0,0,VLOOKUP($A10,'base (2)'!$A:$P,Q$6+4,FALSE)) -> 0 | S10: 18659.28 | T10: =IF($S$21=0,0,(S10/$S$21)*100) -> 1.4207945 | W10: =SUM(F10:Q10) -> 100
A11: =CONCATENATE($E$6,"|",B11) -> 5|3 | B11: 3 | C11: BASE / SUB-BASE | E11: 3 | F11: =IF(E$6<3,0,IF(F$6=0,0,VLOOKUP($A11,'base (2)'!$A:$P,F$6+4,FALSE))) -> 10 | G11: =IF(E$6<3,0,IF(G$6=0,0,VLOOKUP($A11,'base (2)'!$A:$P,G$6+4,FALSE))) -> 30 | H11: =IF(H$6=0,0,VLOOKUP($A11,'base (2)'!$A:$P,H$6+4,FALSE)) -> 30 | I11: =IF(I$6=0,0,VLOOKUP($A11,'base (2)'!$A:$P,I$6+4,FALSE)) -> 25 | J11: =IF(J$6=0,0,VLOOKUP($A11,'base (2)'!$A:$P,J$6+4,FALSE)) -> 5 | K11: =IF(K$6=0,0,VLOOKUP($A11,'base (2)'!$A:$P,K$6+4,FALSE)) -> 0 | L11: =IF(L$6=0,0,VLOOKUP($A11,'base (2)'!$A:$P,L$6+4,FALSE)) -> 0 | M11: =IF(M$6=0,0,VLOOKUP($A11,'base (2)'!$A:$P,M$6+4,FALSE)) -> 0 | N11: =IF(N$6=0,0,VLOOKUP($A11,'base (2)'!$A:$P,N$6+4,FALSE)) -> 0 | O11: =IF(O$6=0,0,VLOOKUP($A11,'base (2)'!$A:$P,O$6+4,FALSE)) -> 0 | ... Q11: =IF(Q$6=0,0,VLOOKUP($A11,'base (2)'!$A:$P,Q$6+4,FALSE)) -> 0 | S11: 172610.13 | T11: =IF($S$21=0,0,(S11/$S$21)*100) -> 13.143247 | W11: =SUM(F11:Q11) -> 100
A12: =CONCATENATE($E$6,"|",B12) -> 5|4 | B12: 4 | C12: REVESTIMENTO | E12: 4 | F12: =IF(E$6<3,0,IF(F$6=0,0,VLOOKUP($A12,'base (2)'!$A:$P,F$6+4,FALSE))) -> 0 | G12: =IF(E$6<3,0,IF(G$6=0,0,VLOOKUP($A12,'base (2)'!$A:$P,G$6+4,FALSE))) -> 15 | H12: =IF(H$6=0,0,VLOOKUP($A12,'base (2)'!$A:$P,H$6+4,FALSE)) -> 30 | I12: =IF(I$6=0,0,VLOOKUP($A12,'base (2)'!$A:$P,I$6+4,FALSE)) -> 30 | J12: =IF(J$6=0,0,VLOOKUP($A12,'base (2)'!$A:$P,J$6+4,FALSE)) -> 25 | K12: =IF(K$6=0,0,VLOOKUP($A12,'base (2)'!$A:$P,K$6+4,FALSE)) -> 0 | L12: =IF(L$6=0,0,VLOOKUP($A12,'base (2)'!$A:$P,L$6+4,FALSE)) -> 0 | M12: =IF(M$6=0,0,VLOOKUP($A12,'base (2)'!$A:$P,M$6+4,FALSE)) -> 0 | N12: =IF(N$6=0,0,VLOOKUP($A12,'base (2)'!$A:$P,N$6+4,FALSE)) -> 0 | O12: =IF(O$6=0,0,VLOOKUP($A12,'base (2)'!$A:$P,O$6+4,FALSE)) -> 0 | ... Q12: =IF(Q$6=0,0,VLOOKUP($A12,'base (2)'!$A:$P,Q$6+4,FALSE)) -> 0 | S12: 299556.12 | T12: =IF($S$21=0,0,(S12/$S$21)*100) -> 22.809438 | W12: =SUM(F12:Q12) -> 100
A13: =CONCATENATE($E$6,"|",B13) -> 5|5 | B13: 5 | C13: MEIO-FIO E SARJETA | E13: 5 | F13: =IF(E$6<3,0,IF(F$6=0,0,VLOOKUP($A13,'base (2)'!$A:$P,F$6+4,FALSE))) -> 0 | G13: =IF(E$6<3,0,IF(G$6=0,0,VLOOKUP($A13,'base (2)'!$A:$P,G$6+4,FALSE))) -> 25 | H13: =IF(H$6=0,0,VLOOKUP($A13,'base (2)'!$A:$P,H$6+4,FALSE)) -> 35 | I13: =IF(I$6=0,0,VLOOKUP($A13,'base (2)'!$A:$P,I$6+4,FALSE)) -> 35 | J13: =IF(J$6=0,0,VLOOKUP($A13,'base (2)'!$A:$P,J$6+4,FALSE)) -> 5 | K13: =IF(K$6=0,0,VLOOKUP($A13,'base (2)'!$A:$P,K$6+4,FALSE)) -> 0 | L13: =IF(L$6=0,0,VLOOKUP($A13,'base (2)'!$A:$P,L$6+4,FALSE)) -> 0 | M13: =IF(M$6=0,0,VLOOKUP($A13,'base (2)'!$A:$P,M$6+4,FALSE)) -> 0 | N13: =IF(N$6=0,0,VLOOKUP($A13,'base (2)'!$A:$P,N$6+4,FALSE)) -> 0 | O13: =IF(O$6=0,0,VLOOKUP($A13,'base (2)'!$A:$P,O$6+4,FALSE)) -> 0 | ... Q13: =IF(Q$6=0,0,VLOOKUP($A13,'base (2)'!$A:$P,Q$6+4,FALSE)) -> 0 | S13: 77614.08 | T13: =IF($S$21=0,0,(S13/$S$21)*100) -> 5.9098559 | W13: =SUM(F13:Q13) -> 100
A14: =CONCATENATE($E$6,"|",B14) -> 5|6 | B14: 6 | C14: SERVIÇOS DE URBANIZAÇÃO | E14: 3 | F14: =IF(E$6<3,0,IF(F$6=0,0,VLOOKUP($A14,'base (2)'!$A:$P,F$6+4,FALSE))) -> 0 | G14: =IF(E$6<3,0,IF(G$6=0,0,VLOOKUP($A14,'base (2)'!$A:$P,G$6+4,FALSE))) -> 5 | H14: =IF(H$6=0,0,VLOOKUP($A14,'base (2)'!$A:$P,H$6+4,FALSE)) -> 40 | I14: =IF(I$6=0,0,VLOOKUP($A14,'base (2)'!$A:$P,I$6+4,FALSE)) -> 30 | J14: =IF(J$6=0,0,VLOOKUP($A14,'base (2)'!$A:$P,J$6+4,FALSE)) -> 25 | K14: =IF(K$6=0,0,VLOOKUP($A14,'base (2)'!$A:$P,K$6+4,FALSE)) -> 0 | L14: =IF(L$6=0,0,VLOOKUP($A14,'base (2)'!$A:$P,L$6+4,FALSE)) -> 0 | M14: =IF(M$6=0,0,VLOOKUP($A14,'base (2)'!$A:$P,M$6+4,FALSE)) -> 0 | N14: =IF(N$6=0,0,VLOOKUP($A14,'base (2)'!$A:$P,N$6+4,FALSE)) -> 0 | O14: =IF(O$6=0,0,VLOOKUP($A14,'base (2)'!$A:$P,O$6+4,FALSE)) -> 0 | ... Q14: =IF(Q$6=0,0,VLOOKUP($A14,'base (2)'!$A:$P,Q$6+4,FALSE)) -> 0 | S14: 176230.47 | T14: =IF($S$21=0,0,(S14/$S$21)*100) -> 13.418914 | W14: =SUM(F14:Q14) -> 100
A15: =CONCATENATE($E$6,"|",B15) -> 5|7 | B15: 7 | C15: SINALIZAÇÃO DE TRÂNSITO | E15: 5 | F15: =IF(E$6<3,0,IF(F$6=0,0,VLOOKUP($A15,'base (2)'!$A:$P,F$6+4,FALSE))) -> 0 | G15: =IF(E$6<3,0,IF(G$6=0,0,VLOOKUP($A15,'base (2)'!$A:$P,G$6+4,FALSE))) -> 10 | H15: =IF(H$6=0,0,VLOOKUP($A15,'base (2)'!$A:$P,H$6+4,FALSE)) -> 35 | I15: =IF(I$6=0,0,VLOOKUP($A15,'base (2)'!$A:$P,I$6+4,FALSE)) -> 35 | J15: =IF(J$6=0,0,VLOOKUP($A15,'base (2)'!$A:$P,J$6+4,FALSE)) -> 20 | K15: =IF(K$6=0,0,VLOOKUP($A15,'base (2)'!$A:$P,K$6+4,FALSE)) -> 0 | L15: =IF(L$6=0,0,VLOOKUP($A15,'base (2)'!$A:$P,L$6+4,FALSE)) -> 0 | M15: =IF(M$6=0,0,VLOOKUP($A15,'base (2)'!$A:$P,M$6+4,FALSE)) -> 0 | N15: =IF(N$6=0,0,VLOOKUP($A15,'base (2)'!$A:$P,N$6+4,FALSE)) -> 0 | O15: =IF(O$6=0,0,VLOOKUP($A15,'base (2)'!$A:$P,O$6+4,FALSE)) -> 0 | ... Q15: =IF(Q$6=0,0,VLOOKUP($A15,'base (2)'!$A:$P,Q$6+4,FALSE)) -> 0 | S15: 17955.33 | T15: =IF($S$21=0,0,(S15/$S$21)*100) -> 1.3671928 | W15: =SUM(F15:Q15) -> 100
A16: =CONCATENATE($E$6,"|",B16) -> 5|8 | B16: 8 | C16: ILUMINAÇÃO PÚBLICA | E16: 6 | F16: =IF(E$6<3,0,IF(F$6=0,0,VLOOKUP($A16,'base (2)'!$A:$P,F$6+4,FALSE))) -> 0 | G16: =IF(E$6<3,0,IF(G$6=0,0,VLOOKUP($A16,'base (2)'!$A:$P,G$6+4,FALSE))) -> 10 | H16: =IF(H$6=0,0,VLOOKUP($A16,'base (2)'!$A:$P,H$6+4,FALSE)) -> 35 | I16: =IF(I$6=0,0,VLOOKUP($A16,'base (2)'!$A:$P,I$6+4,FALSE)) -> 35 | J16: =IF(J$6=0,0,VLOOKUP($A16,'base (2)'!$A:$P,J$6+4,FALSE)) -> 20 | K16: =IF(K$6=0,0,VLOOKUP($A16,'base (2)'!$A:$P,K$6+4,FALSE)) -> 0 | L16: =IF(L$6=0,0,VLOOKUP($A16,'base (2)'!$A:$P,L$6+4,FALSE)) -> 0 | M16: =IF(M$6=0,0,VLOOKUP($A16,'base (2)'!$A:$P,M$6+4,FALSE)) -> 0 | N16: =IF(N$6=0,0,VLOOKUP($A16,'base (2)'!$A:$P,N$6+4,FALSE)) -> 0 | O16: =IF(O$6=0,0,VLOOKUP($A16,'base (2)'!$A:$P,O$6+4,FALSE)) -> 0 | ... Q16: =IF(Q$6=0,0,VLOOKUP($A16,'base (2)'!$A:$P,Q$6+4,FALSE)) -> 0 | T16: =IF($S$21=0,0,(S16/$S$21)*100) -> 0 | W16: =SUM(F16:Q16) -> 100
A17: =CONCATENATE($E$6,"|",B17) -> 5|9 | B17: 9 | C17: SERVIÇOS DIVERSOS | E17: 6 | F17: =IF(E$6<3,0,IF(F$6=0,0,VLOOKUP($A17,'base (2)'!$A:$P,F$6+4,FALSE))) -> 5 | G17: =IF(E$6<3,0,IF(G$6=0,0,VLOOKUP($A17,'base (2)'!$A:$P,G$6+4,FALSE))) -> 25 | H17: =IF(H$6=0,0,VLOOKUP($A17,'base (2)'!$A:$P,H$6+4,FALSE)) -> 25 | I17: =IF(I$6=0,0,VLOOKUP($A17,'base (2)'!$A:$P,I$6+4,FALSE)) -> 25 | J17: =IF(J$6=0,0,VLOOKUP($A17,'base (2)'!$A:$P,J$6+4,FALSE)) -> 20 | K17: =IF(K$6=0,0,VLOOKUP($A17,'base (2)'!$A:$P,K$6+4,FALSE)) -> 0 | L17: =IF(L$6=0,0,VLOOKUP($A17,'base (2)'!$A:$P,L$6+4,FALSE)) -> 0 | M17: =IF(M$6=0,0,VLOOKUP($A17,'base (2)'!$A:$P,M$6+4,FALSE)) -> 0 | N17: =IF(N$6=0,0,VLOOKUP($A17,'base (2)'!$A:$P,N$6+4,FALSE)) -> 0 | O17: =IF(O$6=0,0,VLOOKUP($A17,'base (2)'!$A:$P,O$6+4,FALSE)) -> 0 | ... Q17: =IF(Q$6=0,0,VLOOKUP($A17,'base (2)'!$A:$P,Q$6+4,FALSE)) -> 0 | T17: =IF($S$21=0,0,(S17/$S$21)*100) -> 0 | W17: =SUM(F17:Q17) -> 100
A18: =CONCATENATE($E$6,"|",B18) -> 5|10 | B18: 10 | C18: DRENAGEM | F18: =IF(E$6<3,0,IF(F$6=0,0,VLOOKUP($A18,'base (2)'!$A:$P,F$6+4,FALSE))) -> 25 | G18: =IF(E$6<3,0,IF(G$6=0,0,VLOOKUP($A18,'base (2)'!$A:$P,G$6+4,FALSE))) -> 30 | H18: =IF(H$6=0,0,VLOOKUP($A18,'base (2)'!$A:$P,H$6+4,FALSE)) -> 30 | I18: =IF(I$6=0,0,VLOOKUP($A18,'base (2)'!$A:$P,I$6+4,FALSE)) -> 15 | J18: =IF(J$6=0,0,VLOOKUP($A18,'base (2)'!$A:$P,J$6+4,FALSE)) -> 0 | K18: =IF(K$6=0,0,VLOOKUP($A18,'base (2)'!$A:$P,K$6+4,FALSE)) -> 0 | L18: =IF(L$6=0,0,VLOOKUP($A18,'base (2)'!$A:$P,L$6+4,FALSE)) -> 0 | M18: =IF(M$6=0,0,VLOOKUP($A18,'base (2)'!$A:$P,M$6+4,FALSE)) -> 0 | N18: =IF(N$6=0,0,VLOOKUP($A18,'base (2)'!$A:$P,N$6+4,FALSE)) -> 0 | O18: =IF(O$6=0,0,VLOOKUP($A18,'base (2)'!$A:$P,O$6+4,FALSE)) -> 0 | ... Q18: =IF(Q$6=0,0,VLOOKUP($A18,'base (2)'!$A:$P,Q$6+4,FALSE)) -> 0 | S18: 516785.31 | T18: =IF($S$21=0,0,(S18/$S$21)*100) -> 39.350163 | W18: =SUM(F18:Q18) -> 100
A19: =CONCATENATE($E$6,"|",B19) -> 5|11 | B19: 11 | C19: ENSAIOS TECNOLÓGICOS | F19: =IF(E$6<3,0,IF(F$6=0,0,VLOOKUP($A19,'base (2)'!$A:$P,F$6+4,FALSE))) -> 7 | G19: =IF(E$6<3,0,IF(G$6=0,0,VLOOKUP($A19,'base (2)'!$A:$P,G$6+4,FALSE))) -> 21 | H19: =IF(H$6=0,0,VLOOKUP($A19,'base (2)'!$A:$P,H$6+4,FALSE)) -> 27 | I19: =IF(I$6=0,0,VLOOKUP($A19,'base (2)'!$A:$P,I$6+4,FALSE)) -> 28 | J19: =IF(J$6=0,0,VLOOKUP($A19,'base (2)'!$A:$P,J$6+4,FALSE)) -> 17 | K19: =IF(K$6=0,0,VLOOKUP($A19,'base (2)'!$A:$P,K$6+4,FALSE)) -> 0 | L19: =IF(L$6=0,0,VLOOKUP($A19,'base (2)'!$A:$P,L$6+4,FALSE)) -> 0 | M19: =IF(M$6=0,0,VLOOKUP($A19,'base (2)'!$A:$P,M$6+4,FALSE)) -> 0 | N19: =IF(N$6=0,0,VLOOKUP($A19,'base (2)'!$A:$P,N$6+4,FALSE)) -> 0 | O19: =IF(O$6=0,0,VLOOKUP($A19,'base (2)'!$A:$P,O$6+4,FALSE)) -> 0 | ... Q19: =IF(Q$6=0,0,VLOOKUP($A19,'base (2)'!$A:$P,Q$6+4,FALSE)) -> 0 | S19: 17337.9 | T19: =IF($S$21=0,0,(S19/$S$21)*100) -> 1.3201792 | W19: =SUM(F19:Q19) -> 100
C21: TOTAIS | D21: TOTAIS | S21: =SUM(S9:S20) -> 1313299 | T21: =SUM(T9:T19) -> 100
B22: COMPOSIÇÃO DOS RECURSOS (TESOURO E CONTRAPARTIDA)
B23: ITEM | F23: PARCELAS | R23: Nº DE | S23: TOTAL | T23: % S/
F24: =F6 -> 1 | G24: =G6 -> 2 | H24: =H6 -> 3 | I24: =I6 -> 4 | J24: =J6 -> 5 | K24: =K6 -> 0 | L24: =L6 -> 0 | M24: =M6 -> 0 | ... Q24: =Q6 -> 0 | R24: MESES | S24: ITEM | T24: ITEM
B25: 1T | C25: SERVIÇOS PRELIMINARES | D25: TESOURO | E25: R$ | F25: =((F9/100)*$S$9)*$T$2 -> 3024.5176 | G25: =((G9/100)*$S$9)*$T$2 -> 2268.3882 | H25: =((H9/100)*$S$9)*$T$2 -> 1890.3235 | I25: =((I9/100)*$S$9)*$T$2 -> 378.0647 | J25: =((J9/100)*$S$9)*$T$2 -> 0 | K25: =((K9/100)*$S$9)*$T$2 -> 0 | L25: =((L9/100)*$S$9)*$T$2 -> 0 | M25: =((M9/100)*$S$9)*$T$2 -> 0 | ... Q25: =((Q9/100)*$S$9)*$T$2 -> 0 | R25: =COUNTIF(F25:Q25,">0") -> 4 | S25: =SUM(F25:Q25) -> 7561.294 | T25: =IF($S$51=0,0,(S25/$S$51)) -> 0.0057574809
B26: 1C | D26: CONTRAPARTIDA | E26: R$ | F26: =((F9/100)*$S$9)*T3 -> 3595.6424 | G26: =((G9/100)*$S$9)*$T$3 -> 2696.7318 | H26: =((H9/100)*$S$9)*$T$3 -> 2247.2765 | I26: =((I9/100)*$S$9)*$T$3 -> 449.4553 | J26: =((J9/100)*$S$9)*$T$3 -> 0 | K26: =((K9/100)*$S$9)*$T$3 -> 0 | L26: =((L9/100)*$S$9)*$T$3 -> 0 | M26: =((M9/100)*$S$9)*$T$3 -> 0 | N26: =((N9/100)*$S$9)*$T$3 -> 0 | ... Q26: =((Q9/100)*$S$9)*$T$3 -> 0 | R26: =COUNTIF(F26:Q26,">0") -> 4 | S26: =SUM(F26:Q26) -> 8989.106 | T26: =IF($S$51=0,0,(S26/$S$51)) -> 0.0068446758
B27: 2T | C27: TERRAPLENAGEM | D27: TESOURO | E27: R$ | F27: =((F10/100)*$S$10)*$T$2 -> 2557.4301 | G27: =((G10/100)*$S$10)*$T$2 -> 2557.4301 | H27: =((H10/100)*$S$10)*$T$2 -> 2557.4301 | I27: =((I10/100)*$S$10)*$T$2 -> 852.47669 | J27: =((J10/100)*$S$10)*$T$2 -> 0 | K27: =((K10/100)*$S$10)*$T$2 -> 0 | L27: =((L10/100)*$S$10)*$T$2 -> 0 | M27: =((M10/100)*$S$10)*$T$2 -> 0 | ... Q27: =((Q10/100)*$S$10)*$T$2 -> 0 | R27: =COUNTIF(F27:Q27,">0") -> 4 | S27: =SUM(F27:Q27) -> 8524.7669 | T27: =IF($S$51=0,0,(S27/$S$51)) -> 0.0064911088
B28: 2C | D28: CONTRAPARTIDA | E28: R$ | F28: =((F10/100)*$S$10)*$T$3 -> 3040.3539 | G28: =((G10/100)*$S$10)*$T$3 -> 3040.3539 | H28: =((H10/100)*$S$10)*$T$3 -> 3040.3539 | I28: =((I10/100)*$S$10)*$T$3 -> 1013.4513 | J28: =((J10/100)*$S$10)*$T$3 -> 0 | K28: =((K10/100)*$S$10)*$T$3 -> 0 | L28: =((L10/100)*$S$10)*$T$3 -> 0 | M28: =((M10/100)*$S$10)*$T$3 -> 0 | ... Q28: =((Q10/100)*$S$10)*$T$3 -> 0 | R28: =COUNTIF(F28:Q28,">0") -> 4 | S28: =SUM(F28:Q28) -> 10134.513 | T28: =IF($S$51=0,0,(S28/$S$51)) -> 0.007716836
B29: 3T | C29: BASE / SUB-BASE | D29: TESOURO | E29: R$ | F29: =((F11/100)*$S$11)*$T$2 -> 7885.948 | G29: =((G11/100)*$S$11)*$T$2 -> 23657.844 | H29: =((H11/100)*$S$11)*$T$2 -> 23657.844 | I29: =((I11/100)*$S$11)*$T$2 -> 19714.87 | J29: =((J11/100)*$S$11)*$T$2 -> 3942.974 | K29: =((K11/100)*$S$11)*$T$2 -> 0 | L29: =((L11/100)*$S$11)*$T$2 -> 0 | M29: =((M11/100)*$S$11)*$T$2 -> 0 | ... Q29: =((Q11/100)*$S$11)*$T$2 -> 0 | R29: =COUNTIF(F29:Q29,">0") -> 5 | S29: =SUM(F29:Q29) -> 78859.48 | T29: =IF($S$51=0,0,(S29/$S$51)) -> 0.060046858
B30: 3C | D30: CONTRAPARTIDA | E30: R$ | F30: =((F11/100)*$S$11)*$T$3 -> 9375.065 | G30: =((G11/100)*$S$11)*$T$3 -> 28125.195 | H30: =((H11/100)*$S$11)*$T$3 -> 28125.195 | I30: =((I11/100)*$S$11)*$T$3 -> 23437.662 | J30: =((J11/100)*$S$11)*$T$3 -> 4687.5325 | K30: =((K11/100)*$S$11)*$T$3 -> 0 | L30: =((L11/100)*$S$11)*$T$3 -> 0 | M30: =((M11/100)*$S$11)*$T$3 -> 0 | ... Q30: =((Q11/100)*$S$11)*$T$3 -> 0 | R30: =COUNTIF(F30:Q30,">0") -> 5 | S30: =SUM(F30:Q30) -> 93750.65 | T30: =IF($S$51=0,0,(S30/$S$51)) -> 0.071385609
B31: 4T | C31: REVESTIMENTO | D31: TESOURO | E31: R$ | F31: =((F12/100)*$S$12)*T2 -> 0 | G31: =((G12/100)*$S$12)*$T$2 -> 20528.494 | H31: =((H12/100)*$S$12)*$T$2 -> 41056.988 | I31: =((I12/100)*$S$12)*$T$2 -> 41056.988 | J31: =((J12/100)*$S$12)*$T$2 -> 34214.156 | K31: =((K12/100)*$S$12)*$T$2 -> 0 | L31: =((L12/100)*$S$12)*$T$2 -> 0 | M31: =((M12/100)*$S$12)*$T$2 -> 0 | N31: =((N12/100)*$S$12)*$T$2 -> 0 | ... Q31: =((Q12/100)*$S$12)*$T$2 -> 0 | R31: =COUNTIF(F31:Q31,">0") -> 4 | S31: =SUM(F31:Q31) -> 136856.63 | T31: =IF($S$51=0,0,(S31/$S$51)) -> 0.10420827
B32: 4C | D32: CONTRAPARTIDA | E32: R$ | F32: =((F12/100)*$S$12)*$T$3 -> 0 | G32: =((G12/100)*$S$12)*$T$3 -> 24404.924 | H32: =((H12/100)*$S$12)*$T$3 -> 48809.848 | I32: =((I12/100)*$S$12)*$T$3 -> 48809.848 | J32: =((J12/100)*$S$12)*$T$3 -> 40674.874 | K32: =((K12/100)*$S$12)*$T$3 -> 0 | L32: =((L12/100)*$S$12)*$T$3 -> 0 | M32: =((M12/100)*$S$12)*$T$3 -> 0 | ... Q32: =((Q12/100)*$S$12)*$T$3 -> 0 | R32: =COUNTIF(F32:Q32,">0") -> 4 | S32: =SUM(F32:Q32) -> 162699.49 | T32: =IF($S$51=0,0,(S32/$S$51)) -> 0.1238861
B33: 5T | C33: MEIO-FIO E SARJETA | D33: TESOURO | E33: R$ | F33: =((F13/100)*$S$13)*$T$2 -> 0 | G33: =((G13/100)*$S$13)*$T$2 -> 8864.7839 | H33: =((H13/100)*$S$13)*$T$2 -> 12410.697 | I33: =((I13/100)*$S$13)*$T$2 -> 12410.697 | J33: =((J13/100)*$S$13)*$T$2 -> 1772.9568 | K33: =((K13/100)*$S$13)*$T$2 -> 0 | L33: =((L13/100)*$S$13)*$T$2 -> 0 | M33: =((M13/100)*$S$13)*$T$2 -> 0 | ... Q33: =((Q13/100)*$S$13)*$T$2 -> 0 | R33: =COUNTIF(F33:Q33,">0") -> 4 | S33: =SUM(F33:Q33) -> 35459.136 | T33: =IF($S$51=0,0,(S33/$S$51)) -> 0.027000047
B34: 5C | D34: CONTRAPARTIDA | E34: R$ | F34: =((F13/100)*$S$13)*$T$3 -> 0 | G34: =((G13/100)*$S$13)*$T$3 -> 10538.736 | H34: =((H13/100)*$S$13)*$T$3 -> 14754.231 | I34: =((I13/100)*$S$13)*$T$3 -> 14754.231 | J34: =((J13/100)*$S$13)*$T$3 -> 2107.7472 | K34: =((K13/100)*$S$13)*$T$3 -> 0 | L34: =((L13/100)*$S$13)*$T$3 -> 0 | M34: =((M13/100)*$S$13)*$T$3 -> 0 | ... Q34: =((Q13/100)*$S$13)*$T$3 -> 0 | R34: =COUNTIF(F34:Q34,">0") -> 4 | S34: =SUM(F34:Q34) -> 42154.944 | T34: =IF($S$51=0,0,(S34/$S$51)) -> 0.032098512
B35: 6T | C35: SERVÇOS DE URBANIZAÇÃO | D35: TESOURO | E35: R$ | F35: =((F14/100)*$S$14)*$T$2 -> 0 | G35: =((G14/100)*$S$14)*$T$2 -> 4025.6743 | H35: =((H14/100)*$S$14)*$T$2 -> 32205.394 | I35: =((I14/100)*$S$14)*$T$2 -> 24154.046 | J35: =((J14/100)*$S$14)*$T$2 -> 20128.371 | K35: =((K14/100)*$S$14)*$T$2 -> 0 | L35: =((L14/100)*$S$14)*$T$2 -> 0 | M35: =((M14/100)*$S$14)*$T$2 -> 0 | ... Q35: =((Q14/100)*$S$14)*$T$2 -> 0 | R35: =COUNTIF(F35:Q35,">0") -> 4 | S35: =SUM(F35:Q35) -> 80513.486 | T35: =IF($S$51=0,0,(S35/$S$51)) -> 0.061306286
B36: 6C | D36: CONTRAPARTIDA | E36: R$ | F36: =((F14/100)*$S$14)*$T$3 -> 0 | G36: =((G14/100)*$S$14)*$T$3 -> 4785.8492 | H36: =((H14/100)*$S$14)*$T$3 -> 38286.794 | I36: =((I14/100)*$S$14)*$T$3 -> 28715.095 | J36: =((J14/100)*$S$14)*$T$3 -> 23929.246 | K36: =((K14/100)*$S$14)*$T$3 -> 0 | L36: =((L14/100)*$S$14)*$T$3 -> 0 | M36: =((M14/100)*$S$14)*$T$3 -> 0 | ... Q36: =((Q14/100)*$S$14)*$T$3 -> 0 | R36: =COUNTIF(F36:Q36,">0") -> 4 | S36: =SUM(F36:Q36) -> 95716.984 | T36: =IF($S$51=0,0,(S36/$S$51)) -> 0.072882857
B37: 7T | C37: SINALIZAÇÃO DE TRÂNSITO | D37: TESOURO | E37: R$ | F37: =((F15/100)*$S$15)*$T$2 -> 0 | G37: =((G15/100)*$S$15)*$T$2 -> 820.3157 | H37: =((H15/100)*$S$15)*$T$2 -> 2871.1049 | I37: =((I15/100)*$S$15)*$T$2 -> 2871.1049 | J37: =((J15/100)*$S$15)*$T$2 -> 1640.6314 | K37: =((K15/100)*$S$15)*$T$2 -> 0 | L37: =((L15/100)*$S$15)*$T$2 -> 0 | M37: =((M15/100)*$S$15)*$T$2 -> 0 | ... Q37: =((Q15/100)*$S$15)*$T$2 -> 0 | R37: =COUNTIF(F37:Q37,">0") -> 4 | S37: =SUM(F37:Q37) -> 8203.157 | T37: =IF($S$51=0,0,(S37/$S$51)) -> 0.0062462218
B38: 7C | D38: CONTRAPARTIDA | E38: R$ | F38: =((F15/100)*$S$15)*$T$3 -> 0 | G38: =((G15/100)*$S$15)*$T$3 -> 975.2173 | H38: =((H15/100)*$S$15)*$T$3 -> 3413.2606 | I38: =((I15/100)*$S$15)*$T$3 -> 3413.2606 | J38: =((J15/100)*$S$15)*$T$3 -> 1950.4346 | K38: =((K15/100)*$S$15)*$T$3 -> 0 | L38: =((L15/100)*$S$15)*$T$3 -> 0 | M38: =((M15/100)*$S$15)*$T$3 -> 0 | ... Q38: =((Q15/100)*$S$15)*$T$3 -> 0 | R38: =COUNTIF(F38:Q38,">0") -> 4 | S38: =SUM(F38:Q38) -> 9752.173 | T38: =IF($S$51=0,0,(S38/$S$51)) -> 0.0074257065
B39: 8T | C39: ILUMINAÇÃO PÚBLICA | D39: TESOURO | E39: R$ | F39: =((F16/100)*$S$16)*$T$2 -> 0 | G39: =((G16/100)*$S$16)*$T$2 -> 0 | H39: =((H16/100)*$S$16)*$T$2 -> 0 | I39: =((I16/100)*$S$16)*$T$2 -> 0 | J39: =((J16/100)*$S$16)*$T$2 -> 0 | K39: =((K16/100)*$S$16)*$T$2 -> 0 | L39: =((L16/100)*$S$16)*$T$2 -> 0 | M39: =((M16/100)*$S$16)*$T$2 -> 0 | ... Q39: =((Q16/100)*$S$16)*$T$2 -> 0 | R39: =COUNTIF(F39:Q39,">0") -> 0 | S39: =SUM(F39:Q39) -> 0 | T39: =IF($S$51=0,0,(S39/$S$51)) -> 0
B40: 8C | D40: CONTRAPARTIDA | E40: R$ | F40: =((F16/100)*$S$16)*$T$3 -> 0 | G40: =((G16/100)*$S$16)*$T$3 -> 0 | H40: =((H16/100)*$S$16)*$T$3 -> 0 | I40: =((I16/100)*$S$16)*$T$3 -> 0 | J40: =((J16/100)*$S$16)*$T$3 -> 0 | K40: =((K16/100)*$S$16)*$T$3 -> 0 | L40: =((L16/100)*$S$16)*$T$3 -> 0 | M40: =((M16/100)*$S$16)*$T$3 -> 0 | ... Q40: =((Q16/100)*$S$16)*$T$3 -> 0 | R40: =COUNTIF(F40:Q40,">0") -> 0 | S40: =SUM(F40:Q40) -> 0 | T40: =IF($S$51=0,0,(S40/$S$51)) -> 0
B41: 9T | C41: SERVIÇOS DIVERSOS | D41: TESOURO | E41: R$ | F41: =((F17/100)*$S$17)*$T$2 -> 0 | G41: =((G17/100)*$S$17)*$T$2 -> 0 | H41: =((H17/100)*$S$17)*$T$2 -> 0 | I41: =((I17/100)*$S$17)*$T$2 -> 0 | J41: =((J17/100)*$S$17)*$T$2 -> 0 | K41: =((K17/100)*$S$17)*$T$2 -> 0 | L41: =((L17/100)*$S$17)*$T$2 -> 0 | M41: =((M17/100)*$S$17)*$T$2 -> 0 | ... Q41: =((Q17/100)*$S$17)*$T$2 -> 0 | R41: =COUNTIF(F41:Q41,">0") -> 0 | S41: =SUM(F41:Q41) -> 0 | T41: =IF($S$51=0,0,(S41/$S$51)) -> 0
...

Sheet Cronograma SFM
B1: SFM | C1: SECRETARIA DE ESTADO DO DESENVOLVIMENTO URBANO - SEDU | K1: PAVIMENTAÇÃO
B2: Município: | F2: SAM | H2: Edital no Município | J2: Procedimento prévio | L2: Início previsto da Obra | P2: Empréstimo | T2: =IF(S4=0,0,S2/S4) -> 0
B3: Projeto: | F3: LOTE nº | H3: Data | I3: =TODAY() -> 44616 | J3: Dias | K3: =80-10 -> 70 | L3: Data | M3: =I3+K3+10 -> 44696 | P3: Contrapartida do Proponente | T3: =IF(S3=0,0,1-T2) -> 0
B4: Quantidade: | E4: CRONOGRAMA FÍSICO FINANCEIRO | P4: Valor Total | S4: =SUM(S2:S3) -> 0 | T4: =SUM(T2:T3) -> 0
B5: GRUPO | C5: SERVIÇOS | E5: N | F5: PARCELAS (%) | S5: TOTAL | T5: % S/ | W5: Controle | X5: =IF(S4=S51,"OK","erro") -> OK
B6: ITEM | E6: 6 | F6: =IF(E6=0,0,1) -> 1 | G6: =IF($E$6<2,0,2) -> 2 | H6: =IF($E$6<3,0,3) -> 3 | I6: =IF($E$6<4,0,4) -> 4 | J6: =IF($E$6<5,0,5) -> 5 | K6: =IF($E$6<6,0,6) -> 6 | L6: =IF($E$6<7,0,7) -> 0 | M6: =IF($E$6<8,0,8) -> 0 | N6: =IF($E$6<9,0,9) -> 0 | O6: =IF($E$6<10,0,10) -> 0 | P6: =IF($E$6<11,0,11) -> 0 | Q6: =IF($E$6<12,0,12) -> 0 | S6: ITEM (R$) | T6: TOTAL
C7: Data Início | F7: =IF(E6=0,0,M3) -> 44696 | G7: =IF(G6=0,0,F8+1) -> 44727 | H7: =IF(H6=0,0,G8+1) -> 44758 | I7: =IF(I6=0,0,H8+1) -> 44789 | J7: =IF(J6=0,0,I8+1) -> 44820 | K7: =IF(K6=0,0,J8+1) -> 44851 | L7: =IF(L6=0,0,K8+1) -> 0 | M7: =IF(M6=0,0,L8+1) -> 0 | N7: =IF(N6=0,0,M8+1) -> 0 | ... Q7: =IF(Q6=0,0,P8+1) -> 0
C8: Data Fim | F8: =IF(E6=0,0,F7+30) -> 44726 | G8: =IF(G6=0,0,G7+30) -> 44757 | H8: =IF(H6=0,0,H7+30) -> 44788 | I8: =IF(I6=0,0,I7+30) -> 44819 | J8: =IF(J6=0,0,J7+30) -> 44850 | K8: =IF(K6=0,0,K7+30) -> 44881 | L8: =IF(L6=0,0,L7+30) -> 0 | M8: =IF(M6=0,0,M7+30) -> 0 | N8: =IF(N6=0,0,N7+30) -> 0 | ... Q8: =IF(Q6=0,0,Q7+30) -> 0
A9: =CONCATENATE($E$6,"|",B9) -> 6|1 | B9: 1 | C9: SERVIÇOS PRELIMINARES | E9: 1 | F9: =IF(E$6<3,0,IF(F$6=0,0,VLOOKUP($A9,base!$A:$P,F$6+4,FALSE))) -> 20 | G9: =IF(E$6<3,0,IF(G$6=0,0,VLOOKUP($A9,base!$A:$P,G$6+4,FALSE))) -> 30 | H9: =IF(H$6=0,0,VLOOKUP($A9,base!$A:$P,H$6+4,FALSE)) -> 30 | I9: =IF(I$6=0,0,VLOOKUP($A9,base!$A:$P,I$6+4,FALSE)) -> 20 | J9: =IF(J$6=0,0,VLOOKUP($A9,base!$A:$P,J$6+4,FALSE)) -> 0 | K9: =IF(K$6=0,0,VLOOKUP($A9,base!$A:$P,K$6+4,FALSE)) -> 0 | L9: =IF(L$6=0,0,VLOOKUP($A9,base!$A:$P,L$6+4,FALSE)) -> 0 | M9: =IF(M$6=0,0,VLOOKUP($A9,base!$A:$P,M$6+4,FALSE)) -> 0 | N9: =IF(N$6=0,0,VLOOKUP($A9,base!$A:$P,N$6+4,FALSE)) -> 0 | O9: =IF(O$6=0,0,VLOOKUP($A9,base!$A:$P,O$6+4,FALSE)) -> 0 | ... Q9: =IF(Q$6=0,0,VLOOKUP($A9,base!$A:$P,Q$6+4,FALSE)) -> 0 | T9: =IF($S$21=0,0,(S9/$S$21)*100) -> 0 | W9: =SUM(F9:Q9) -> 100
A10: =CONCATENATE($E$6,"|",B10) -> 6|2 | B10: 2 | C10: TERRAPLENAGEM | E10: 2 | F10: =IF(E$6<3,0,IF(F$6=0,0,VLOOKUP($A10,base!$A:$P,F$6+4,FALSE))) -> 15 | G10: =IF(E$6<3,0,IF(G$6=0,0,VLOOKUP($A10,base!$A:$P,G$6+4,FALSE))) -> 25 | H10: =IF(H$6=0,0,VLOOKUP($A10,base!$A:$P,H$6+4,FALSE)) -> 30 | I10: =IF(I$6=0,0,VLOOKUP($A10,base!$A:$P,I$6+4,FALSE)) -> 25 | J10: =IF(J$6=0,0,VLOOKUP($A10,base!$A:$P,J$6+4,FALSE)) -> 5 | K10: =IF(K$6=0,0,VLOOKUP($A10,base!$A:$P,K$6+4,FALSE)) -> 0 | L10: =IF(L$6=0,0,VLOOKUP($A10,base!$A:$P,L$6+4,FALSE)) -> 0 | M10: =IF(M$6=0,0,VLOOKUP($A10,base!$A:$P,M$6+4,FALSE)) -> 0 | N10: =IF(N$6=0,0,VLOOKUP($A10,base!$A:$P,N$6+4,FALSE)) -> 0 | O10: =IF(O$6=0,0,VLOOKUP($A10,base!$A:$P,O$6+4,FALSE)) -> 0 | ... Q10: =IF(Q$6=0,0,VLOOKUP($A10,base!$A:$P,Q$6+4,FALSE)) -> 0 | T10: =IF($S$21=0,0,(S10/$S$21)*100) -> 0 | W10: =SUM(F10:Q10) -> 100
A11: =CONCATENATE($E$6,"|",B11) -> 6|3 | B11: 3 | C11: BASE / SUB-BASE | E11: 3 | F11: =IF(E$6<3,0,IF(F$6=0,0,VLOOKUP($A11,base!$A:$P,F$6+4,FALSE))) -> 5 | G11: =IF(E$6<3,0,IF(G$6=0,0,VLOOKUP($A11,base!$A:$P,G$6+4,FALSE))) -> 20 | H11: =IF(H$6=0,0,VLOOKUP($A11,base!$A:$P,H$6+4,FALSE)) -> 30 | I11: =IF(I$6=0,0,VLOOKUP($A11,base!$A:$P,I$6+4,FALSE)) -> 25 | J11: =IF(J$6=0,0,VLOOKUP($A11,base!$A:$P,J$6+4,FALSE)) -> 20 | K11: =IF(K$6=0,0,VLOOKUP($A11,base!$A:$P,K$6+4,FALSE)) -> 0 | L11: =IF(L$6=0,0,VLOOKUP($A11,base!$A:$P,L$6+4,FALSE)) -> 0 | M11: =IF(M$6=0,0,VLOOKUP($A11,base!$A:$P,M$6+4,FALSE)) -> 0 | N11: =IF(N$6=0,0,VLOOKUP($A11,base!$A:$P,N$6+4,FALSE)) -> 0 | O11: =IF(O$6=0,0,VLOOKUP($A11,base!$A:$P,O$6+4,FALSE)) -> 0 | ... Q11: =IF(Q$6=0,0,VLOOKUP($A11,base!$A:$P,Q$6+4,FALSE)) -> 0 | T11: =IF($S$21=0,0,(S11/$S$21)*100) -> 0 | W11: =SUM(F11:Q11) -> 100
A12: =CONCATENATE($E$6,"|",B12) -> 6|4 | B12: 4 | C12: REVESTIMENTO | E12: 4 | F12: =IF(E$6<3,0,IF(F$6=0,0,VLOOKUP($A12,base!$A:$P,F$6+4,FALSE))) -> 0 | G12: =IF(E$6<3,0,IF(G$6=0,0,VLOOKUP($A12,base!$A:$P,G$6+4,FALSE))) -> 5 | H12: =IF(H$6=0,0,VLOOKUP($A12,base!$A:$P,H$6+4,FALSE)) -> 20 | I12: =IF(I$6=0,0,VLOOKUP($A12,base!$A:$P,I$6+4,FALSE)) -> 30 | J12: =IF(J$6=0,0,VLOOKUP($A12,base!$A:$P,J$6+4,FALSE)) -> 25 | K12: =IF(K$6=0,0,VLOOKUP($A12,base!$A:$P,K$6+4,FALSE)) -> 20 | L12: =IF(L$6=0,0,VLOOKUP($A12,base!$A:$P,L$6+4,FALSE)) -> 0 | M12: =IF(M$6=0,0,VLOOKUP($A12,base!$A:$P,M$6+4,FALSE)) -> 0 | N12: =IF(N$6=0,0,VLOOKUP($A12,base!$A:$P,N$6+4,FALSE)) -> 0 | O12: =IF(O$6=0,0,VLOOKUP($A12,base!$A:$P,O$6+4,FALSE)) -> 0 | ... Q12: =IF(Q$6=0,0,VLOOKUP($A12,base!$A:$P,Q$6+4,FALSE)) -> 0 | T12: =IF($S$21=0,0,(S12/$S$21)*100) -> 0 | W12: =SUM(F12:Q12) -> 100
A13: =CONCATENATE($E$6,"|",B13) -> 6|5 | B13: 5 | C13: MEIO-FIO E SARJETA | E13: 5 | F13: =IF(E$6<3,0,IF(F$6=0,0,VLOOKUP($A13,base!$A:$P,F$6+4,FALSE))) -> 0 | G13: =IF(E$6<3,0,IF(G$6=0,0,VLOOKUP($A13,base!$A:$P,G$6+4,FALSE))) -> 15 | H13: =IF(H$6=0,0,VLOOKUP($A13,base!$A:$P,H$6+4,FALSE)) -> 30 | I13: =IF(I$6=0,0,VLOOKUP($A13,base!$A:$P,I$6+4,FALSE)) -> 30 | J13: =IF(J$6=0,0,VLOOKUP($A13,base!$A:$P,J$6+4,FALSE)) -> 25 | K13: =IF(K$6=0,0,VLOOKUP($A13,base!$A:$P,K$6+4,FALSE)) -> 0 | L13: =IF(L$6=0,0,VLOOKUP($A13,base!$A:$P,L$6+4,FALSE)) -> 0 | M13: =IF(M$6=0,0,VLOOKUP($A13,base!$A:$P,M$6+4,FALSE)) -> 0 | N13: =IF(N$6=0,0,VLOOKUP($A13,base!$A:$P,N$6+4,FALSE)) -> 0 | O13: =IF(O$6=0,0,VLOOKUP($A13,base!$A:$P,O$6+4,FALSE)) -> 0 | ... Q13: =IF(Q$6=0,0,VLOOKUP($A13,base!$A:$P,Q$6+4,FALSE)) -> 0 | T13: =IF($S$21=0,0,(S13/$S$21)*100) -> 0 | W13: =SUM(F13:Q13) -> 100
A14: =CONCATENATE($E$6,"|",B14) -> 6|6 | B14: 6 | C14: SERVIÇOS DE URBANIZAÇÃO | E14: 3 | F14: =IF(E$6<3,0,IF(F$6=0,0,VLOOKUP($A14,base!$A:$P,F$6+4,FALSE))) -> 0 | G14: =IF(E$6<3,0,IF(G$6=0,0,VLOOKUP($A14,base!$A:$P,G$6+4,FALSE))) -> 5 | H14: =IF(H$6=0,0,VLOOKUP($A14,base!$A:$P,H$6+4,FALSE)) -> 10 | I14: =IF(I$6=0,0,VLOOKUP($A14,base!$A:$P,I$6+4,FALSE)) -> 30 | J14: =IF(J$6=0,0,VLOOKUP($A14,base!$A:$P,J$6+4,FALSE)) -> 30 | K14: =IF(K$6=0,0,VLOOKUP($A14,base!$A:$P,K$6+4,FALSE)) -> 25 | L14: =IF(L$6=0,0,VLOOKUP($A14,base!$A:$P,L$6+4,FALSE)) -> 0 | M14: =IF(M$6=0,0,VLOOKUP($A14,base!$A:$P,M$6+4,FALSE)) -> 0 | N14: =IF(N$6=0,0,VLOOKUP($A14,base!$A:$P,N$6+4,FALSE)) -> 0 | O14: =IF(O$6=0,0,VLOOKUP($A14,base!$A:$P,O$6+4,FALSE)) -> 0 | ... Q14: =IF(Q$6=0,0,VLOOKUP($A14,base!$A:$P,Q$6+4,FALSE)) -> 0 | T14: =IF($S$21=0,0,(S14/$S$21)*100) -> 0 | W14: =SUM(F14:Q14) -> 100
A15: =CONCATENATE($E$6,"|",B15) -> 6|7 | B15: 7 | C15: SINALIZAÇÃO DE TRÂNSITO | E15: 5 | F15: =IF(E$6<3,0,IF(F$6=0,0,VLOOKUP($A15,base!$A:$P,F$6+4,FALSE))) -> 0 | G15: =IF(E$6<3,0,IF(G$6=0,0,VLOOKUP($A15,base!$A:$P,G$6+4,FALSE))) -> 0 | H15: =IF(H$6=0,0,VLOOKUP($A15,base!$A:$P,H$6+4,FALSE)) -> 20 | I15: =IF(I$6=0,0,VLOOKUP($A15,base!$A:$P,I$6+4,FALSE)) -> 20 | J15: =IF(J$6=0,0,VLOOKUP($A15,base!$A:$P,J$6+4,FALSE)) -> 30 | K15: =IF(K$6=0,0,VLOOKUP($A15,base!$A:$P,K$6+4,FALSE)) -> 30 | L15: =IF(L$6=0,0,VLOOKUP($A15,base!$A:$P,L$6+4,FALSE)) -> 0 | M15: =IF(M$6=0,0,VLOOKUP($A15,base!$A:$P,M$6+4,FALSE)) -> 0 | N15: =IF(N$6=0,0,VLOOKUP($A15,base!$A:$P,N$6+4,FALSE)) -> 0 | O15: =IF(O$6=0,0,VLOOKUP($A15,base!$A:$P,O$6+4,FALSE)) -> 0 | ... Q15: =IF(Q$6=0,0,VLOOKUP($A15,base!$A:$P,Q$6+4,FALSE)) -> 0 | T15: =IF($S$21=0,0,(S15/$S$21)*100) -> 0 | W15: =SUM(F15:Q15) -> 100
A16: =CONCATENATE($E$6,"|",B16) -> 6|8 | B16: 8 | C16: ILUMINAÇÃO PÚBLICA | E16: 6 | F16: =IF(E$6<3,0,IF(F$6=0,0,VLOOKUP($A16,base!$A:$P,F$6+4,FALSE))) -> 0 | G16: =IF(E$6<3,0,IF(G$6=0,0,VLOOKUP($A16,base!$A:$P,G$6+4,FALSE))) -> 0 | H16: =IF(H$6=0,0,VLOOKUP($A16,base!$A:$P,H$6+4,FALSE)) -> 20 | I16: =IF(I$6=0,0,VLOOKUP($A16,base!$A:$P,I$6+4,FALSE)) -> 30 | J16: =IF(J$6=0,0,VLOOKUP($A16,base!$A:$P,J$6+4,FALSE)) -> 30 | K16: =IF(K$6=0,0,VLOOKUP($A16,base!$A:$P,K$6+4,FALSE)) -> 20 | L16: =IF(L$6=0,0,VLOOKUP($A16,base!$A:$P,L$6+4,FALSE)) -> 0 | M16: =IF(M$6=0,0,VLOOKUP($A16,base!$A:$P,M$6+4,FALSE)) -> 0 | N16: =IF(N$6=0,0,VLOOKUP($A16,base!$A:$P,N$6+4,FALSE)) -> 0 | O16: =IF(O$6=0,0,VLOOKUP($A16,base!$A:$P,O$6+4,FALSE)) -> 0 | ... Q16: =IF(Q$6=0,0,VLOOKUP($A16,base!$A:$P,Q$6+4,FALSE)) -> 0 | T16: =IF($S$21=0,0,(S16/$S$21)*100) -> 0 | W16: =SUM(F16:Q16) -> 100
A17: =CONCATENATE($E$6,"|",B17) -> 6|9 | B17: 9 | C17: SERVIÇOS DIVERSOS | E17: 6 | F17: =IF(E$6<3,0,IF(F$6=0,0,VLOOKUP($A17,base!$A:$P,F$6+4,FALSE))) -> 5 | G17: =IF(E$6<3,0,IF(G$6=0,0,VLOOKUP($A17,base!$A:$P,G$6+4,FALSE))) -> 15 | H17: =IF(H$6=0,0,VLOOKUP($A17,base!$A:$P,H$6+4,FALSE)) -> 25 | I17: =IF(I$6=0,0,VLOOKUP($A17,base!$A:$P,I$6+4,FALSE)) -> 25 | J17: =IF(J$6=0,0,VLOOKUP($A17,base!$A:$P,J$6+4,FALSE)) -> 20 | K17: =IF(K$6=0,0,VLOOKUP($A17,base!$A:$P,K$6+4,FALSE)) -> 10 | L17: =IF(L$6=0,0,VLOOKUP($A17,base!$A:$P,L$6+4,FALSE)) -> 0 | M17: =IF(M$6=0,0,VLOOKUP($A17,base!$A:$P,M$6+4,FALSE)) -> 0 | N17: =IF(N$6=0,0,VLOOKUP($A17,base!$A:$P,N$6+4,FALSE)) -> 0 | O17: =IF(O$6=0,0,VLOOKUP($A17,base!$A:$P,O$6+4,FALSE)) -> 0 | ... Q17: =IF(Q$6=0,0,VLOOKUP($A17,base!$A:$P,Q$6+4,FALSE)) -> 0 | T17: =IF($S$21=0,0,(S17/$S$21)*100) -> 0 | W17: =SUM(F17:Q17) -> 100
A18: =CONCATENATE($E$6,"|",B18) -> 6|10 | B18: 10 | C18: DRENAGEM | F18: =IF(E$6<3,0,IF(F$6=0,0,VLOOKUP($A18,base!$A:$P,F$6+4,FALSE))) -> 20 | G18: =IF(E$6<3,0,IF(G$6=0,0,VLOOKUP($A18,base!$A:$P,G$6+4,FALSE))) -> 30 | H18: =IF(H$6=0,0,VLOOKUP($A18,base!$A:$P,H$6+4,FALSE)) -> 30 | I18: =IF(I$6=0,0,VLOOKUP($A18,base!$A:$P,I$6+4,FALSE)) -> 15 | J18: =IF(J$6=0,0,VLOOKUP($A18,base!$A:$P,J$6+4,FALSE)) -> 5 | K18: =IF(K$6=0,0,VLOOKUP($A18,base!$A:$P,K$6+4,FALSE)) -> 0 | L18: =IF(L$6=0,0,VLOOKUP($A18,base!$A:$P,L$6+4,FALSE)) -> 0 | M18: =IF(M$6=0,0,VLOOKUP($A18,base!$A:$P,M$6+4,FALSE)) -> 0 | N18: =IF(N$6=0,0,VLOOKUP($A18,base!$A:$P,N$6+4,FALSE)) -> 0 | O18: =IF(O$6=0,0,VLOOKUP($A18,base!$A:$P,O$6+4,FALSE)) -> 0 | ... Q18: =IF(Q$6=0,0,VLOOKUP($A18,base!$A:$P,Q$6+4,FALSE)) -> 0 | T18: =IF($S$21=0,0,(S18/$S$21)*100) -> 0 | W18: =SUM(F18:Q18) -> 100
A19: =CONCATENATE($E$6,"|",B19) -> 6|11 | B19: 11 | C19: ENSAIOS TECNOLÓGICOS | F19: =IF(E$6<3,0,IF(F$6=0,0,VLOOKUP($A19,base!$A:$P,F$6+4,FALSE))) -> 3 | G19: =IF(E$6<3,0,IF(G$6=0,0,VLOOKUP($A19,base!$A:$P,G$6+4,FALSE))) -> 12 | H19: =IF(H$6=0,0,VLOOKUP($A19,base!$A:$P,H$6+4,FALSE)) -> 25 | I19: =IF(I$6=0,0,VLOOKUP($A19,base!$A:$P,I$6+4,FALSE)) -> 28 | J19: =IF(J$6=0,0,VLOOKUP($A19,base!$A:$P,J$6+4,FALSE)) -> 21 | K19: =IF(K$6=0,0,VLOOKUP($A19,base!$A:$P,K$6+4,FALSE)) -> 11 | L19: =IF(L$6=0,0,VLOOKUP($A19,base!$A:$P,L$6+4,FALSE)) -> 0 | M19: =IF(M$6=0,0,VLOOKUP($A19,base!$A:$P,M$6+4,FALSE)) -> 0 | N19: =IF(N$6=0,0,VLOOKUP($A19,base!$A:$P,N$6+4,FALSE)) -> 0 | O19: =IF(O$6=0,0,VLOOKUP($A19,base!$A:$P,O$6+4,FALSE)) -> 0 | ... Q19: =IF(Q$6=0,0,VLOOKUP($A19,base!$A:$P,Q$6+4,FALSE)) -> 0 | T19: =IF($S$21=0,0,(S19/$S$21)*100) -> 0 | W19: =SUM(F19:Q19) -> 100
C21: TOTAIS | D21: TOTAIS | S21: =SUM(S9:S20) -> 0 | T21: =SUM(T9:T19) -> 0
B22: COMPOSIÇÃO DOS RECURSOS (FINANCIAMENTO E CONTRAPARTIDA)
B23: ITEM | F23: PARCELAS | R23: Nº DE | S23: TOTAL | T23: % S/
F24: =F6 -> 1 | G24: =G6 -> 2 | H24: =H6 -> 3 | I24: =I6 -> 4 | J24: =J6 -> 5 | K24: =K6 -> 6 | L24: =L6 -> 0 | M24: =M6 -> 0 | ... Q24: =Q6 -> 0 | R24: MESES | S24: ITEM | T24: ITEM
B25: 1T | C25: SERVIÇOS PRELIMINARES | D25: FINANCIAMENTO | E25: R$ | F25: =((F9/100)*$S$9)*$T$2 -> 0 | G25: =((G9/100)*$S$9)*$T$2 -> 0 | H25: =((H9/100)*$S$9)*$T$2 -> 0 | I25: =((I9/100)*$S$9)*$T$2 -> 0 | J25: =((J9/100)*$S$9)*$T$2 -> 0 | K25: =((K9/100)*$S$9)*$T$2 -> 0 | L25: =((L9/100)*$S$9)*$T$2 -> 0 | M25: =((M9/100)*$S$9)*$T$2 -> 0 | ... Q25: =((Q9/100)*$S$9)*$T$2 -> 0 | R25: =COUNTIF(F25:Q25,">0") -> 0 | S25: =SUM(F25:Q25) -> 0 | T25: =IF($S$51=0,0,(S25/$S$51)) -> 0
B26: 1C | D26: CONTRAPARTIDA | E26: R$ | F26: =((F9/100)*$S$9)*T3 -> 0 | G26: =((G9/100)*$S$9)*$T$3 -> 0 | H26: =((H9/100)*$S$9)*$T$3 -> 0 | I26: =((I9/100)*$S$9)*$T$3 -> 0 | J26: =((J9/100)*$S$9)*$T$3 -> 0 | K26: =((K9/100)*$S$9)*$T$3 -> 0 | L26: =((L9/100)*$S$9)*$T$3 -> 0 | M26: =((M9/100)*$S$9)*$T$3 -> 0 | N26: =((N9/100)*$S$9)*$T$3 -> 0 | ... Q26: =((Q9/100)*$S$9)*$T$3 -> 0 | R26: =COUNTIF(F26:Q26,">0") -> 0 | S26: =SUM(F26:Q26) -> 0 | T26: =IF($S$51=0,0,(S26/$S$51)) -> 0
B27: 2T | C27: TERRAPLENAGEM | D27: FINANCIAMENTO | E27: R$ | F27: =((F10/100)*$S$10)*$T$2 -> 0 | G27: =((G10/100)*$S$10)*$T$2 -> 0 | H27: =((H10/100)*$S$10)*$T$2 -> 0 | I27: =((I10/100)*$S$10)*$T$2 -> 0 | J27: =((J10/100)*$S$10)*$T$2 -> 0 | K27: =((K10/100)*$S$10)*$T$2 -> 0 | L27: =((L10/100)*$S$10)*$T$2 -> 0 | M27: =((M10/100)*$S$10)*$T$2 -> 0 | ... Q27: =((Q10/100)*$S$10)*$T$2 -> 0 | R27: =COUNTIF(F27:Q27,">0") -> 0 | S27: =SUM(F27:Q27) -> 0 | T27: =IF($S$51=0,0,(S27/$S$51)) -> 0
B28: 2C | D28: CONTRAPARTIDA | E28: R$ | F28: =((F10/100)*$S$10)*$T$3 -> 0 | G28: =((G10/100)*$S$10)*$T$3 -> 0 | H28: =((H10/100)*$S$10)*$T$3 -> 0 | I28: =((I10/100)*$S$10)*$T$3 -> 0 | J28: =((J10/100)*$S$10)*$T$3 -> 0 | K28: =((K10/100)*$S$10)*$T$3 -> 0 | L28: =((L10/100)*$S$10)*$T$3 -> 0 | M28: =((M10/100)*$S$10)*$T$3 -> 0 | ... Q28: =((Q10/100)*$S$10)*$T$3 -> 0 | R28: =COUNTIF(F28:Q28,">0") -> 0 | S28: =SUM(F28:Q28) -> 0 | T28: =IF($S$51=0,0,(S28/$S$51)) -> 0
B29: 3T | C29: BASE / SUB-BASE | D29: FINANCIAMENTO | E29: R$ | F29: =((F11/100)*$S$11)*$T$2 -> 0 | G29: =((G11/100)*$S$11)*$T$2 -> 0 | H29: =((H11/100)*$S$11)*$T$2 -> 0 | I29: =((I11/100)*$S$11)*$T$2 -> 0 | J29: =((J11/100)*$S$11)*$T$2 -> 0 | K29: =((K11/100)*$S$11)*$T$2 -> 0 | L29: =((L11/100)*$S$11)*$T$2 -> 0 | M29: =((M11/100)*$S$11)*$T$2 -> 0 | ... Q29: =((Q11/100)*$S$11)*$T$2 -> 0 | R29: =COUNTIF(F29:Q29,">0") -> 0 | S29: =SUM(F29:Q29) -> 0 | T29: =IF($S$51=0,0,(S29/$S$51)) -> 0
B30: 3C | D30: CONTRAPARTIDA | E30: R$ | F30: =((F11/100)*$S$11)*$T$3 -> 0 | G30: =((G11/100)*$S$11)*$T$3 -> 0 | H30: =((H11/100)*$S$11)*$T$3 -> 0 | I30: =((I11/100)*$S$11)*$T$3 -> 0 | J30: =((J11/100)*$S$11)*$T$3 -> 0 | K30: =((K11/100)*$S$11)*$T$3 -> 0 | L30: =((L11/100)*$S$11)*$T$3 -> 0 | M30: =((M11/100)*$S$11)*$T$3 -> 0 | ... Q30: =((Q11/100)*$S$11)*$T$3 -> 0 | R30: =COUNTIF(F30:Q30,">0") -> 0 | S30: =SUM(F30:Q30) -> 0 | T30: =IF($S$51=0,0,(S30/$S$51)) -> 0
B31: 4T | C31: REVESTIMENTO | D31: FINANCIAMENTO | E31: R$ | F31: =((F12/100)*$S$12)*T2 -> 0 | G31: =((G12/100)*$S$12)*$T$2 -> 0 | H31: =((H12/100)*$S$12)*$T$2 -> 0 | I31: =((I12/100)*$S$12)*$T$2 -> 0 | J31: =((J12/100)*$S$12)*$T$2 -> 0 | K31: =((K12/100)*$S$12)*$T$2 -> 0 | L31: =((L12/100)*$S$12)*$T$2 -> 0 | M31: =((M12/100)*$S$12)*$T$2 -> 0 | N31: =((N12/100)*$S$12)*$T$2 -> 0 | ... Q31: =((Q12/100)*$S$12)*$T$2 -> 0 | R31: =COUNTIF(F31:Q31,">0") -> 0 | S31: =SUM(F31:Q31) -> 0 | T31: =IF($S$51=0,0,(S31/$S$51)) -> 0
B32: 4C | D32: CONTRAPARTIDA | E32: R$ | F32: =((F12/100)*$S$12)*$T$3 -> 0 | G32: =((G12/100)*$S$12)*$T$3 -> 0 | H32: =((H12/100)*$S$12)*$T$3 -> 0 | I32: =((I12/100)*$S$12)*$T$3 -> 0 | J32: =((J12/100)*$S$12)*$T$3 -> 0 | K32: =((K12/100)*$S$12)*$T$3 -> 0 | L32: =((L12/100)*$S$12)*$T$3 -> 0 | M32: =((M12/100)*$S$12)*$T$3 -> 0 | ... Q32: =((Q12/100)*$S$12)*$T$3 -> 0 | R32: =COUNTIF(F32:Q32,">0") -> 0 | S32: =SUM(F32:Q32) -> 0 | T32: =IF($S$51=0,0,(S32/$S$51)) -> 0
B33: 5T | C33: MEIO-FIO E SARJETA | D33: FINANCIAMENTO | E33: R$ | F33: =((F13/100)*$S$13)*$T$2 -> 0 | G33: =((G13/100)*$S$13)*$T$2 -> 0 | H33: =((H13/100)*$S$13)*$T$2 -> 0 | I33: =((I13/100)*$S$13)*$T$2 -> 0 | J33: =((J13/100)*$S$13)*$T$2 -> 0 | K33: =((K13/100)*$S$13)*$T$2 -> 0 | L33: =((L13/100)*$S$13)*$T$2 -> 0 | M33: =((M13/100)*$S$13)*$T$2 -> 0 | ... Q33: =((Q13/100)*$S$13)*$T$2 -> 0 | R33: =COUNTIF(F33:Q33,">0") -> 0 | S33: =SUM(F33:Q33) -> 0 | T33: =IF($S$51=0,0,(S33/$S$51)) -> 0
B34: 5C | D34: CONTRAPARTIDA | E34: R$ | F34: =((F13/100)*$S$13)*$T$3 -> 0 | G34: =((G13/100)*$S$13)*$T$3 -> 0 | H34: =((H13/100)*$S$13)*$T$3 -> 0 | I34: =((I13/100)*$S$13)*$T$3 -> 0 | J34: =((J13/100)*$S$13)*$T$3 -> 0 | K34: =((K13/100)*$S$13)*$T$3 -> 0 | L34: =((L13/100)*$S$13)*$T$3 -> 0 | M34: =((M13/100)*$S$13)*$T$3 -> 0 | ... Q34: =((Q13/100)*$S$13)*$T$3 -> 0 | R34: =COUNTIF(F34:Q34,">0") -> 0 | S34: =SUM(F34:Q34) -> 0 | T34: =IF($S$51=0,0,(S34/$S$51)) -> 0
B35: 6T | C35: SERVIÇOS DE URBANIZAÇÃO | D35: FINANCIAMENTO | E35: R$ | F35: =((F14/100)*$S$14)*$T$2 -> 0 | G35: =((G14/100)*$S$14)*$T$2 -> 0 | H35: =((H14/100)*$S$14)*$T$2 -> 0 | I35: =((I14/100)*$S$14)*$T$2 -> 0 | J35: =((J14/100)*$S$14)*$T$2 -> 0 | K35: =((K14/100)*$S$14)*$T$2 -> 0 | L35: =((L14/100)*$S$14)*$T$2 -> 0 | M35: =((M14/100)*$S$14)*$T$2 -> 0 | ... Q35: =((Q14/100)*$S$14)*$T$2 -> 0 | R35: =COUNTIF(F35:Q35,">0") -> 0 | S35: =SUM(F35:Q35) -> 0 | T35: =IF($S$51=0,0,(S35/$S$51)) -> 0
B36: 6C | D36: CONTRAPARTIDA | E36: R$ | F36: =((F14/100)*$S$14)*$T$3 -> 0 | G36: =((G14/100)*$S$14)*$T$3 -> 0 | H36: =((H14/100)*$S$14)*$T$3 -> 0 | I36: =((I14/100)*$S$14)*$T$3 -> 0 | J36: =((J14/100)*$S$14)*$T$3 -> 0 | K36: =((K14/100)*$S$14)*$T$3 -> 0 | L36: =((L14/100)*$S$14)*$T$3 -> 0 | M36: =((M14/100)*$S$14)*$T$3 -> 0 | ... Q36: =((Q14/100)*$S$14)*$T$3 -> 0 | R36: =COUNTIF(F36:Q36,">0") -> 0 | S36: =SUM(F36:Q36) -> 0 | T36: =IF($S$51=0,0,(S36/$S$51)) -> 0
B37: 7T | C37: SINALIZAÇÃO DE TRÂNSITO | D37: FINANCIAMENTO | E37: R$ | F37: =((F15/100)*$S$15)*$T$2 -> 0 | G37: =((G15/100)*$S$15)*$T$2 -> 0 | H37: =((H15/100)*$S$15)*$T$2 -> 0 | I37: =((I15/100)*$S$15)*$T$2 -> 0 | J37: =((J15/100)*$S$15)*$T$2 -> 0 | K37: =((K15/100)*$S$15)*$T$2 -> 0 | L37: =((L15/100)*$S$15)*$T$2 -> 0 | M37: =((M15/100)*$S$15)*$T$2 -> 0 | ... Q37: =((Q15/100)*$S$15)*$T$2 -> 0 | R37: =COUNTIF(F37:Q37,">0") -> 0 | S37: =SUM(F37:Q37) -> 0 | T37: =IF($S$51=0,0,(S37/$S$51)) -> 0
B38: 7C | D38: CONTRAPARTIDA | E38: R$ | F38: =((F15/100)*$S$15)*$T$3 -> 0 | G38: =((G15/100)*$S$15)*$T$3 -> 0 | H38: =((H15/100)*$S$15)*$T$3 -> 0 | I38: =((I15/100)*$S$15)*$T$3 -> 0 | J38: =((J15/100)*$S$15)*$T$3 -> 0 | K38: =((K15/100)*$S$15)*$T$3 -> 0 | L38: =((L15/100)*$S$15)*$T$3 -> 0 | M38: =((M15/100)*$S$15)*$T$3 -> 0 | ... Q38: =((Q15/100)*$S$15)*$T$3 -> 0 | R38: =COUNTIF(F38:Q38,">0") -> 0 | S38: =SUM(F38:Q38) -> 0 | T38: =IF($S$51=0,0,(S38/$S$51)) -> 0
B39: 8T | C39: ILUMINAÇÃO PÚBLICA | D39: FINANCIAMENTO | E39: R$ | F39: =((F16/100)*$S$16)*$T$2 -> 0 | G39: =((G16/100)*$S$16)*$T$2 -> 0 | H39: =((H16/100)*$S$16)*$T$2 -> 0 | I39: =((I16/100)*$S$16)*$T$2 -> 0 | J39: =((J16/100)*$S$16)*$T$2 -> 0 | K39: =((K16/100)*$S$16)*$T$2 -> 0 | L39: =((L16/100)*$S$16)*$T$2 -> 0 | M39: =((M16/100)*$S$16)*$T$2 -> 0 | ... Q39: =((Q16/100)*$S$16)*$T$2 -> 0 | R39: =COUNTIF(F39:Q39,">0") -> 0 | S39: =SUM(F39:Q39) -> 0 | T39: =IF($S$51=0,0,(S39/$S$51)) -> 0
B40: 8C | D40: CONTRAPARTIDA | E40: R$ | F40: =((F16/100)*$S$16)*$T$3 -> 0 | G40: =((G16/100)*$S$16)*$T$3 -> 0 | H40: =((H16/100)*$S$16)*$T$3 -> 0 | I40: =((I16/100)*$S$16)*$T$3 -> 0 | J40: =((J16/100)*$S$16)*$T$3 -> 0 | K40: =((K16/100)*$S$16)*$T$3 -> 0 | L40: =((L16/100)*$S$16)*$T$3 -> 0 | M40: =((M16/100)*$S$16)*$T$3 -> 0 | ... Q40: =((Q16/100)*$S$16)*$T$3 -> 0 | R40: =COUNTIF(F40:Q40,">0") -> 0 | S40: =SUM(F40:Q40) -> 0 | T40: =IF($S$51=0,0,(S40/$S$51)) -> 0
B41: 9T | C41: SERVIÇOS DIVERSOS | D41: FINANCIAMENTO | E41: R$ | F41: =((F17/100)*$S$17)*$T$2 -> 0 | G41: =((G17/100)*$S$17)*$T$2 -> 0 | H41: =((H17/100)*$S$17)*$T$2 -> 0 | I41: =((I17/100)*$S$17)*$T$2 -> 0 | J41: =((J17/100)*$S$17)*$T$2 -> 0 | K41: =((K17/100)*$S$17)*$T$2 -> 0 | L41: =((L17/100)*$S$17)*$T$2 -> 0 | M41: =((M17/100)*$S$17)*$T$2 -> 0 | ... Q41: =((Q17/100)*$S$17)*$T$2 -> 0 | R41: =COUNTIF(F41:Q41,">0") -> 0 | S41: =SUM(F41:Q41) -> 0 | T41: =IF($S$51=0,0,(S41/$S$51)) -> 0
...

Sheet orc DER JAN 2021
A1: PLANILHA DE SERVIÇOS - PAVIMENTAÇÃO
A2: Município: | C2: PIÊN | G2: SAM | H2: 70
A3: Projeto: | C3: PAVIMENTAÇÃO DE VIA URBANA | G3: LOTE nº | H3: 1
A4: Local da Obra: | C4: AVENIDA CAIOBÁ - DISTRITO DE TRIGOLÂNDIA
A5: Código | B5: Origem | C5: DESCRIÇÃO DOS SERVIÇOS | D5: UD | E5: ORÇAMENTO APROVADO
E6: QUANT | F6: UNIT | G6: ( R$ ) - PM | H6: ( R$ ) - PM TOTAIS
A7: 1 | C7: SERVIÇOS PRELIMINARES | H7: =SUM(G8:G12) -> 16550.4
A8: 606700A | B8: DER | C8: Demolição de Concreto Símples | D8: m3 | E8: 7.35536 | F8: 150.74 | G8: =IF(ISBLANK(E8),0,ROUND(E8*F8,2)) -> 1108.75
A9: 512050 | B9: DER | C9: Demolição Mecânica de Pavimento e Transporte | D9: m3 | E9: 128.82 | F9: 48.32 | G9: =IF(ISBLANK(E9),0,ROUND(E9*F9,2)) -> 6224.58
A10: COMPOSIÇÃO1 | B10: Orçacivil | C10: PLACA DE OBRA TIPO BANNER, 4,00 X 2,00 M, EM QUADRO DE METALON 20 X 20 MM E LONA 360 G, COM IMPRESSÃO DIGITAL, FIXADA EM ESTRUTURA DE MADEIRA. | D10: un | E10: 1 | F10: 2132.69 | G10: =IF(ISBLANK(E10),0,ROUND(E10*F10,2)) -> 2132.69
A11: 840000A | B11: DER | C11: Remoção e recolocação de cercas de arame | D11: m | E11: 9.34 | F11: 35.5 | G11: =IF(ISBLANK(E11),0,ROUND(E11*F11,2)) -> 331.57
A12: 512050 | B12: DER | C12: Demolição Mecânica de Pavimento e Transporte | D12: m3 | E12: 139.75184 | F12: 48.32 | G12: =IF(ISBLANK(E12),0,ROUND(E12*F12,2)) -> 6752.81
A13: 2 | C13: TERRAPLENAGEM | H13: =SUM(G14:G17) -> 18659.28
A14: 400000 | B14: DER | C14: Desmatamento e limpeza diam. até 30cm | D14: m2 | E14: 11 | F14: 41.39 | G14: =IF(ISBLANK(E14),0,ROUND(E14*F14,2)) -> 455.29
A15: 520100A | B15: DER | C15: Escavação e carga mat. jazida 1a. cat./sem transporte | D15: m3 | E15: 1665.71 | F15: 4.48 | G15: =IF(ISBLANK(E15),0,ROUND(E15*F15,2)) -> 7462.38
A16: 520100B | B16: DER | C16: Escavação, Carga e Transp. de jazida 1ª Cat. | D16: m3 | E16: 927.6 | F16: 10.96 | G16: =IF(ISBLANK(E16),0,ROUND(E16*F16,2)) -> 10166.5
A17: 404300 | B17: DER | C17: Espalhamento e conformação de bota-fora | D17: m3 | E17: 927.6 | F17: 0.62 | G17: =IF(ISBLANK(E17),0,ROUND(E17*F17,2)) -> 575.11
A18: 3 | C18: BASE / SUB-BASE | H18: =SUM(G19:G22) -> 172610.13
A19: 520100C | B19: DER | C19: Aterro c/ mat. do canteiro (escav 1ª CAT+transp+compact) - Passeio | D19: m3 | E19: 1037.21 | F19: 14.8 | G19: =IF(ISBLANK(E19),0,ROUND(E19*F19,2)) -> 15350.71
A20: 511100A | B20: DER | C20: Regularização compac.subleito 100% PN | D20: m2 | E20: 3363.04 | F20: 3.42 | G20: =IF(ISBLANK(E20),0,ROUND(E20*F20,2)) -> 11501.6
A21: 531000A | B21: DER | C21: Brita Graduada | D21: m3 | E21: 464.28 | F21: 142.72 | G21: =IF(ISBLANK(E21),0,ROUND(E21*F21,2)) -> 66262.04
A22: 531500 | B22: DER | C22: Macadame Seco c/ Brita Graduada | D22: m3 | E22: 672.61 | F22: 118.19 | G22: =IF(ISBLANK(E22),0,ROUND(E22*F22,2)) -> 79495.78
A23: 4 | C23: REVESTIMENTO | H23: =SUM(G24:G29) -> 299556.12
A24: 560100B | B24: DER | C24: Imprimação com Emulsão EAI - exclusive emulsão (pista+acostamento+ciclofaixa) | D24: m2 | E24: 2940.71 | F24: 0.4 | G24: =IF(ISBLANK(E24),0,ROUND(E24*F24,2)) -> 1176.28
A25: 589190A | B25: DER mat | C25: Fornecimento de emulsão EAI - imprimação | D25: ton | E25: 3.23 | F25: 4272.65 | G25: =IF(ISBLANK(E25),0,ROUND(E25*F25,2)) -> 13800.66
A26: 561100A | B26: DER | C26: Pintura de ligação com RR-1C - exclusive emulsão (pista+acost+ciclofaixa+travessia) | D26: m2 | E26: 4998.65 | F26: 0.28 | G26: =IF(ISBLANK(E26),0,ROUND(E26*F26,2)) -> 1399.62
A27: 589420B | B27: DER mat | C27: Fornecimento de emulsão RR-1C - pintura de ligaçãp | D27: ton | E27: 2.5 | F27: 3554.93 | G27: =IF(ISBLANK(E27),0,ROUND(E27*F27,2)) -> 8887.33
A28: 570000B | B28: DER | C28: CBUQ - CAPA Traço 1 (Quantidade menor que 10000 toneladas)(pista+acostamento+ciclofaixa+travessia) | D28: ton | E28: 599.84 | F28: 189.75 | G28: =IF(ISBLANK(E28),0,ROUND(E28*F28,2)) -> 113819.64
A29: 589000I | B29: DER mat | C29: Fornecimento de CAP - CBUQ (Quantidade menor que 10000 toneladas) | D29: ton | E29: 29.99 | F29: 5350.87 | G29: =IF(ISBLANK(E29),0,ROUND(E29*F29,2)) -> 160472.59
A30: 5 | C30: MEIO-FIO E SARJETA | H30: =SUM(G31:G31) -> 77614.08
A31: 810150 | B31: DER | C31: Meio-Fio com Sarjeta DER - Tipo 2 - (0,042 m3) - Pré-Moldado | D31: m | E31: 1536 | F31: 50.53 | G31: =IF(ISBLANK(E31),0,ROUND(E31*F31,2)) -> 77614.08
A32: 6 | C32: SERVIÇOS DE URBANIZAÇÃO | H32: =SUM(G33:G40) -> 176230.47
A33: 603900C | B33: DER | C33: Lastro de Brita | D33: m3 | E33: 84.01 | F33: 140.09 | G33: =IF(ISBLANK(E33),0,ROUND(E33*F33,2)) -> 11768.96
A34: 603000A | B34: DER | C34: Aço CA-50 Dobr. e Colocação | D34: kg | E34: 891.2 | F34: 22.01 | G34: =IF(ISBLANK(E34),0,ROUND(E34*F34,2)) -> 19615.31
A35: 605000E | B35: DER | C35: Calçada Concreto ( e = 7,00 cm ) | D35: m2 | E35: 2713.15 | F35: 38.88 | G35: =IF(ISBLANK(E35),0,ROUND(E35*F35,2)) -> 105487.27
A36: 511000B | B36: DER | C36: Regularização e Compactação SAF- 100% PI - Passeio com Pavimento | D36: m2 | E36: 2800.27 | F36: 4.11 | G36: =IF(ISBLANK(E36),0,ROUND(E36*F36,2)) -> 11509.11
A37: 520100E | B37: DER | C37: Aterro c/ mat. do canteiro (escav 1ª CAT+transp+compact) - Passeio | D37: m3 | E37: 109.61 | F37: 14.8 | G37: =IF(ISBLANK(E37),0,ROUND(E37*F37,2)) -> 1622.23
A38: 520100F | B38: DER | C38: Aterro c/ mat. de jazida (escav 1ª CAT+transp+compact) - Passeio | D38: m3 | E38: 628.5 | F38: 25.18 | G38: =IF(ISBLANK(E38),0,ROUND(E38*F38,2)) -> 15825.63
A39: 605000K | B39: DER | C39: Rampa para PNE com Piso Tátil (NBR 9050) - Modelo 06 - 7,65 m2 | D39: un | E39: 10 | F39: 515.09 | G39: =IF(ISBLANK(E39),0,ROUND(E39*F39,2)) -> 5150.9
A40: PAV-86 | B40: PM CURITIBA | C40: Corte pavimento asfalto/concreto com serra diamantada e= 6mm e profundidade até 5 cm | D40: m | E40: 1060.82 | F40: 4.95 | G40: =IF(ISBLANK(E40),0,ROUND(E40*F40,2)) -> 5251.06
...
