Workbook
Name d: [1]proposta!#REF!
Name d: [1]proposta!#REF!
Name j: #REF!
Name j: [2]PROPOSTA!#REF!
Name j: [2]PROPOSTA!#REF!
Name j: 'orc DER JAN 2021'!$B$1

Sheet LIGANTES
A3: Sobre os preços coletados no Site da ANP foram incluídos os impostos, PIS/COFINS (3,65%) e ICMS (18,00%), totalizando 21,65%.
F6: ANP1 | G6: PARANÁ | P6: Preços de distribuição de produtos asfálticos
F7: ANP2 | G7: REGIÃO SUL | P7: Preços de produtores e importadores de derivados de petróleo
A8: Grupo de serviço: LIGANTES BETUMINOSOS | F8: ANP3 | G8: produtores sul
A10: DER janeiro 2021 | F10: ANP 3 (Preços Produtores) 4 A 10 MAIO / 2021 | H10: ANP 2 e 3 (Preços Distribuidores) MAIO 2021 | M10: menor valor Entre: ANP-Greca-CBB
A11: Código | B11: Descrição do Serviço | C11: Unidade | D11: Custo Unitário DER jan/2021 | F11: Custo Unitário SEM IMPOSTO | G11: Custo Unitário (+21,65%) | H11: Custo Unitário SEM IMPOSTO | I11: Custo Unitário (+21,65%) | J11: Custo Unitário Greca Asfáltos | K11: Custo Unitário CBB Asfáltos | M11: Custo Unitário Paranacidade Maio 2021 2ª PUBLICAÇÃO | P11: Custo Unitário Paranacidade Maio 2021 1ª PUBLICAÇÃO | Q11: Custo Unitário Paranacidade xxx 2021 2ª PUBLICAÇÃO
A12: 589100 | B12: Fornecimento de asfalto diluído CM-30 | C12: t | D12: 5022.5 | F12: 4779.5845 | G12: =ROUND(F12/(1-21.65%),2) -> 6100.3 | H12: 4523.99 | I12: =ROUND(H12/(1-21.65%),2) -> 5774.08 | J12: 7392 | K12: =6700*1.18 -> 7906 | M12: =SMALL((G12,I12,J12,K12),1) -> 5774.08 | N12: =M12/D12 -> 1.1496426 | O12: ANP2 | P12: 6100.3 | Q12: 5774.08
A13: 589050 | B13: Fornecimento de asfalto modificado por borracha AB8 | C13: t | D13: 3788.14 | H13: 3906.77 | I13: =ROUND(H13/(1-21.65%),2) -> 4986.31 | J13: 5316 | K13: =4800*1.18 -> 5664 | M13: =SMALL((G13,I13,J13,K13),1) -> 4986.31 | N13: =M13/D13 -> 1.3162951 | O13: ANP1 | P13: 5316 | Q13: 4986.31
A14: 589070 | B14: Fornecimento de CAP-30/45 | C14: t | D14: 4130.03 | F14: 3489.272 | G14: =ROUND(F14/(1-21.65%),2) -> 4453.44 | H14: 3899.05 | I14: =ROUND(H14/(1-21.65%),2) -> 4976.45 | K14: =4900*1.18 -> 5782 | M14: =SMALL((G14,I14,J14,K14),1) -> 4453.44 | N14: =M14/D14 -> 1.0783069 | O14: ANP3 | Q14: 4453.44
A15: 589000 | B15: Fornecimento de CAP-50/70 | C15: t | D15: 3340.63 | F15: 3689.1872 | G15: =ROUND(F15/(1-21.65%),2) -> 4708.6 | H15: 3474.42 | I15: =ROUND(H15/(1-21.65%),2) -> 4434.49 | J15: 5703 | K15: =5000*1.18 -> 5900 | M15: =SMALL((G15,I15,J15,K15),1) -> 4434.49 | N15: =M15/D15 -> 1.3274412 | O15: ANP2 | P15: 4708.6 | Q15: 4434.49
A16: 589030 | B16: Fornecimento de CAP-50/70 com polímero elastomérico (55/75) | C16: t | D16: 3932.27 | H16: 3054.31 | I16: =ROUND(H16/(1-21.65%),2) -> 3898.29 | K16: =6200*1.18 -> 7316 | M16: =SMALL((G16,I16,J16,K16),1) -> 3898.29 | N16: =M16/D16 -> 0.99135868 | O16: ANP1 | Q16: 3898.29
A17: 589040 | B17: Fornecimento de CAP-50/70 com polímero elastomérico (60/85) | C17: t | D17: 4296.93 | H17: 4060.71 | I17: =ROUND(H17/(1-21.65%),2) -> 5182.78 | J17: 6816 | K17: =6300*1.18 -> 7434 | M17: =SMALL((G17,I17,J17,K17),1) -> 5182.78 | N17: =M17/D17 -> 1.2061588 | O17: ANP1 | P17: 6056.4997 | Q17: 5182.78
A18: 589060 | B18: Fornecimento de CAP-50/70 com polímero elastomérico (65/90) | C18: t | D18: 4032.87 | H18: n | M18: =ROUND(D18/D17*M17,2) -> 4864.28 | N18: =M18/D18 -> 1.2061584 | O18: média der jan | Q18: 4864.28
A19: 589190 | B19: Fornecimento de emulsão asfáltica EAI p/imprimação | C19: t | D19: 2803.16 | H19: 2774.03 | I19: =ROUND(H19/(1-21.65%),2) -> 3540.56 | K19: =3800*1.18 -> 4484 | M19: =SMALL((G19,I19,J19,K19),1) -> 3540.56 | N19: =M19/D19 -> 1.2630603 | O19: ANP1 | P19: 3951.04 | Q19: 3540.56
A20: 589180 | B20: Fornecimento de emulsão asfáltica RC-1C-E com polímero | C20: t | D20: 3295.64 | H20: 3197.1 | I20: =ROUND(H20/(1-21.65%),2) -> 4080.54 | K20: =4500*1.18 -> 5310 | M20: =SMALL((G20,I20,J20,K20),1) -> 4080.54 | N20: =M20/D20 -> 1.2381631 | O20: ANP1 | P20: 4645.19 | Q20: 4080.54
A21: 589170 | B21: Fornecimento de emulsão asfáltica RL-1C | C21: t | D21: 2659.11 | H21: 3022.72 | I21: =ROUND(H21/(1-21.65%),2) -> 3857.97 | K21: =3500*1.18 -> 4130 | M21: =SMALL((G21,I21,J21,K21),1) -> 3857.97 | N21: =M21/D21 -> 1.4508501 | O21: ANP1 | P21: 3748 | Q21: 3857.97
A22: 589220 | B22: Fornecimento de emulsão asfáltica RM-1C | C22: t | D22: 2963.28 | H22: 2562.43 | I22: =ROUND(H22/(1-21.65%),2) -> 3270.49 | K22: =3800*1.18 -> 4484 | M22: =SMALL((G22,I22,J22,K22),1) -> 3270.49 | N22: =M22/D22 -> 1.1036723 | O22: ANP1 | P22: 4176.73 | Q22: 3270.49
A23: 589320 | B23: Fornecimento de emulsão asfáltica RM-2C | C23: t | D23: 2773.46 | H23: 2834.02 | I23: =ROUND(H23/(1-21.65%),2) -> 3617.13 | J23: 4573 | K23: =4000*1.18 -> 4720 | M23: =SMALL((G23,I23,J23,K23),1) -> 3617.13 | N23: =M23/D23 -> 1.304194 | O23: ANP2 | P23: 3909.18 | Q23: 3617.13
A24: 589420 | B24: Fornecimento de emulsão asfáltica RR-1C | C24: t | D24: 2353.66 | H24: 2299 | I24: =ROUND(H24/(1-21.65%),2) -> 2934.27 | J24: 3836 | K24: =3300*1.18 -> 3894 | M24: =SMALL((G24,I24,J24,K24),1) -> 2934.27 | N24: =M24/D24 -> 1.2466839 | O24: ANP1 | P24: 3317.47 | Q24: 2934.27
A25: 589430 | B25: Fornecimento de emulsão asfáltica RR-1C-E com polímero | C25: t | D25: 2858.64 | H25: 3025.5 | I25: =ROUND(H25/(1-21.65%),2) -> 3861.52 | M25: =SMALL((G25,I25,J25,K25),1) -> 3861.52 | N25: =M25/D25 -> 1.3508242 | O25: ANP2 | Q25: 3861.52
A26: 589520 | B26: Fornecimento de emulsão asfáltica RR-2C | C26: t | D26: 2665.24 | H26: 2597.07 | I26: =ROUND(H26/(1-21.65%),2) -> 3314.7 | J26: 4172 | K26: =3700*1.18 -> 4366 | M26: =SMALL((G26,I26,J26,K26),1) -> 3314.7 | N26: =M26/D26 -> 1.2436779 | O26: ANP1 | P26: 3756.64 | Q26: 3314.7
A27: 589530 | B27: Fornecimento de emulsão asfáltica RR-2C-E com polímero | C27: t | D27: 2884.67 | H27: 2867.99 | I27: =ROUND(H27/(1-21.65%),2) -> 3660.49 | M27: =SMALL((G27,I27,J27,K27),1) -> 3660.49 | N27: =M27/D27 -> 1.2689458 | O27: ANP2 brasil | Q27: 3660.49

Sheet Prazos e Áreas
A1: 1 - | B1: PAVIMENTAÇÃO (IMPLANTAÇÃO - RESTAURAÇÃO DE PAVIMENTO - IMPLASNTAÇÃO + RECAPE)
B2: PRAZOS E ÁREAS MÁXIMAS DE PAVIMENTAÇÃO PARA O CRONOGRMA
B3: Prazo do | C3: Áreas Máximas
B4: Cronograma (N) | C4: de | D4: até
B5: 3 meses | C5: - | D5: 2.000 m2
B6: 4 meses | C6: 2.000 m2 | D6: 4.000 m2
B7: 5 meses | C7: 4.000 m2 | D7: 8.000 m2 | E7: Obs. | F7: Para áreas maiores que 30.000 m2 : Dividir em "Lotes"
B8: 6 meses | C8: 8.000 m2 | D8: 13.000 m2
B9: 7 meses | C9: 13.000 m2 | D9: 18.000 m2
B10: 8 meses | C10: 18.000 m2 | D10: 24.000 m2
B11: 9 meses | C11: 24.000 m2 | D11: 30.000 m2
A13: 2 | B13: RECAPE ASFÁLTICO
B14: PRAZOS E ÁREAS MÁXIMAS DE RECAPE PARA O CRONOGRMA
B15: Prazo do | C15: Áreas Máximas
B16: Cronograma (N) | C16: de | D16: até
B17: 3 meses | C17: - | D17: 10.000 m2
B18: 4 meses | C18: 10.000 m2 | D18: 15.000 m2 | E18: Obs. | F18: Para áreas maiores que 60.000 m2 : Dividir em "Lotes"
B19: 5 meses | C19: 15.000 m2 | D19: 20.000 m2
B20: 6 meses | C20: 20.000 m2 | D20: 30.000 m2
B21: 7 meses | C21: 30.000 m2 | D21: 40.000 m2
B22: 8 meses | C22: 40.000 m2 | D22: 50.000 m2
B23: 9 meses | C23: 50.000 m2 | D23: 60.000 m2

Sheet Cronograma PAM
B1: PAM | C1: SECRETARIA DE ESTADO DO DESENVOLVIMENTO URBANO - SEDU | D1: SECRETARIA DE ESTADO DO DESENVOLVIMENTO URBANO - SEDU | K1: PAVIMENTAÇÃO
B2: Município: | C2: PIÊN | F2: SAM | G2: 58 | H2: Edital no Município | J2: Procedimento prévio | L2: Início previsto da Obra | N2: Convênio | P2: Repasse do Concedente | S2: 2100000
B3: Projeto : | C3: PAVIMENTAÇÃO DE ESTRADAS VICINAIS | F3: LOTE nº | G3: 1 | H3: Data | I3: =TODAY() -> 44441 | J3: Dias | K3: =80-10 -> 70 | L3: Data | M3: =I3+K3+10 -> 44521 | N3: nº | P3: Contrapartida do Proponente | S3: 812909.53 | T3: =IF(S3=0,0,1-T2) -> 1 | W3: =S21-S2 -> -227208.49
B4: Quantidade: | C4: ='orc DER JAN 2021'!O2667 -> 9818.79 | E4: CRONOGRAMA FÍSICO FINANCEIRO | P4: Valor Total | S4: =SUM(S2:S3) -> 2912909.5 | T4: =SUM(T2:T3) -> 1
B5: GRUPO | C5: SERVIÇOS | E5: N | F5: PARCELAS (%) | S5: TOTAL | T5: % S/ | W5: Controle | X5: =IF(S4=S51,"OK","erro") -> erro
B6: ITEM | E6: 7 | F6: =IF(E6=0,0,1) -> 1 | G6: =IF($E$6<2,0,2) -> 2 | H6: =IF($E$6<3,0,3) -> 3 | I6: =IF($E$6<4,0,4) -> 4 | J6: =IF($E$6<5,0,5) -> 5 | K6: =IF($E$6<6,0,6) -> 6 | L6: =IF($E$6<7,0,7) -> 7 | M6: =IF($E$6<8,0,8) -> 0 | N6: =IF($E$6<9,0,9) -> 0 | O6: =IF($E$6<10,0,10) -> 0 | P6: =IF($E$6<11,0,11) -> 0 | Q6: =IF($E$6<12,0,12) -> 0 | S6: ITEM (R$) | T6: TOTAL
C7: Data Início | F7: =IF(E6=0,0,M3) -> 44521 | G7: =IF(G6=0,0,F8+1) -> 44552 | H7: =IF(H6=0,0,G8+1) -> 44583 | I7: =IF(I6=0,0,H8+1) -> 44614 | J7: =IF(J6=0,0,I8+1) -> 44645 | K7: =IF(K6=0,0,J8+1) -> 44676 | L7: =IF(L6=0,0,K8+1) -> 44707 | M7: =IF(M6=0,0,L8+1) -> 0 | N7: =IF(N6=0,0,M8+1) -> 0 | ... Q7: =IF(Q6=0,0,P8+1) -> 0
C8: Data Fim | F8: =IF(E6=0,0,F7+30) -> 44551 | G8: =IF(G6=0,0,G7+30) -> 44582 | H8: =IF(H6=0,0,H7+30) -> 44613 | I8: =IF(I6=0,0,I7+30) -> 44644 | J8: =IF(J6=0,0,J7+30) -> 44675 | K8: =IF(K6=0,0,K7+30) -> 44706 | L8: =IF(L6=0,0,L7+30) -> 44737 | M8: =IF(M6=0,0,M7+30) -> 0 | N8: =IF(N6=0,0,N7+30) -> 0 | ... Q8: =IF(Q6=0,0,Q7+30) -> 0
A9: =CONCATENATE($E$6,"|",B9) -> 7|1 | B9: 1 | C9: SERVIÇOS PRELIMINARES | E9: 1 | F9: 20 | G9: 30 | H9: 30 | I9: 20 | J9: 0 | K9: 0 | L9: 0 | M9: 0 | N9: 0 | O9: 0 | P9: 0 | Q9: 0 | S9: ='orc DER JAN 2021'!V18 -> 6097.39 | T9: =IF($S$21=0,0,(S9/$S$21)*100) -> 0.32557762 | W9: =SUM(F9:Q9) -> 100
A10: =CONCATENATE($E$6,"|",B10) -> 7|2 | B10: 2 | C10: TERRAPLENAGEM | E10: 2 | F10: 15 | G10: 25 | H10: 30 | I10: 25 | J10: 5 | K10: 0 | L10: 0 | M10: 0 | N10: 0 | O10: 0 | P10: 0 | Q10: 0 | S10: ='orc DER JAN 2021'!V68 -> 20910.88 | T10: =IF($S$21=0,0,(S10/$S$21)*100) -> 1.1165621 | W10: =SUM(F10:Q10) -> 100
A11: =CONCATENATE($E$6,"|",B11) -> 7|3 | B11: 3 | C11: BASE / SUB-BASE | E11: 3 | F11: 5 | G11: 20 | H11: 30 | I11: 25 | J11: 20 | K11: 0 | L11: 0 | M11: 0 | N11: 0 | O11: 0 | P11: 0 | Q11: 0 | S11: ='orc DER JAN 2021'!V113 -> 515253.24 | T11: =IF($S$21=0,0,(S11/$S$21)*100) -> 27.512579 | W11: =SUM(F11:Q11) -> 100
A12: =CONCATENATE($E$6,"|",B12) -> 7|4 | B12: 4 | C12: REVESTIMENTO | E12: 4 | F12: 0 | G12: 5 | H12: 20 | I12: 30 | J12: 25 | K12: 20 | L12: 0 | M12: 0 | N12: 0 | O12: 0 | P12: 0 | Q12: 0 | S12: ='orc DER JAN 2021'!V223 -> 678892.08 | T12: =IF($S$21=0,0,(S12/$S$21)*100) -> 36.250275 | W12: =SUM(F12:Q12) -> 100
A13: =CONCATENATE($E$6,"|",B13) -> 7|5 | B13: 5 | C13: MEIO-FIO E SARJETA | E13: 5 | F13: 0 | G13: 15 | H13: 30 | I13: 30 | J13: 25 | K13: 0 | L13: 0 | M13: 0 | N13: 0 | O13: 0 | P13: 0 | Q13: 0 | S13: ='orc DER JAN 2021'!V467 -> 54029.08 | T13: =IF($S$21=0,0,(S13/$S$21)*100) -> 2.884949 | W13: =SUM(F13:Q13) -> 100
A14: =CONCATENATE($E$6,"|",B14) -> 7|6 | B14: 6 | C14: PAISAGISMO / URBANISMO | E14: 3 | F14: 0 | G14: 5 | H14: 10 | I14: 30 | J14: 30 | K14: 25 | L14: 0 | M14: 0 | N14: 0 | O14: 0 | P14: 0 | Q14: 0 | S14: ='orc DER JAN 2021'!V522 -> 182134.95 | T14: =IF($S$21=0,0,(S14/$S$21)*100) -> 9.7253191 | W14: =SUM(F14:Q14) -> 100
A15: =CONCATENATE($E$6,"|",B15) -> 7|7 | B15: 7 | C15: SINALIZAÇÃO DE TRÂNSITO | E15: 5 | F15: 0 | G15: 0 | H15: 20 | I15: 20 | J15: 30 | K15: 30 | L15: 0 | M15: 0 | N15: 0 | O15: 0 | P15: 0 | Q15: 0 | S15: ='orc DER JAN 2021'!V719 -> 55596.86 | T15: =IF($S$21=0,0,(S15/$S$21)*100) -> 2.9686625 | W15: =SUM(F15:Q15) -> 100
A16: =CONCATENATE($E$6,"|",B16) -> 7|8 | B16: 8 | C16: ILUMINAÇÃO PÚBLICA | E16: 6 | F16: 0 | G16: 0 | H16: 20 | I16: 30 | J16: 30 | K16: 20 | L16: 0 | M16: 0 | N16: 0 | O16: 0 | P16: 0 | Q16: 0 | S16: ='orc DER JAN 2021'!V779 -> 52935.52 | T16: =IF($S$21=0,0,(S16/$S$21)*100) -> 2.826557 | W16: =SUM(F16:Q16) -> 100
A17: =CONCATENATE($E$6,"|",B17) -> 7|9 | B17: 9 | C17: SERVIÇOS DIVERSOS | E17: 6 | F17: 5 | G17: 15 | H17: 25 | I17: 25 | J17: 20 | K17: 10 | L17: 0 | M17: 0 | N17: 0 | O17: 0 | P17: 0 | Q17: 0 | T17: =IF($S$21=0,0,(S17/$S$21)*100) -> 0 | W17: =SUM(F17:Q17) -> 100
A18: =CONCATENATE($E$6,"|",B18) -> 7|10 | B18: 10 | C18: DRENAGEM | F18: 20 | G18: 30 | H18: 30 | I18: 15 | J18: 5 | K18: 0 | L18: 0 | M18: 0 | N18: 0 | O18: 0 | P18: 0 | Q18: 0 | S18: ='orc DER JAN 2021'!V1734 -> 278168.89 | T18: =IF($S$21=0,0,(S18/$S$21)*100) -> 14.853169 | W18: =SUM(F18:Q18) -> 100
A19: =CONCATENATE($E$6,"|",B19) -> 7|11 | B19: 11 | C19: ENSAIOS TECNOLÓGICOS | F19: 3 | G19: 12 | H19: 25 | I19: 28 | J19: 21 | K19: 11 | L19: 0 | M19: 0 | N19: 0 | O19: 0 | P19: 0 | Q19: 0 | S19: ='orc DER JAN 2021'!V2611 -> 28772.62 | T19: =IF($S$21=0,0,(S19/$S$21)*100) -> 1.5363493 | W19: =SUM(F19:Q19) -> 100
C21: TOTAIS | D21: TOTAIS | S21: =SUM(S9:S20) -> 1872791.5 | T21: =SUM(T9:T19) -> 100
B22: COMPOSIÇÃO DOS RECURSOS (TESOURO E CONTRAPARTIDA)
B23: ITEM | F23: PARCELAS | R23: Nº DE | S23: TOTAL | T23: % S/
F24: =F6 -> 1 | G24: =G6 -> 2 | H24: =H6 -> 3 | I24: =I6 -> 4 | J24: =J6 -> 5 | K24: =K6 -> 6 | L24: =L6 -> 7 | M24: =M6 -> 0 | ... Q24: =Q6 -> 0 | R24: MESES | S24: ITEM | T24: ITEM
B25: 1T | C25: SERVIÇOS PRELIMINARES | D25: TESOURO | E25: R$ | F25: =((F9/100)*$S$9)*$T$2 -> 0 | G25: =((G9/100)*$S$9)*$T$2 -> 0 | H25: =((H9/100)*$S$9)*$T$2 -> 0 | I25: =((I9/100)*$S$9)*$T$2 -> 0 | J25: =((J9/100)*$S$9)*$T$2 -> 0 | K25: =((K9/100)*$S$9)*$T$2 -> 0 | L25: =((L9/100)*$S$9)*$T$2 -> 0 | M25: =((M9/100)*$S$9)*$T$2 -> 0 | ... Q25: =((Q9/100)*$S$9)*$T$2 -> 0 | R25: =COUNTIF(F25:Q25,">0") -> 0 | S25: =SUM(F25:Q25) -> 0 | T25: =IF($S$51=0,0,(S25/$S$51)) -> 0
B26: 1C | D26: CONTRAPARTIDA | E26: R$ | F26: =((F9/100)*$S$9)*T3 -> 1219.478 | G26: =((G9/100)*$S$9)*$T$3 -> 1829.217 | H26: =((H9/100)*$S$9)*$T$3 -> 1829.217 | I26: =((I9/100)*$S$9)*$T$3 -> 1219.478 | J26: =((J9/100)*$S$9)*$T$3 -> 0 | K26: =((K9/100)*$S$9)*$T$3 -> 0 | L26: =((L9/100)*$S$9)*$T$3 -> 0 | M26: =((M9/100)*$S$9)*$T$3 -> 0 | N26: =((N9/100)*$S$9)*$T$3 -> 0 | ... Q26: =((Q9/100)*$S$9)*$T$3 -> 0 | R26: =COUNTIF(F26:Q26,">0") -> 4 | S26: =SUM(F26:Q26) -> 6097.39 | T26: =IF($S$51=0,0,(S26/$S$51)) -> 0.0032557762
B27: 2T | C27: TERRAPLENAGEM | D27: TESOURO | E27: R$ | F27: =((F10/100)*$S$10)*$T$2 -> 0 | G27: =((G10/100)*$S$10)*$T$2 -> 0 | H27: =((H10/100)*$S$10)*$T$2 -> 0 | I27: =((I10/100)*$S$10)*$T$2 -> 0 | J27: =((J10/100)*$S$10)*$T$2 -> 0 | K27: =((K10/100)*$S$10)*$T$2 -> 0 | L27: =((L10/100)*$S$10)*$T$2 -> 0 | M27: =((M10/100)*$S$10)*$T$2 -> 0 | ... Q27: =((Q10/100)*$S$10)*$T$2 -> 0 | R27: =COUNTIF(F27:Q27,">0") -> 0 | S27: =SUM(F27:Q27) -> 0 | T27: =IF($S$51=0,0,(S27/$S$51)) -> 0
B28: 2C | D28: CONTRAPARTIDA | E28: R$ | F28: =((F10/100)*$S$10)*$T$3 -> 3136.632 | G28: =((G10/100)*$S$10)*$T$3 -> 5227.72 | H28: =((H10/100)*$S$10)*$T$3 -> 6273.264 | I28: =((I10/100)*$S$10)*$T$3 -> 5227.72 | J28: =((J10/100)*$S$10)*$T$3 -> 1045.544 | K28: =((K10/100)*$S$10)*$T$3 -> 0 | L28: =((L10/100)*$S$10)*$T$3 -> 0 | M28: =((M10/100)*$S$10)*$T$3 -> 0 | ... Q28: =((Q10/100)*$S$10)*$T$3 -> 0 | R28: =COUNTIF(F28:Q28,">0") -> 5 | S28: =SUM(F28:Q28) -> 20910.88 | T28: =IF($S$51=0,0,(S28/$S$51)) -> 0.011165621
B29: 3T | C29: BASE / SUB-BASE | D29: TESOURO | E29: R$ | F29: =((F11/100)*$S$11)*$T$2 -> 0 | G29: =((G11/100)*$S$11)*$T$2 -> 0 | H29: =((H11/100)*$S$11)*$T$2 -> 0 | I29: =((I11/100)*$S$11)*$T$2 -> 0 | J29: =((J11/100)*$S$11)*$T$2 -> 0 | K29: =((K11/100)*$S$11)*$T$2 -> 0 | L29: =((L11/100)*$S$11)*$T$2 -> 0 | M29: =((M11/100)*$S$11)*$T$2 -> 0 | ... Q29: =((Q11/100)*$S$11)*$T$2 -> 0 | R29: =COUNTIF(F29:Q29,">0") -> 0 | S29: =SUM(F29:Q29) -> 0 | T29: =IF($S$51=0,0,(S29/$S$51)) -> 0
B30: 3C | D30: CONTRAPARTIDA | E30: R$ | F30: =((F11/100)*$S$11)*$T$3 -> 25762.662 | G30: =((G11/100)*$S$11)*$T$3 -> 103050.65 | H30: =((H11/100)*$S$11)*$T$3 -> 154575.97 | I30: =((I11/100)*$S$11)*$T$3 -> 128813.31 | J30: =((J11/100)*$S$11)*$T$3 -> 103050.65 | K30: =((K11/100)*$S$11)*$T$3 -> 0 | L30: =((L11/100)*$S$11)*$T$3 -> 0 | M30: =((M11/100)*$S$11)*$T$3 -> 0 | ... Q30: =((Q11/100)*$S$11)*$T$3 -> 0 | R30: =COUNTIF(F30:Q30,">0") -> 5 | S30: =SUM(F30:Q30) -> 515253.24 | T30: =IF($S$51=0,0,(S30/$S$51)) -> 0.27512579
B31: 4T | C31: REVESTIMENTO | D31: TESOURO | E31: R$ | F31: =((F12/100)*$S$12)*T2 -> 0 | G31: =((G12/100)*$S$12)*$T$2 -> 0 | H31: =((H12/100)*$S$12)*$T$2 -> 0 | I31: =((I12/100)*$S$12)*$T$2 -> 0 | J31: =((J12/100)*$S$12)*$T$2 -> 0 | K31: =((K12/100)*$S$12)*$T$2 -> 0 | L31: =((L12/100)*$S$12)*$T$2 -> 0 | M31: =((M12/100)*$S$12)*$T$2 -> 0 | N31: =((N12/100)*$S$12)*$T$2 -> 0 | ... Q31: =((Q12/100)*$S$12)*$T$2 -> 0 | R31: =COUNTIF(F31:Q31,">0") -> 0 | S31: =SUM(F31:Q31) -> 0 | T31: =IF($S$51=0,0,(S31/$S$51)) -> 0
B32: 4C | D32: CONTRAPARTIDA | E32: R$ | F32: =((F12/100)*$S$12)*$T$3 -> 0 | G32: =((G12/100)*$S$12)*$T$3 -> 33944.604 | H32: =((H12/100)*$S$12)*$T$3 -> 135778.42 | I32: =((I12/100)*$S$12)*$T$3 -> 203667.62 | J32: =((J12/100)*$S$12)*$T$3 -> 169723.02 | K32: =((K12/100)*$S$12)*$T$3 -> 135778.42 | L32: =((L12/100)*$S$12)*$T$3 -> 0 | M32: =((M12/100)*$S$12)*$T$3 -> 0 | ... Q32: =((Q12/100)*$S$12)*$T$3 -> 0 | R32: =COUNTIF(F32:Q32,">0") -> 5 | S32: =SUM(F32:Q32) -> 678892.08 | T32: =IF($S$51=0,0,(S32/$S$51)) -> 0.36250275
B33: 5T | C33: MEIO-FIO E SARJETA | D33: TESOURO | E33: R$ | F33: =((F13/100)*$S$13)*$T$2 -> 0 | G33: =((G13/100)*$S$13)*$T$2 -> 0 | H33: =((H13/100)*$S$13)*$T$2 -> 0 | I33: =((I13/100)*$S$13)*$T$2 -> 0 | J33: =((J13/100)*$S$13)*$T$2 -> 0 | K33: =((K13/100)*$S$13)*$T$2 -> 0 | L33: =((L13/100)*$S$13)*$T$2 -> 0 | M33: =((M13/100)*$S$13)*$T$2 -> 0 | ... Q33: =((Q13/100)*$S$13)*$T$2 -> 0 | R33: =COUNTIF(F33:Q33,">0") -> 0 | S33: =SUM(F33:Q33) -> 0 | T33: =IF($S$51=0,0,(S33/$S$51)) -> 0
B34: 5C | D34: CONTRAPARTIDA | E34: R$ | F34: =((F13/100)*$S$13)*$T$3 -> 0 | G34: =((G13/100)*$S$13)*$T$3 -> 8104.362 | H34: =((H13/100)*$S$13)*$T$3 -> 16208.724 | I34: =((I13/100)*$S$13)*$T$3 -> 16208.724 | J34: =((J13/100)*$S$13)*$T$3 -> 13507.27 | K34: =((K13/100)*$S$13)*$T$3 -> 0 | L34: =((L13/100)*$S$13)*$T$3 -> 0 | M34: =((M13/100)*$S$13)*$T$3 -> 0 | ... Q34: =((Q13/100)*$S$13)*$T$3 -> 0 | R34: =COUNTIF(F34:Q34,">0") -> 4 | S34: =SUM(F34:Q34) -> 54029.08 | T34: =IF($S$51=0,0,(S34/$S$51)) -> 0.02884949
B35: 6T | C35: PAISAGISMO / URBANISMO | D35: TESOURO | E35: R$ | F35: =((F14/100)*$S$14)*$T$2 -> 0 | G35: =((G14/100)*$S$14)*$T$2 -> 0 | H35: =((H14/100)*$S$14)*$T$2 -> 0 | I35: =((I14/100)*$S$14)*$T$2 -> 0 | J35: =((J14/100)*$S$14)*$T$2 -> 0 | K35: =((K14/100)*$S$14)*$T$2 -> 0 | L35: =((L14/100)*$S$14)*$T$2 -> 0 | M35: =((M14/100)*$S$14)*$T$2 -> 0 | ... Q35: =((Q14/100)*$S$14)*$T$2 -> 0 | R35: =COUNTIF(F35:Q35,">0") -> 0 | S35: =SUM(F35:Q35) -> 0 | T35: =IF($S$51=0,0,(S35/$S$51)) -> 0
B36: 6C | D36: CONTRAPARTIDA | E36: R$ | F36: =((F14/100)*$S$14)*$T$3 -> 0 | G36: =((G14/100)*$S$14)*$T$3 -> 9106.7475 | H36: =((H14/100)*$S$14)*$T$3 -> 18213.495 | I36: =((I14/100)*$S$14)*$T$3 -> 54640.485 | J36: =((J14/100)*$S$14)*$T$3 -> 54640.485 | K36: =((K14/100)*$S$14)*$T$3 -> 45533.738 | L36: =((L14/100)*$S$14)*$T$3 -> 0 | M36: =((M14/100)*$S$14)*$T$3 -> 0 | ... Q36: =((Q14/100)*$S$14)*$T$3 -> 0 | R36: =COUNTIF(F36:Q36,">0") -> 5 | S36: =SUM(F36:Q36) -> 182134.95 | T36: =IF($S$51=0,0,(S36/$S$51)) -> 0.097253191
B37: 7T | C37: SINALIZAÇÃO DE TRÂNSITO | D37: TESOURO | E37: R$ | F37: =((F15/100)*$S$15)*$T$2 -> 0 | G37: =((G15/100)*$S$15)*$T$2 -> 0 | H37: =((H15/100)*$S$15)*$T$2 -> 0 | I37: =((I15/100)*$S$15)*$T$2 -> 0 | J37: =((J15/100)*$S$15)*$T$2 -> 0 | K37: =((K15/100)*$S$15)*$T$2 -> 0 | L37: =((L15/100)*$S$15)*$T$2 -> 0 | M37: =((M15/100)*$S$15)*$T$2 -> 0 | ... Q37: =((Q15/100)*$S$15)*$T$2 -> 0 | R37: =COUNTIF(F37:Q37,">0") -> 0 | S37: =SUM(F37:Q37) -> 0 | T37: =IF($S$51=0,0,(S37/$S$51)) -> 0
B38: 7C | D38: CONTRAPARTIDA | E38: R$ | F38: =((F15/100)*$S$15)*$T$3 -> 0 | G38: =((G15/100)*$S$15)*$T$3 -> 0 | H38: =((H15/100)*$S$15)*$T$3 -> 11119.372 | I38: =((I15/100)*$S$15)*$T$3 -> 11119.372 | J38: =((J15/100)*$S$15)*$T$3 -> 16679.058 | K38: =((K15/100)*$S$15)*$T$3 -> 16679.058 | L38: =((L15/100)*$S$15)*$T$3 -> 0 | M38: =((M15/100)*$S$15)*$T$3 -> 0 | ... Q38: =((Q15/100)*$S$15)*$T$3 -> 0 | R38: =COUNTIF(F38:Q38,">0") -> 4 | S38: =SUM(F38:Q38) -> 55596.86 | T38: =IF($S$51=0,0,(S38/$S$51)) -> 0.029686625
B39: 8T | C39: ILUMINAÇÃO PÚBLICA | D39: TESOURO | E39: R$ | F39: =((F16/100)*$S$16)*$T$2 -> 0 | G39: =((G16/100)*$S$16)*$T$2 -> 0 | H39: =((H16/100)*$S$16)*$T$2 -> 0 | I39: =((I16/100)*$S$16)*$T$2 -> 0 | J39: =((J16/100)*$S$16)*$T$2 -> 0 | K39: =((K16/100)*$S$16)*$T$2 -> 0 | L39: =((L16/100)*$S$16)*$T$2 -> 0 | M39: =((M16/100)*$S$16)*$T$2 -> 0 | ... Q39: =((Q16/100)*$S$16)*$T$2 -> 0 | R39: =COUNTIF(F39:Q39,">0") -> 0 | S39: =SUM(F39:Q39) -> 0 | T39: =IF($S$51=0,0,(S39/$S$51)) -> 0
B40: 8C | D40: CONTRAPARTIDA | E40: R$ | F40: =((F16/100)*$S$16)*$T$3 -> 0 | G40: =((G16/100)*$S$16)*$T$3 -> 0 | H40: =((H16/100)*$S$16)*$T$3 -> 10587.104 | I40: =((I16/100)*$S$16)*$T$3 -> 15880.656 | J40: =((J16/100)*$S$16)*$T$3 -> 15880.656 | K40: =((K16/100)*$S$16)*$T$3 -> 10587.104 | L40: =((L16/100)*$S$16)*$T$3 -> 0 | M40: =((M16/100)*$S$16)*$T$3 -> 0 | ... Q40: =((Q16/100)*$S$16)*$T$3 -> 0 | R40: =COUNTIF(F40:Q40,">0") -> 4 | S40: =SUM(F40:Q40) -> 52935.52 | T40: =IF($S$51=0,0,(S40/$S$51)) -> 0.02826557
B41: 9T | C41: SERVIÇOS DIVERSOS | D41: TESOURO | E41: R$ | F41: =((F17/100)*$S$17)*$T$2 -> 0 | G41: =((G17/100)*$S$17)*$T$2 -> 0 | H41: =((H17/100)*$S$17)*$T$2 -> 0 | I41: =((I17/100)*$S$17)*$T$2 -> 0 | J41: =((J17/100)*$S$17)*$T$2 -> 0 | K41: =((K17/100)*$S$17)*$T$2 -> 0 | L41: =((L17/100)*$S$17)*$T$2 -> 0 | M41: =((M17/100)*$S$17)*$T$2 -> 0 | ... Q41: =((Q17/100)*$S$17)*$T$2 -> 0 | R41: =COUNTIF(F41:Q41,">0") -> 0 | S41: =SUM(F41:Q41) -> 0 | T41: =IF($S$51=0,0,(S41/$S$51)) -> 0
...

Sheet Cronograma SFM
B1: SFM | C1: SECRETARIA DE ESTADO DO DESENVOLVIMENTO URBANO - SEDU | D1: SECRETARIA DE ESTADO DO DESENVOLVIMENTO URBANO - SEDU | K1: PAVIMENTAÇÃO
B2: Município: | C2: PIÊN | F2: SAM | G2: 58 | H2: Edital no Município | J2: Procedimento prévio | L2: Início previsto da Obra | P2: Empréstimo | S2: ='orc DER JAN 2021'!V2659 -> 1872791.5 | T2: =IF(S4=0,0,S2/S4) -> 1
B3: Projeto : | C3: PAVIMENTAÇÃO VIA URBANA | F3: LOTE nº | G3: 1 | H3: Data | I3: =TODAY() -> 44441 | J3: Dias | K3: =80-10 -> 70 | L3: Data | M3: =I3+K3+10 -> 44521 | P3: Contrapartida do Proponente | T3: =IF(S3=0,0,1-T2) -> 0
B4: Quantidade: | C4: ='orc DER JAN 2021'!O2667 -> 9818.79 | E4: CRONOGRAMA FÍSICO FINANCEIRO | P4: Valor Total | S4: =SUM(S2:S3) -> 1872791.5 | T4: =SUM(T2:T3) -> 1
B5: GRUPO | C5: SERVIÇOS | E5: N | F5: PARCELAS (%) | S5: TOTAL | T5: % S/ | W5: Controle | X5: =IF(S4=S51,"OK","erro") -> OK
B6: ITEM | E6: 6 | F6: =IF(E6=0,0,1) -> 1 | G6: =IF($E$6<2,0,2) -> 2 | H6: =IF($E$6<3,0,3) -> 3 | I6: =IF($E$6<4,0,4) -> 4 | J6: =IF($E$6<5,0,5) -> 5 | K6: =IF($E$6<6,0,6) -> 6 | L6: =IF($E$6<7,0,7) -> 0 | M6: =IF($E$6<8,0,8) -> 0 | N6: =IF($E$6<9,0,9) -> 0 | O6: =IF($E$6<10,0,10) -> 0 | P6: =IF($E$6<11,0,11) -> 0 | Q6: =IF($E$6<12,0,12) -> 0 | S6: ITEM (R$) | T6: TOTAL
C7: Data Início | F7: =IF(E6=0,0,M3) -> 44521 | G7: =IF(G6=0,0,F8+1) -> 44552 | H7: =IF(H6=0,0,G8+1) -> 44583 | I7: =IF(I6=0,0,H8+1) -> 44614 | J7: =IF(J6=0,0,I8+1) -> 44645 | K7: =IF(K6=0,0,J8+1) -> 44676 | L7: =IF(L6=0,0,K8+1) -> 0 | M7: =IF(M6=0,0,L8+1) -> 0 | N7: =IF(N6=0,0,M8+1) -> 0 | ... Q7: =IF(Q6=0,0,P8+1) -> 0
C8: Data Fim | F8: =IF(E6=0,0,F7+30) -> 44551 | G8: =IF(G6=0,0,G7+30) -> 44582 | H8: =IF(H6=0,0,H7+30) -> 44613 | I8: =IF(I6=0,0,I7+30) -> 44644 | J8: =IF(J6=0,0,J7+30) -> 44675 | K8: =IF(K6=0,0,K7+30) -> 44706 | L8: =IF(L6=0,0,L7+30) -> 0 | M8: =IF(M6=0,0,M7+30) -> 0 | N8: =IF(N6=0,0,N7+30) -> 0 | ... Q8: =IF(Q6=0,0,Q7+30) -> 0
A9: =CONCATENATE($E$6,"|",B9) -> 6|1 | B9: 1 | C9: SERVIÇOS PRELIMINARES | E9: 1 | F9: 20 | G9: 30 | H9: 30 | I9: 20 | J9: 0 | K9: 0 | L9: 0 | M9: 0 | N9: 0 | O9: 0 | P9: 0 | Q9: 0 | S9: ='orc DER JAN 2021'!V18 -> 6097.39 | T9: =IF($S$21=0,0,(S9/$S$21)*100) -> 0.32557762 | W9: =SUM(F9:Q9) -> 100
A10: =CONCATENATE($E$6,"|",B10) -> 6|2 | B10: 2 | C10: TERRAPLENAGEM | E10: 2 | F10: 15 | G10: 25 | H10: 30 | I10: 25 | J10: 5 | K10: 0 | L10: 0 | M10: 0 | N10: 0 | O10: 0 | P10: 0 | Q10: 0 | S10: ='orc DER JAN 2021'!V68 -> 20910.88 | T10: =IF($S$21=0,0,(S10/$S$21)*100) -> 1.1165621 | W10: =SUM(F10:Q10) -> 100
A11: =CONCATENATE($E$6,"|",B11) -> 6|3 | B11: 3 | C11: BASE / SUB-BASE | E11: 3 | F11: 5 | G11: 20 | H11: 30 | I11: 25 | J11: 20 | K11: 0 | L11: 0 | M11: 0 | N11: 0 | O11: 0 | P11: 0 | Q11: 0 | S11: ='orc DER JAN 2021'!V113 -> 515253.24 | T11: =IF($S$21=0,0,(S11/$S$21)*100) -> 27.512579 | W11: =SUM(F11:Q11) -> 100
A12: =CONCATENATE($E$6,"|",B12) -> 6|4 | B12: 4 | C12: REVESTIMENTO | E12: 4 | F12: 0 | G12: 5 | H12: 20 | I12: 30 | J12: 25 | K12: 20 | L12: 0 | M12: 0 | N12: 0 | O12: 0 | P12: 0 | Q12: 0 | S12: ='orc DER JAN 2021'!V223 -> 678892.08 | T12: =IF($S$21=0,0,(S12/$S$21)*100) -> 36.250275 | W12: =SUM(F12:Q12) -> 100
A13: =CONCATENATE($E$6,"|",B13) -> 6|5 | B13: 5 | C13: MEIO-FIO E SARJETA | E13: 5 | F13: 0 | G13: 15 | H13: 30 | I13: 30 | J13: 25 | K13: 0 | L13: 0 | M13: 0 | N13: 0 | O13: 0 | P13: 0 | Q13: 0 | S13: ='orc DER JAN 2021'!V467 -> 54029.08 | T13: =IF($S$21=0,0,(S13/$S$21)*100) -> 2.884949 | W13: =SUM(F13:Q13) -> 100
A14: =CONCATENATE($E$6,"|",B14) -> 6|6 | B14: 6 | C14: PAISAGISMO / URBANISMO | E14: 3 | F14: 0 | G14: 5 | H14: 10 | I14: 30 | J14: 30 | K14: 25 | L14: 0 | M14: 0 | N14: 0 | O14: 0 | P14: 0 | Q14: 0 | S14: ='orc DER JAN 2021'!V522 -> 182134.95 | T14: =IF($S$21=0,0,(S14/$S$21)*100) -> 9.7253191 | W14: =SUM(F14:Q14) -> 100
A15: =CONCATENATE($E$6,"|",B15) -> 6|7 | B15: 7 | C15: SINALIZAÇÃO DE TRÂNSITO | E15: 5 | F15: 0 | G15: 0 | H15: 20 | I15: 20 | J15: 30 | K15: 30 | L15: 0 | M15: 0 | N15: 0 | O15: 0 | P15: 0 | Q15: 0 | S15: ='orc DER JAN 2021'!V719 -> 55596.86 | T15: =IF($S$21=0,0,(S15/$S$21)*100) -> 2.9686625 | W15: =SUM(F15:Q15) -> 100
A16: =CONCATENATE($E$6,"|",B16) -> 6|8 | B16: 8 | C16: ILUMINAÇÃO PÚBLICA | E16: 6 | F16: 0 | G16: 0 | H16: 20 | I16: 30 | J16: 30 | K16: 20 | L16: 0 | M16: 0 | N16: 0 | O16: 0 | P16: 0 | Q16: 0 | S16: ='orc DER JAN 2021'!V779 -> 52935.52 | T16: =IF($S$21=0,0,(S16/$S$21)*100) -> 2.826557 | W16: =SUM(F16:Q16) -> 100
A17: =CONCATENATE($E$6,"|",B17) -> 6|9 | B17: 9 | C17: SERVIÇOS DIVERSOS | E17: 6 | F17: 5 | G17: 15 | H17: 25 | I17: 25 | J17: 20 | K17: 10 | L17: 0 | M17: 0 | N17: 0 | O17: 0 | P17: 0 | Q17: 0 | T17: =IF($S$21=0,0,(S17/$S$21)*100) -> 0 | W17: =SUM(F17:Q17) -> 100
A18: =CONCATENATE($E$6,"|",B18) -> 6|10 | B18: 10 | C18: DRENAGEM | F18: 20 | G18: 30 | H18: 30 | I18: 15 | J18: 5 | K18: 0 | L18: 0 | M18: 0 | N18: 0 | O18: 0 | P18: 0 | Q18: 0 | S18: ='orc DER JAN 2021'!V1734 -> 278168.89 | T18: =IF($S$21=0,0,(S18/$S$21)*100) -> 14.853169 | W18: =SUM(F18:Q18) -> 100
A19: =CONCATENATE($E$6,"|",B19) -> 6|11 | B19: 11 | C19: ENSAIOS TECNOLÓGICOS | F19: 3 | G19: 12 | H19: 25 | I19: 28 | J19: 21 | K19: 11 | L19: 0 | M19: 0 | N19: 0 | O19: 0 | P19: 0 | Q19: 0 | S19: ='orc DER JAN 2021'!V2611 -> 28772.62 | T19: =IF($S$21=0,0,(S19/$S$21)*100) -> 1.5363493 | W19: =SUM(F19:Q19) -> 100
C21: TOTAIS | D21: TOTAIS | S21: =SUM(S9:S20) -> 1872791.5 | T21: =SUM(T9:T19) -> 100
B22: COMPOSIÇÃO DOS RECURSOS (FINANCIAMENTO E CONTRAPARTIDA)
B23: ITEM | F23: PARCELAS | R23: Nº DE | S23: TOTAL | T23: % S/
F24: =F6 -> 1 | G24: =G6 -> 2 | H24: =H6 -> 3 | I24: =I6 -> 4 | J24: =J6 -> 5 | K24: =K6 -> 6 | L24: =L6 -> 0 | M24: =M6 -> 0 | ... Q24: =Q6 -> 0 | R24: MESES | S24: ITEM | T24: ITEM
B25: 1T | C25: SERVIÇOS PRELIMINARES | D25: FINANCIAMENTO | E25: R$ | F25: =((F9/100)*$S$9)*$T$2 -> 1219.478 | G25: =((G9/100)*$S$9)*$T$2 -> 1829.217 | H25: =((H9/100)*$S$9)*$T$2 -> 1829.217 | I25: =((I9/100)*$S$9)*$T$2 -> 1219.478 | J25: =((J9/100)*$S$9)*$T$2 -> 0 | K25: =((K9/100)*$S$9)*$T$2 -> 0 | L25: =((L9/100)*$S$9)*$T$2 -> 0 | M25: =((M9/100)*$S$9)*$T$2 -> 0 | ... Q25: =((Q9/100)*$S$9)*$T$2 -> 0 | R25: =COUNTIF(F25:Q25,">0") -> 4 | S25: =SUM(F25:Q25) -> 6097.39 | T25: =IF($S$51=0,0,(S25/$S$51)) -> 0.0032557762
B26: 1C | D26: CONTRAPARTIDA | E26: R$ | F26: =((F9/100)*$S$9)*T3 -> 0 | G26: =((G9/100)*$S$9)*$T$3 -> 0 | H26: =((H9/100)*$S$9)*$T$3 -> 0 | I26: =((I9/100)*$S$9)*$T$3 -> 0 | J26: =((J9/100)*$S$9)*$T$3 -> 0 | K26: =((K9/100)*$S$9)*$T$3 -> 0 | L26: =((L9/100)*$S$9)*$T$3 -> 0 | M26: =((M9/100)*$S$9)*$T$3 -> 0 | N26: =((N9/100)*$S$9)*$T$3 -> 0 | ... Q26: =((Q9/100)*$S$9)*$T$3 -> 0 | R26: =COUNTIF(F26:Q26,">0") -> 0 | S26: =SUM(F26:Q26) -> 0 | T26: =IF($S$51=0,0,(S26/$S$51)) -> 0
B27: 2T | C27: TERRAPLENAGEM | D27: FINANCIAMENTO | E27: R$ | F27: =((F10/100)*$S$10)*$T$2 -> 3136.632 | G27: =((G10/100)*$S$10)*$T$2 -> 5227.72 | H27: =((H10/100)*$S$10)*$T$2 -> 6273.264 | I27: =((I10/100)*$S$10)*$T$2 -> 5227.72 | J27: =((J10/100)*$S$10)*$T$2 -> 1045.544 | K27: =((K10/100)*$S$10)*$T$2 -> 0 | L27: =((L10/100)*$S$10)*$T$2 -> 0 | M27: =((M10/100)*$S$10)*$T$2 -> 0 | ... Q27: =((Q10/100)*$S$10)*$T$2 -> 0 | R27: =COUNTIF(F27:Q27,">0") -> 5 | S27: =SUM(F27:Q27) -> 20910.88 | T27: =IF($S$51=0,0,(S27/$S$51)) -> 0.011165621
B28: 2C | D28: CONTRAPARTIDA | E28: R$ | F28: =((F10/100)*$S$10)*$T$3 -> 0 | G28: =((G10/100)*$S$10)*$T$3 -> 0 | H28: =((H10/100)*$S$10)*$T$3 -> 0 | I28: =((I10/100)*$S$10)*$T$3 -> 0 | J28: =((J10/100)*$S$10)*$T$3 -> 0 | K28: =((K10/100)*$S$10)*$T$3 -> 0 | L28: =((L10/100)*$S$10)*$T$3 -> 0 | M28: =((M10/100)*$S$10)*$T$3 -> 0 | ... Q28: =((Q10/100)*$S$10)*$T$3 -> 0 | R28: =COUNTIF(F28:Q28,">0") -> 0 | S28: =SUM(F28:Q28) -> 0 | T28: =IF($S$51=0,0,(S28/$S$51)) -> 0
B29: 3T | C29: BASE / SUB-BASE | D29: FINANCIAMENTO | E29: R$ | F29: =((F11/100)*$S$11)*$T$2 -> 25762.662 | G29: =((G11/100)*$S$11)*$T$2 -> 103050.65 | H29: =((H11/100)*$S$11)*$T$2 -> 154575.97 | I29: =((I11/100)*$S$11)*$T$2 -> 128813.31 | J29: =((J11/100)*$S$11)*$T$2 -> 103050.65 | K29: =((K11/100)*$S$11)*$T$2 -> 0 | L29: =((L11/100)*$S$11)*$T$2 -> 0 | M29: =((M11/100)*$S$11)*$T$2 -> 0 | ... Q29: =((Q11/100)*$S$11)*$T$2 -> 0 | R29: =COUNTIF(F29:Q29,">0") -> 5 | S29: =SUM(F29:Q29) -> 515253.24 | T29: =IF($S$51=0,0,(S29/$S$51)) -> 0.27512579
B30: 3C | D30: CONTRAPARTIDA | E30: R$ | F30: =((F11/100)*$S$11)*$T$3 -> 0 | G30: =((G11/100)*$S$11)*$T$3 -> 0 | H30: =((H11/100)*$S$11)*$T$3 -> 0 | I30: =((I11/100)*$S$11)*$T$3 -> 0 | J30: =((J11/100)*$S$11)*$T$3 -> 0 | K30: =((K11/100)*$S$11)*$T$3 -> 0 | L30: =((L11/100)*$S$11)*$T$3 -> 0 | M30: =((M11/100)*$S$11)*$T$3 -> 0 | ... Q30: =((Q11/100)*$S$11)*$T$3 -> 0 | R30: =COUNTIF(F30:Q30,">0") -> 0 | S30: =SUM(F30:Q30) -> 0 | T30: =IF($S$51=0,0,(S30/$S$51)) -> 0
B31: 4T | C31: REVESTIMENTO | D31: FINANCIAMENTO | E31: R$ | F31: =((F12/100)*$S$12)*T2 -> 0 | G31: =((G12/100)*$S$12)*$T$2 -> 33944.604 | H31: =((H12/100)*$S$12)*$T$2 -> 135778.42 | I31: =((I12/100)*$S$12)*$T$2 -> 203667.62 | J31: =((J12/100)*$S$12)*$T$2 -> 169723.02 | K31: =((K12/100)*$S$12)*$T$2 -> 135778.42 | L31: =((L12/100)*$S$12)*$T$2 -> 0 | M31: =((M12/100)*$S$12)*$T$2 -> 0 | N31: =((N12/100)*$S$12)*$T$2 -> 0 | ... Q31: =((Q12/100)*$S$12)*$T$2 -> 0 | R31: =COUNTIF(F31:Q31,">0") -> 5 | S31: =SUM(F31:Q31) -> 678892.08 | T31: =IF($S$51=0,0,(S31/$S$51)) -> 0.36250275
B32: 4C | D32: CONTRAPARTIDA | E32: R$ | F32: =((F12/100)*$S$12)*$T$3 -> 0 | G32: =((G12/100)*$S$12)*$T$3 -> 0 | H32: =((H12/100)*$S$12)*$T$3 -> 0 | I32: =((I12/100)*$S$12)*$T$3 -> 0 | J32: =((J12/100)*$S$12)*$T$3 -> 0 | K32: =((K12/100)*$S$12)*$T$3 -> 0 | L32: =((L12/100)*$S$12)*$T$3 -> 0 | M32: =((M12/100)*$S$12)*$T$3 -> 0 | ... Q32: =((Q12/100)*$S$12)*$T$3 -> 0 | R32: =COUNTIF(F32:Q32,">0") -> 0 | S32: =SUM(F32:Q32) -> 0 | T32: =IF($S$51=0,0,(S32/$S$51)) -> 0
B33: 5T | C33: MEIO-FIO E SARJETA | D33: FINANCIAMENTO | E33: R$ | F33: =((F13/100)*$S$13)*$T$2 -> 0 | G33: =((G13/100)*$S$13)*$T$2 -> 8104.362 | H33: =((H13/100)*$S$13)*$T$2 -> 16208.724 | I33: =((I13/100)*$S$13)*$T$2 -> 16208.724 | J33: =((J13/100)*$S$13)*$T$2 -> 13507.27 | K33: =((K13/100)*$S$13)*$T$2 -> 0 | L33: =((L13/100)*$S$13)*$T$2 -> 0 | M33: =((M13/100)*$S$13)*$T$2 -> 0 | ... Q33: =((Q13/100)*$S$13)*$T$2 -> 0 | R33: =COUNTIF(F33:Q33,">0") -> 4 | S33: =SUM(F33:Q33) -> 54029.08 | T33: =IF($S$51=0,0,(S33/$S$51)) -> 0.02884949
B34: 5C | D34: CONTRAPARTIDA | E34: R$ | F34: =((F13/100)*$S$13)*$T$3 -> 0 | G34: =((G13/100)*$S$13)*$T$3 -> 0 | H34: =((H13/100)*$S$13)*$T$3 -> 0 | I34: =((I13/100)*$S$13)*$T$3 -> 0 | J34: =((J13/100)*$S$13)*$T$3 -> 0 | K34: =((K13/100)*$S$13)*$T$3 -> 0 | L34: =((L13/100)*$S$13)*$T$3 -> 0 | M34: =((M13/100)*$S$13)*$T$3 -> 0 | ... Q34: =((Q13/100)*$S$13)*$T$3 -> 0 | R34: =COUNTIF(F34:Q34,">0") -> 0 | S34: =SUM(F34:Q34) -> 0 | T34: =IF($S$51=0,0,(S34/$S$51)) -> 0
B35: 6T | C35: PAISAGISMO / URBANISMO | D35: FINANCIAMENTO | E35: R$ | F35: =((F14/100)*$S$14)*$T$2 -> 0 | G35: =((G14/100)*$S$14)*$T$2 -> 9106.7475 | H35: =((H14/100)*$S$14)*$T$2 -> 18213.495 | I35: =((I14/100)*$S$14)*$T$2 -> 54640.485 | J35: =((J14/100)*$S$14)*$T$2 -> 54640.485 | K35: =((K14/100)*$S$14)*$T$2 -> 45533.738 | L35: =((L14/100)*$S$14)*$T$2 -> 0 | M35: =((M14/100)*$S$14)*$T$2 -> 0 | ... Q35: =((Q14/100)*$S$14)*$T$2 -> 0 | R35: =COUNTIF(F35:Q35,">0") -> 5 | S35: =SUM(F35:Q35) -> 182134.95 | T35: =IF($S$51=0,0,(S35/$S$51)) -> 0.097253191
B36: 6C | D36: CONTRAPARTIDA | E36: R$ | F36: =((F14/100)*$S$14)*$T$3 -> 0 | G36: =((G14/100)*$S$14)*$T$3 -> 0 | H36: =((H14/100)*$S$14)*$T$3 -> 0 | I36: =((I14/100)*$S$14)*$T$3 -> 0 | J36: =((J14/100)*$S$14)*$T$3 -> 0 | K36: =((K14/100)*$S$14)*$T$3 -> 0 | L36: =((L14/100)*$S$14)*$T$3 -> 0 | M36: =((M14/100)*$S$14)*$T$3 -> 0 | ... Q36: =((Q14/100)*$S$14)*$T$3 -> 0 | R36: =COUNTIF(F36:Q36,">0") -> 0 | S36: =SUM(F36:Q36) -> 0 | T36: =IF($S$51=0,0,(S36/$S$51)) -> 0
B37: 7T | C37: SINALIZAÇÃO DE TRÂNSITO | D37: FINANCIAMENTO | E37: R$ | F37: =((F15/100)*$S$15)*$T$2 -> 0 | G37: =((G15/100)*$S$15)*$T$2 -> 0 | H37: =((H15/100)*$S$15)*$T$2 -> 11119.372 | I37: =((I15/100)*$S$15)*$T$2 -> 11119.372 | J37: =((J15/100)*$S$15)*$T$2 -> 16679.058 | K37: =((K15/100)*$S$15)*$T$2 -> 16679.058 | L37: =((L15/100)*$S$15)*$T$2 -> 0 | M37: =((M15/100)*$S$15)*$T$2 -> 0 | ... Q37: =((Q15/100)*$S$15)*$T$2 -> 0 | R37: =COUNTIF(F37:Q37,">0") -> 4 | S37: =SUM(F37:Q37) -> 55596.86 | T37: =IF($S$51=0,0,(S37/$S$51)) -> 0.029686625
B38: 7C | D38: CONTRAPARTIDA | E38: R$ | F38: =((F15/100)*$S$15)*$T$3 -> 0 | G38: =((G15/100)*$S$15)*$T$3 -> 0 | H38: =((H15/100)*$S$15)*$T$3 -> 0 | I38: =((I15/100)*$S$15)*$T$3 -> 0 | J38: =((J15/100)*$S$15)*$T$3 -> 0 | K38: =((K15/100)*$S$15)*$T$3 -> 0 | L38: =((L15/100)*$S$15)*$T$3 -> 0 | M38: =((M15/100)*$S$15)*$T$3 -> 0 | ... Q38: =((Q15/100)*$S$15)*$T$3 -> 0 | R38: =COUNTIF(F38:Q38,">0") -> 0 | S38: =SUM(F38:Q38) -> 0 | T38: =IF($S$51=0,0,(S38/$S$51)) -> 0
B39: 8T | C39: ILUMINAÇÃO PÚBLICA | D39: FINANCIAMENTO | E39: R$ | F39: =((F16/100)*$S$16)*$T$2 -> 0 | G39: =((G16/100)*$S$16)*$T$2 -> 0 | H39: =((H16/100)*$S$16)*$T$2 -> 10587.104 | I39: =((I16/100)*$S$16)*$T$2 -> 15880.656 | J39: =((J16/100)*$S$16)*$T$2 -> 15880.656 | K39: =((K16/100)*$S$16)*$T$2 -> 10587.104 | L39: =((L16/100)*$S$16)*$T$2 -> 0 | M39: =((M16/100)*$S$16)*$T$2 -> 0 | ... Q39: =((Q16/100)*$S$16)*$T$2 -> 0 | R39: =COUNTIF(F39:Q39,">0") -> 4 | S39: =SUM(F39:Q39) -> 52935.52 | T39: =IF($S$51=0,0,(S39/$S$51)) -> 0.02826557
B40: 8C | D40: CONTRAPARTIDA | E40: R$ | F40: =((F16/100)*$S$16)*$T$3 -> 0 | G40: =((G16/100)*$S$16)*$T$3 -> 0 | H40: =((H16/100)*$S$16)*$T$3 -> 0 | I40: =((I16/100)*$S$16)*$T$3 -> 0 | J40: =((J16/100)*$S$16)*$T$3 -> 0 | K40: =((K16/100)*$S$16)*$T$3 -> 0 | L40: =((L16/100)*$S$16)*$T$3 -> 0 | M40: =((M16/100)*$S$16)*$T$3 -> 0 | ... Q40: =((Q16/100)*$S$16)*$T$3 -> 0 | R40: =COUNTIF(F40:Q40,">0") -> 0 | S40: =SUM(F40:Q40) -> 0 | T40: =IF($S$51=0,0,(S40/$S$51)) -> 0
B41: 9T | C41: SERVIÇOS DIVERSOS | D41: FINANCIAMENTO | E41: R$ | F41: =((F17/100)*$S$17)*$T$2 -> 0 | G41: =((G17/100)*$S$17)*$T$2 -> 0 | H41: =((H17/100)*$S$17)*$T$2 -> 0 | I41: =((I17/100)*$S$17)*$T$2 -> 0 | J41: =((J17/100)*$S$17)*$T$2 -> 0 | K41: =((K17/100)*$S$17)*$T$2 -> 0 | L41: =((L17/100)*$S$17)*$T$2 -> 0 | M41: =((M17/100)*$S$17)*$T$2 -> 0 | ... Q41: =((Q17/100)*$S$17)*$T$2 -> 0 | R41: =COUNTIF(F41:Q41,">0") -> 0 | S41: =SUM(F41:Q41) -> 0 | T41: =IF($S$51=0,0,(S41/$S$51)) -> 0
...

Sheet BDI
A1: BDI - ACÓRDÃO Nº 2622/2013 – TCU PAVIMENTAÇÃO
A2: IMPOSTOS | B2: ISS = | C2: =B26 -> 0.2
B3: PIS = | C3: 0.65
B4: COFINS = | C4: 3
B5: CPMF = | C5: 0
B6: TOTAL = | C6: =SUM(C2:C5) -> 3.85
A7: TIPO DE SERVIÇO | B7: OBRAS | C7: MATERIAIS
A8: ADMINISTRAÇÃO CENTRAL | B8: 4.67 | C8: 4.49
A9: RISCOS | B9: 0.97 | C9: 0.82
A10: SEGUROS E GRANTIAS | B10: 0.74 | C10: 0.89
A11: DESPESAS FINANCEIRAS | B11: 1.21 | C11: 1.11
A12: LUCRO | B12: 8.69 | C12: 6.22
A13: BDI (OBRA OU MATERIAIS/EQUIP.) | B13: =(((((1+(B8+B9+B10)/100)*(1+B11/100)*(1+B12/100))/(1-C6/100))-1)*100) -> 21.709285 | C13: =(((((1+(C8+C9+C10)/100)*(1+C11/100)*(1+C12/100))/(1-(C3+C4+C5)/100))-1)*100) -> 18.378602
A14: BDI=(((((1+(C8+C9+C10)/100)*(1+C11/100)*(1+C12/100))/(1-C6/100))-1)*100)
A15: BDI (OBRA) | B15: =IF(D15="X",0,ROUND(B13,2)/100) -> 0.2171 | F15: Digite "X" para obter Valor Total sem BDI
A17: BDI (MATERIAIS E EQUIPAMENTOS) | B17: =IF(D15="X",0,ROUND(C13,2)/100) -> 0.1838
B22: DIGITE
A23: 1 - Solicitar o valor do ISS do município | B23: 2 | C23: %
A24: 2- Solicitar a "Base de Cálculo" (% de mão de Obra) | B24: 10 | C24: %
A25: 3- Fórmula de cálculo do ISS | B25: =ISS x base de cálculo | C25: %
A26: 4- Valor do ISS calculado (Máximo : 2,50%) | B26: =ROUND(B23*B24/100,4) -> 0.2 | C26: %
A28: VALORES DO BDI POR TIPO DE OBRA
A29: TIPOS DE OBRA | B29: 1º Quartil | C29: Médio | D29: 3º Quartil
A30: CONSTRUÇÃO DE EDIFÍCIOS | B30: 0.2034 | C30: 0.2212 | D30: 0.25
A31: CONSTRUÇÃO DE RODOVIAS E FERROVIAS | B31: 0.196 | C31: 0.2095 | D31: 0.2423
A32: CONSTRUÇÃO DE REDES DE ABASTECIMENTO DE ÁGUA, COLETA DE ESGOTO E CONSTRUÇÕES CORRELATAS | B32: 0.2076 | C32: 0.2418 | D32: 0.2644
A33: CONSTRUÇÃO E MANUTENÇÃO DE ESTAÇÕES E REDES DE DISTRIBUIÇÃO DE ENERGIA ELÉTRICA | B33: 0.24 | C33: 0.2584 | D33: 0.2786
A34: OBRAS PORTUÁRIAS, MARÍTIMAS E FLUVIAIS | B34: 0.228 | C34: 0.2748 | D34: 0.3095
A37: BDI PARA ITENS DE MERO FORNECIMENTO DE MATERIAIS E EQUIPAMENTOS | B37: 1º Quartil | C37: Médio | D37: 3º Quartil
B38: 0.111 | C38: 0.1402 | D38: 0.168
A41: TIPOS DE OBRA | B41: ADMINISTRAÇÃO CENTRAL | E41: RISCO | H41: SEGURO + GARANTIA | K41: DESPESA FINANCEIRA | N41: LUCRO
B42: 1º Quartil | C42: Médio | D42: 3º Quartil | E42: 1º Quartil | F42: Médio | G42: 3º Quartil | H42: 1º Quartil | I42: Médio | J42: 3º Quartil | K42: 1º Quartil | L42: Médio | M42: 3º Quartil | N42: 1º Quartil | O42: Médio | P42: 3º Quartil
A43: CONSTRUÇÃO DE EDIFÍCIOS | B43: 0.03 | C43: 0.04 | D43: 0.055 | E43: 0.0097 | F43: 0.0127 | G43: 0.0127 | H43: 0.008 | I43: 0.008 | J43: 0.01 | K43: 0.0059 | L43: 0.0123 | M43: 0.0139 | N43: 0.0616 | O43: 0.074 | P43: 0.0896
A44: CONSTRUÇÃO DE RODOVIAS E FERROVIAS | B44: 0.038 | C44: 0.0401 | D44: 0.0467 | E44: 0.005 | F44: 0.0056 | G44: 0.0097 | H44: 0.0032 | I44: 0.004 | J44: 0.0074 | K44: 0.0102 | L44: 0.0111 | M44: 0.0121 | N44: 0.0664 | O44: 0.073 | P44: 0.0869
A45: CONSTRUÇÃO DE REDES DE ABASTECIMENTO DE ÁGUA, COLETA DE ESGOTO E CONSTRUÇÕES CORRELATAS | B45: 0.0343 | C45: 0.0493 | D45: 0.0671 | E45: 0.01 | F45: 0.0139 | G45: 0.0174 | H45: 0.0028 | I45: 0.0049 | J45: 0.0075 | K45: 0.0094 | L45: 0.0099 | M45: 0.0117 | N45: 0.0674 | O45: 0.0804 | P45: 0.094
A46: CONSTRUÇÃO E MANUTENÇÃO DE ESTAÇÕES E REDES DE DISTRIBUIÇÃO DE ENERGIA ELÉTRICA | B46: 0.0529 | C46: 0.0592 | D46: 0.0793 | E46: 0.01 | F46: 0.0148 | G46: 0.0197 | H46: 0.0025 | I46: 0.0051 | J46: 0.0056 | K46: 0.0101 | L46: 0.0107 | M46: 0.0111 | N46: 0.08 | O46: 0.0831 | P46: 0.0951
A47: OBRAS PORTUÁRIAS, MARÍTIMAS E FLUVIAIS | B47: 0.04 | C47: 0.0552 | D47: 0.0785 | E47: 0.0146 | F47: 0.0232 | G47: 0.0316 | H47: 0.0081 | I47: 0.0122 | J47: 0.0199 | K47: 0.0094 | L47: 0.0102 | M47: 0.0133 | N47: 0.0714 | O47: 0.084 | P47: 0.1043
A50: BDI PARA ITENS DE MERO FORNECIMENTO DE MATERIAIS E EQUIPAMENTOS
A51: PARCELA DO BDI | B51: 1º Quartil | C51: Médio | D51: 3º Quartil
A52: ADMINISTRAÇÃO CENTRAL | B52: 0.015 | C52: 0.0345 | D52: 0.0449
...

Sheet Grandes Itens
A1: GRANDES ITENS
A2: Município: | B2: PIÊN | E2: SAM | F2: 58
A3: Projeto: | B3: PAVIMENTAÇÃO DE ESTRADAS VICINAIS | E3: LOTE nº | F3: 1
F4: ( R$ ) - PM TOTAIS | G4: Grandes Ítens (%)
A5: 1 | B5: SERVIÇOS PRELIMINARES | F5: ='orc DER JAN 2021'!V18 -> 6097.39 | G5: =IF(F5=0,0,ROUND(F5/$F$17,4)) -> 0.0033
A6: 2 | B6: TERRAPLENAGEM | F6: ='orc DER JAN 2021'!V68 -> 20910.88 | G6: =IF(F6=0,0,ROUND(F6/$F$17,4)) -> 0.0112
A7: 3 | B7: BASE / SUB-BASE | F7: ='orc DER JAN 2021'!V113 -> 515253.24 | G7: =IF(F7=0,0,ROUND(F7/$F$17,4)) -> 0.2751
A8: 4 | B8: REVESTIMENTO | F8: ='orc DER JAN 2021'!V223 -> 678892.08 | G8: =IF(F8=0,0,ROUND(F8/$F$17,4)) -> 0.3625
A9: 5 | B9: MEIO-FIO E SARJETA | F9: ='orc DER JAN 2021'!V467 -> 54029.08 | G9: =IF(F9=0,0,ROUND(F9/$F$17,4)) -> 0.0288
A10: 6 | B10: PAISAGISMO / URBANISMO | F10: ='orc DER JAN 2021'!V522 -> 182134.95 | G10: =IF(F10=0,0,ROUND(F10/$F$17,4)) -> 0.0973
A11: 7 | B11: SINALIZAÇÃO DE TRÂNSITO | F11: ='orc DER JAN 2021'!V719 -> 55596.86 | G11: =IF(F11=0,0,ROUND(F11/$F$17,4)) -> 0.0297
A12: 8 | B12: ILUMINAÇÃO PÚBLICA | F12: ='orc DER JAN 2021'!V779 -> 52935.52 | G12: =IF(F12=0,0,ROUND(F12/$F$17,4)) -> 0.0283
A13: 9 | B13: SERVIÇOS DIVERSOS | G13: =IF(F13=0,0,ROUND(F13/$F$17,4)) -> 0
A14: 10 | B14: DRENAGEM | F14: ='orc DER JAN 2021'!V1734 -> 278168.89 | G14: =IF(F14=0,0,ROUND(F14/$F$17,4)) -> 0.1485
A15: 11 | B15: ENSAIOS TECNOLÓGICOS | F15: ='orc DER JAN 2021'!V2611 -> 28772.62 | G15: =IF(F15=0,0,ROUND(F15/$F$17,4)) -> 0.0154
A17: x | C17: TOTAL GERAL | E17: 0 | F17: =SUM(F5:F15) -> 1872791.5 | G17: =SUM(G5:G16) -> 1.0001
A18: Experiência: | D18: Quantidade (projeto) | E18: Unid | F18: Quantidade Edital (50%)
A19: Pavimentação em Concreto Betuminoso Usinado à Quente - CBUQ | D19: ='orc DER JAN 2021'!R391 -> 1173.3 | E19: ton | F19: =ROUND(D19*0.5,-1) -> 590

Sheet ENSAIOS DE ORÇAMENTO
A2: CICLÓP 11 mpa m3 | C2: serviço | E2: TIJOLO | F2: cimen | G2: areia | H2: brita | I2: tubo ø60 610.600 | J2: custo exec | K2: tampão 161125 | L2: CAL | M2: Pedra Argamassada m3 | N2: forma m2 | O2: TIJOLO M3 | P2: concr magr | Q2: Concr 11mpa | R2: Concr 15mpa | S2: Concr 18 mpa | T2: argamas M2 | U2: aço ca 25 | V2: aço ca 50 | W2: aço ca 60 | X2: grelha
C3: B.L. Símples alvenaria H até 1,20 m | E3: =O3*0.846 -> 0.87984 | F3: =A3*0.231+M3*0.1+O3*0.0588+P3*0.18+Q3*0.27+R3*0.33+T3*0.005*0.434 -> 0.1154104 | G3: =A3*0.6447+M3*0.51+O3*0.396+P3*1.06+Q3*0.96+R3*0.921+T3*0.005*1.575 -> 0.62209 | H3: =A3*(0.777+0.45)+M3*(1.5)+P3*1.11+Q3*1.11+R3*1.11 -> 0.20424 | J3: =A3*306.45+M3*238+N3*90.76+O3*438+P3*340.38+Q3*378.52+R3*404.81+S3*411.043+T3*412.45*0.005+U3*17.12+V3*18.08+W3*19.34+X3*234.12+K3*436.99+I3*367.03 -> 1106.2077 | L3: =O3*0.0282 -> 0.029328 | N3: =ROUND(1.5*1.25/4,2) -> 0.47 | O3: =ROUND(O4/1.5*1.2,2) -> 1.04 | P3: 0.094 | R3: 0.09 | T3: =ROUND(T4/1.5*1.2,2) -> 3.52 | W3: 15.42 | X3: 1
C4: B.L. Símples alvenaria H até 1,50 m | E4: =O4*0.846 -> 1.0998 | F4: =A4*0.231+M4*0.1+O4*0.0588+P4*0.18+Q4*0.27+R4*0.33+T4*0.005*0.434 -> 0.132608 | G4: =A4*0.6447+M4*0.51+O4*0.396+P4*1.06+Q4*0.96+R4*0.921+T4*0.005*1.575 -> 0.73198 | H4: =A4*(0.777+0.45)+M4*(1.5)+P4*1.11+Q4*1.11+R4*1.11 -> 0.20424 | J4: =A4*306.45+M4*238+N4*90.76+O4*438+P4*340.38+Q4*378.52+R4*404.81+S4*411.043+T4*412.45*0.005+U4*17.12+V4*18.08+W4*19.34+X4*234.12+K4*436.99+I4*367.03 -> 1221.9025 | L4: =O4*0.0282 -> 0.03666 | N4: =ROUND(1.5*1.25/4,2) -> 0.47 | O4: =ROUND(0.89*2*0.25*(1.5+0.75)*1.3,2) -> 1.3 | P4: 0.094 | R4: 0.09 | T4: 4.4 | W4: 15.42 | X4: 1
C5: B.L. Símples alvenaria H até 2,00 m | E5: =O5*0.846 -> 1.46358 | F5: =A5*0.231+M5*0.1+O5*0.0588+P5*0.18+Q5*0.27+R5*0.33+T5*0.005*0.434 -> 0.1610819 | G5: =A5*0.6447+M5*0.51+O5*0.396+P5*1.06+Q5*0.96+R5*0.921+T5*0.005*1.575 -> 0.91383625 | H5: =A5*(0.777+0.45)+M5*(1.5)+P5*1.11+Q5*1.11+R5*1.11 -> 0.20424 | J5: =A5*306.45+M5*238+N5*90.76+O5*438+P5*340.38+Q5*378.52+R5*404.81+S5*411.043+T5*412.45*0.005+U5*17.12+V5*18.08+W5*19.34+X5*234.12+K5*436.99+I5*367.03 -> 1413.274 | L5: =O5*0.0282 -> 0.048786 | N5: =ROUND(1.5*1.25/4,2) -> 0.47 | O5: =ROUND(O4/1.5*2,2) -> 1.73 | P5: 0.094 | R5: 0.09 | T5: =ROUND(T4/1.5*2,2) -> 5.87 | W5: 15.42 | X5: 1
C6: B.L. Símples alvenaria H até 2,50 m | E6: =O6*0.846 -> 1.83582 | F6: =A6*0.231+M6*0.1+O6*0.0588+P6*0.18+Q6*0.27+R6*0.33+T6*0.005*0.434 -> 0.1901221 | G6: =A6*0.6447+M6*0.51+O6*0.396+P6*1.06+Q6*0.96+R6*0.921+T6*0.005*1.575 -> 1.0995738 | H6: =A6*(0.777+0.45)+M6*(1.5)+P6*1.11+Q6*1.11+R6*1.11 -> 0.20424 | J6: =A6*306.45+M6*238+N6*90.76+O6*438+P6*340.38+Q6*378.52+R6*404.81+S6*411.043+T6*412.45*0.005+U6*17.12+V6*18.08+W6*19.34+X6*234.12+K6*436.99+I6*367.03 -> 1609.0049 | L6: =O6*0.0282 -> 0.061194 | N6: =ROUND(1.5*1.25/4,2) -> 0.47 | O6: =ROUND(O4/1.5*2.5,2) -> 2.17 | P6: 0.094 | R6: 0.09 | T6: =ROUND(T4/1.5*2.5,2) -> 7.33 | W6: 15.42 | X6: 1
C7: B.L. Símples pré-moldado H até 1,20 m | E7: =O7*0.846 -> 0 | F7: =A7*0.231+M7*0.1+O7*0.0588+P7*0.18+Q7*0.27+R7*0.33+T7*0.005*0.434 -> 0.43266 | G7: =A7*0.6447+M7*0.51+O7*0.396+P7*1.06+Q7*0.96+R7*0.921+T7*0.005*1.575 -> 1.26997 | H7: =A7*(0.777+0.45)+M7*(1.5)+P7*1.11+Q7*1.11+R7*1.11 -> 1.51182 | J7: =A7*306.45+M7*238+N7*90.76+O7*438+P7*340.38+Q7*378.52+R7*404.81+S7*411.043+T7*412.45*0.005+U7*17.12+V7*18.08+W7*19.34+X7*234.12+K7*436.99+I7*367.03 -> 895.78926 | L7: =O7*0.0282 -> 0 | N7: =N11/2 -> 1.295 | P7: 0.112 | R7: =ROUND(1.58/1.45*1.15,2) -> 1.25 | X7: 1
C8: B.L. Símples pré-moldado H até 1,50 m | E8: =O8*0.846 -> 0 | F8: =A8*0.231+M8*0.1+O8*0.0588+P8*0.18+Q8*0.27+R8*0.33+T8*0.005*0.434 -> 0.54156 | G8: =A8*0.6447+M8*0.51+O8*0.396+P8*1.06+Q8*0.96+R8*0.921+T8*0.005*1.575 -> 1.5739 | H8: =A8*(0.777+0.45)+M8*(1.5)+P8*1.11+Q8*1.11+R8*1.11 -> 1.87812 | J8: =A8*306.45+M8*238+N8*90.76+O8*438+P8*340.38+Q8*378.52+R8*404.81+S8*411.043+T8*412.45*0.005+U8*17.12+V8*18.08+W8*19.34+X8*234.12+K8*436.99+I8*367.03 -> 1060.235 | L8: =O8*0.0282 -> 0 | N8: =N12/2 -> 1.635 | P8: 0.112 | R8: 1.58 | X8: 1
C9: B.L. Símples pré-moldado H até 2,00 m | E9: =O9*0.846 -> 0 | F9: =A9*0.231+M9*0.1+O9*0.0588+P9*0.18+Q9*0.27+R9*0.33+T9*0.005*0.434 -> 0.71976 | G9: =A9*0.6447+M9*0.51+O9*0.396+P9*1.06+Q9*0.96+R9*0.921+T9*0.005*1.575 -> 2.07124 | H9: =A9*(0.777+0.45)+M9*(1.5)+P9*1.11+Q9*1.11+R9*1.11 -> 2.47752 | J9: =A9*306.45+M9*238+N9*90.76+O9*438+P9*340.38+Q9*378.52+R9*404.81+S9*411.043+T9*412.45*0.005+U9*17.12+V9*18.08+W9*19.34+X9*234.12+K9*436.99+I9*367.03 -> 1330.1118 | L9: =O9*0.0282 -> 0 | N9: =N13/2 -> 2.2 | P9: 0.112 | R9: =ROUND(1.58/1.45*1.95,2) -> 2.12 | X9: 1
C10: B.L. Símples pré-moldado H até 2,50 m | E10: =O10*0.846 -> 0 | F10: =A10*0.231+M10*0.1+O10*0.0588+P10*0.18+Q10*0.27+R10*0.33+T10*0.005*0.434 -> 0.90126 | G10: =A10*0.6447+M10*0.51+O10*0.396+P10*1.06+Q10*0.96+R10*0.921+T10*0.005*1.575 -> 2.57779 | H10: =A10*(0.777+0.45)+M10*(1.5)+P10*1.11+Q10*1.11+R10*1.11 -> 3.08802 | J10: =A10*306.45+M10*238+N10*90.76+O10*438+P10*340.38+Q10*378.52+R10*404.81+S10*411.043+T10*412.45*0.005+U10*17.12+V10*18.08+W10*19.34+X10*234.12+K10*436.99+I10*367.03 -> 1604.0367 | L10: =O10*0.0282 -> 0 | N10: =N14/2 -> 2.765 | P10: 0.112 | R10: =ROUND(1.58/1.45*2.45,2) -> 2.67 | X10: 1
C11: B.L. Símples concreto armado H até 1,20 m | E11: =O11*0.846 -> 0 | F11: =A11*0.231+M11*0.1+O11*0.0588+P11*0.18+Q11*0.27+R11*0.33+T11*0.005*0.434 -> 0.20478 | G11: =A11*0.6447+M11*0.51+O11*0.396+P11*1.06+Q11*0.96+R11*0.921+T11*0.005*1.575 -> 0.60275 | H11: =A11*(0.777+0.45)+M11*(1.5)+P11*1.11+Q11*1.11+R11*1.11 -> 0.71706 | J11: =A11*306.45+M11*238+N11*90.76+O11*438+P11*340.38+Q11*378.52+R11*404.81+S11*411.043+T11*412.45*0.005+U11*17.12+V11*18.08+W11*19.34+X11*234.12+K11*436.99+I11*367.03 -> 1723.0976 | L11: =O11*0.0282 -> 0 | N11: =ROUND(N12/1.45*1.15,2) -> 2.59 | P11: =0.112/2 -> 0.056 | R11: =ROUND(R12/1.45*1.15,2) -> 0.59 | W11: =ROUND(W12/1.45*1.15,2) -> 51.5 | X11: 1
C12: B.L. Símples concreto armado H até 1,50 m | E12: =O12*0.846 -> 0 | F12: =A12*0.231+M12*0.1+O12*0.0588+P12*0.18+Q12*0.27+R12*0.33+T12*0.005*0.434 -> 0.25758 | G12: =A12*0.6447+M12*0.51+O12*0.396+P12*1.06+Q12*0.96+R12*0.921+T12*0.005*1.575 -> 0.75011 | H12: =A12*(0.777+0.45)+M12*(1.5)+P12*1.11+Q12*1.11+R12*1.11 -> 0.89466 | J12: =A12*306.45+M12*238+N12*90.76+O12*438+P12*340.38+Q12*378.52+R12*404.81+S12*411.043+T12*412.45*0.005+U12*17.12+V12*18.08+W12*19.34+X12*234.12+K12*436.99+I12*367.03 -> 2109.5136 | L12: =O12*0.0282 -> 0 | N12: =ROUND(9.8/3,2) -> 3.27 | P12: =0.112/2 -> 0.056 | R12: 0.75 | W12: 64.94 | X12: 1
C13: B.L. Símples concreto armado H até 2,00 m | E13: =O13*0.846 -> 0 | F13: =A13*0.231+M13*0.1+O13*0.0588+P13*0.18+Q13*0.27+R13*0.33+T13*0.005*0.434 -> 0.34338 | G13: =A13*0.6447+M13*0.51+O13*0.396+P13*1.06+Q13*0.96+R13*0.921+T13*0.005*1.575 -> 0.98957 | H13: =A13*(0.777+0.45)+M13*(1.5)+P13*1.11+Q13*1.11+R13*1.11 -> 1.18326 | J13: =A13*306.45+M13*238+N13*90.76+O13*438+P13*340.38+Q13*378.52+R13*404.81+S13*411.043+T13*412.45*0.005+U13*17.12+V13*18.08+W13*19.34+X13*234.12+K13*436.99+I13*367.03 -> 2317.323 | L13: =O13*0.0282 -> 0 | N13: =ROUND(N12/1.45*1.95,2) -> 4.4 | P13: =0.112/2 -> 0.056 | R13: =ROUND(R12/1.45*1.95,2) -> 1.01 | W13: =ROUND(W12/1.95*1.95,2) -> 64.94 | X13: 1
C14: B.L. Símples concreto armado H até 2,50 m | E14: =O14*0.846 -> 0 | F14: =A14*0.231+M14*0.1+O14*0.0588+P14*0.18+Q14*0.27+R14*0.33+T14*0.005*0.434 -> 0.42918 | G14: =A14*0.6447+M14*0.51+O14*0.396+P14*1.06+Q14*0.96+R14*0.921+T14*0.005*1.575 -> 1.22903 | H14: =A14*(0.777+0.45)+M14*(1.5)+P14*1.11+Q14*1.11+R14*1.11 -> 1.47186 | J14: =A14*306.45+M14*238+N14*90.76+O14*438+P14*340.38+Q14*378.52+R14*404.81+S14*411.043+T14*412.45*0.005+U14*17.12+V14*18.08+W14*19.34+X14*234.12+K14*436.99+I14*367.03 -> 2847.1434 | L14: =O14*0.0282 -> 0 | N14: =ROUND(N12/1.45*2.45,2) -> 5.53 | P14: =0.112/2 -> 0.056 | R14: =ROUND(R12/1.45*2.45,2) -> 1.27 | W14: =ROUND(W12/1.95*2.45,2) -> 81.59 | X14: 1
C15: B.L. Dupla Alvenaria H até 1,20 m | E15: =O15*0.846 -> 1.671696 | F15: =A15*0.231+M15*0.1+O15*0.0588+P15*0.18+Q15*0.27+R15*0.33+T15*0.005*0.434 -> 0.2047668 | G15: =A15*0.6447+M15*0.51+O15*0.396+P15*1.06+Q15*0.96+R15*0.921+T15*0.005*1.575 -> 1.129303 | H15: =A15*(0.777+0.45)+M15*(1.5)+P15*1.11+Q15*1.11+R15*1.11 -> 0.388056 | J15: =A15*306.45+M15*238+N15*90.76+O15*438+P15*340.38+Q15*378.52+R15*404.81+S15*411.043+T15*412.45*0.005+U15*17.12+V15*18.08+W15*19.34+X15*234.12+K15*436.99+I15*367.03 -> 2111.4144 | L15: =O15*0.0282 -> 0.0557232 | N15: =N3*1.9 -> 0.893 | O15: =O3*1.9 -> 1.976 | P15: =P3*1.9 -> 0.1786 | R15: =R3*1.9 -> 0.171 | W15: =W3*1.9 -> 29.298 | X15: 2
C16: B.L. Dupla Alvenaria H até 1,50 m | E16: =O16*0.846 -> 2.08962 | F16: =A16*0.231+M16*0.1+O16*0.0588+P16*0.18+Q16*0.27+R16*0.33+T16*0.005*0.434 -> 0.233814 | G16: =A16*0.6447+M16*0.51+O16*0.396+P16*1.06+Q16*0.96+R16*0.921+T16*0.005*1.575 -> 1.324927 | H16: =A16*(0.777+0.45)+M16*(1.5)+P16*1.11+Q16*1.11+R16*1.11 -> 0.388056 | J16: =A16*306.45+M16*238+N16*90.76+O16*438+P16*340.38+Q16*378.52+R16*404.81+S16*411.043+T16*412.45*0.005+U16*17.12+V16*18.08+W16*19.34+X16*234.12+K16*436.99+I16*367.03 -> 2327.7864 | L16: =O16*0.0282 -> 0.069654 | N16: =N4*1.9 -> 0.893 | O16: =O4*1.9 -> 2.47 | P16: =P4*1.9 -> 0.1786 | R16: =R4*1.9 -> 0.171 | W16: =W4*1.9 -> 29.298 | X16: 2
C17: B.L. Dupla Alvenaria H até 2,00 m | E17: =O17*0.846 -> 2.780802 | F17: =A17*0.231+M17*0.1+O17*0.0588+P17*0.18+Q17*0.27+R17*0.33+T17*0.005*0.434 -> 0.2818536 | G17: =A17*0.6447+M17*0.51+O17*0.396+P17*1.06+Q17*0.96+R17*0.921+T17*0.005*1.575 -> 1.648459 | H17: =A17*(0.777+0.45)+M17*(1.5)+P17*1.11+Q17*1.11+R17*1.11 -> 0.388056 | J17: =A17*306.45+M17*238+N17*90.76+O17*438+P17*340.38+Q17*378.52+R17*404.81+S17*411.043+T17*412.45*0.005+U17*17.12+V17*18.08+W17*19.34+X17*234.12+K17*436.99+I17*367.03 -> 2685.6324 | L17: =O17*0.0282 -> 0.0926934 | N17: =N5*1.9 -> 0.893 | O17: =O5*1.9 -> 3.287 | P17: =P5*1.9 -> 0.1786 | R17: =R5*1.9 -> 0.171 | W17: =W5*1.9 -> 29.298 | X17: 2
C18: B.L. Dupla Alvenaria H até 2,50 m | E18: =O18*0.846 -> 3.488058 | F18: =A18*0.231+M18*0.1+O18*0.0588+P18*0.18+Q18*0.27+R18*0.33+T18*0.005*0.434 -> 0.3310104 | G18: =A18*0.6447+M18*0.51+O18*0.396+P18*1.06+Q18*0.96+R18*0.921+T18*0.005*1.575 -> 1.979515 | H18: =A18*(0.777+0.45)+M18*(1.5)+P18*1.11+Q18*1.11+R18*1.11 -> 0.388056 | J18: =A18*306.45+M18*238+N18*90.76+O18*438+P18*340.38+Q18*378.52+R18*404.81+S18*411.043+T18*412.45*0.005+U18*17.12+V18*18.08+W18*19.34+X18*234.12+K18*436.99+I18*367.03 -> 3051.8004 | L18: =O18*0.0282 -> 0.1162686 | N18: =N6*1.9 -> 0.893 | O18: =O6*1.9 -> 4.123 | P18: =P6*1.9 -> 0.1786 | R18: =R6*1.9 -> 0.171 | W18: =W6*1.9 -> 29.298 | X18: 2
C19: B.L. Dupla Pré-moldado H até 1,20 m | E19: =O19*0.846 -> 0 | F19: =A19*0.231+M19*0.1+O19*0.0588+P19*0.18+Q19*0.27+R19*0.33+T19*0.005*0.434 -> 0.822054 | G19: =A19*0.6447+M19*0.51+O19*0.396+P19*1.06+Q19*0.96+R19*0.921+T19*0.005*1.575 -> 2.412943 | H19: =A19*(0.777+0.45)+M19*(1.5)+P19*1.11+Q19*1.11+R19*1.11 -> 2.872458 | J19: =A19*306.45+M19*238+N19*90.76+O19*438+P19*340.38+Q19*378.52+R19*404.81+S19*411.043+T19*412.45*0.005+U19*17.12+V19*18.08+W19*19.34+X19*234.12+K19*436.99+I19*367.03 -> 1725.4116 | L19: =O19*0.0282 -> 0 | N19: =1.9*N7 -> 2.4605 | P19: =1.9*P7 -> 0.2128 | R19: =1.9*R7 -> 2.375 | X19: 2
C20: B.L. Dupla Pré-moldado H até 1,50 m | E20: =O20*0.846 -> 0 | F20: =A20*0.231+M20*0.1+O20*0.0588+P20*0.18+Q20*0.27+R20*0.33+T20*0.005*0.434 -> 1.028964 | G20: =A20*0.6447+M20*0.51+O20*0.396+P20*1.06+Q20*0.96+R20*0.921+T20*0.005*1.575 -> 2.99041 | H20: =A20*(0.777+0.45)+M20*(1.5)+P20*1.11+Q20*1.11+R20*1.11 -> 3.568428 | J20: =A20*306.45+M20*238+N20*90.76+O20*438+P20*340.38+Q20*378.52+R20*404.81+S20*411.043+T20*412.45*0.005+U20*17.12+V20*18.08+W20*19.34+X20*234.12+K20*436.99+I20*367.03 -> 2037.8584 | L20: =O20*0.0282 -> 0 | N20: =1.9*N8 -> 3.1065 | P20: =1.9*P8 -> 0.2128 | R20: =1.9*R8 -> 3.002 | X20: 2
C21: B.L. Dupla Pré-moldado H até 2,00 m | E21: =O21*0.846 -> 0 | F21: =A21*0.231+M21*0.1+O21*0.0588+P21*0.18+Q21*0.27+R21*0.33+T21*0.005*0.434 -> 1.367544 | G21: =A21*0.6447+M21*0.51+O21*0.396+P21*1.06+Q21*0.96+R21*0.921+T21*0.005*1.575 -> 3.935356 | H21: =A21*(0.777+0.45)+M21*(1.5)+P21*1.11+Q21*1.11+R21*1.11 -> 4.707288 | J21: =A21*306.45+M21*238+N21*90.76+O21*438+P21*340.38+Q21*378.52+R21*404.81+S21*411.043+T21*412.45*0.005+U21*17.12+V21*18.08+W21*19.34+X21*234.12+K21*436.99+I21*367.03 -> 2550.6243 | L21: =O21*0.0282 -> 0 | N21: =1.9*N9 -> 4.18 | P21: =1.9*P9 -> 0.2128 | R21: =1.9*R9 -> 4.028 | X21: 2
C22: B.L. Dupla Pré-moldado H até 2,50 m | E22: =O22*0.846 -> 0 | F22: =A22*0.231+M22*0.1+O22*0.0588+P22*0.18+Q22*0.27+R22*0.33+T22*0.005*0.434 -> 1.712394 | G22: =A22*0.6447+M22*0.51+O22*0.396+P22*1.06+Q22*0.96+R22*0.921+T22*0.005*1.575 -> 4.897801 | H22: =A22*(0.777+0.45)+M22*(1.5)+P22*1.11+Q22*1.11+R22*1.11 -> 5.867238 | J22: =A22*306.45+M22*238+N22*90.76+O22*438+P22*340.38+Q22*378.52+R22*404.81+S22*411.043+T22*412.45*0.005+U22*17.12+V22*18.08+W22*19.34+X22*234.12+K22*436.99+I22*367.03 -> 3071.0817 | L22: =O22*0.0282 -> 0 | N22: =1.9*N10 -> 5.2535 | P22: =1.9*P10 -> 0.2128 | R22: =1.9*R10 -> 5.073 | X22: 2
C23: B.L. Dupla Concreto armado H até 1,20 m | E23: =O23*0.846 -> 0 | F23: =A23*0.231+M23*0.1+O23*0.0588+P23*0.18+Q23*0.27+R23*0.33+T23*0.005*0.434 -> 0.389082 | G23: =A23*0.6447+M23*0.51+O23*0.396+P23*1.06+Q23*0.96+R23*0.921+T23*0.005*1.575 -> 1.145225 | H23: =A23*(0.777+0.45)+M23*(1.5)+P23*1.11+Q23*1.11+R23*1.11 -> 1.362414 | J23: =A23*306.45+M23*238+N23*90.76+O23*438+P23*340.38+Q23*378.52+R23*404.81+S23*411.043+T23*412.45*0.005+U23*17.12+V23*18.08+W23*19.34+X23*234.12+K23*436.99+I23*367.03 -> 3297.2974 | L23: =O23*0.0282 -> 0 | N23: =1.9*N11 -> 4.921 | P23: =1.9*P11 -> 0.1064 | R23: =1.9*R11 -> 1.121 | W23: =1.9*W11 -> 97.85 | X23: 2
C24: B.L. Dupla Concreto armado H até 1,50 m | E24: =O24*0.846 -> 0 | F24: =A24*0.231+M24*0.1+O24*0.0588+P24*0.18+Q24*0.27+R24*0.33+T24*0.005*0.434 -> 0.489402 | G24: =A24*0.6447+M24*0.51+O24*0.396+P24*1.06+Q24*0.96+R24*0.921+T24*0.005*1.575 -> 1.425209 | H24: =A24*(0.777+0.45)+M24*(1.5)+P24*1.11+Q24*1.11+R24*1.11 -> 1.699854 | J24: =A24*306.45+M24*238+N24*90.76+O24*438+P24*340.38+Q24*378.52+R24*404.81+S24*411.043+T24*412.45*0.005+U24*17.12+V24*18.08+W24*19.34+X24*234.12+K24*436.99+I24*367.03 -> 4031.4878 | L24: =O24*0.0282 -> 0 | N24: =1.9*N12 -> 6.213 | P24: =1.9*P12 -> 0.1064 | R24: =1.9*R12 -> 1.425 | W24: =1.9*W12 -> 123.386 | X24: 2
C25: B.L. Dupla Concreto armado H até 2,00 m | E25: =O25*0.846 -> 0 | F25: =A25*0.231+M25*0.1+O25*0.0588+P25*0.18+Q25*0.27+R25*0.33+T25*0.005*0.434 -> 0.652422 | G25: =A25*0.6447+M25*0.51+O25*0.396+P25*1.06+Q25*0.96+R25*0.921+T25*0.005*1.575 -> 1.880183 | H25: =A25*(0.777+0.45)+M25*(1.5)+P25*1.11+Q25*1.11+R25*1.11 -> 2.248194 | J25: =A25*306.45+M25*238+N25*90.76+O25*438+P25*340.38+Q25*378.52+R25*404.81+S25*411.043+T25*412.45*0.005+U25*17.12+V25*18.08+W25*19.34+X25*234.12+K25*436.99+I25*367.03 -> 4426.3257 | L25: =O25*0.0282 -> 0 | N25: =1.9*N13 -> 8.36 | P25: =1.9*P13 -> 0.1064 | R25: =1.9*R13 -> 1.919 | W25: =1.9*W13 -> 123.386 | X25: 2
C26: B.L. Dupla Concreto armado H até 2,50 m | E26: =O26*0.846 -> 0 | F26: =A26*0.231+M26*0.1+O26*0.0588+P26*0.18+Q26*0.27+R26*0.33+T26*0.005*0.434 -> 0.815442 | G26: =A26*0.6447+M26*0.51+O26*0.396+P26*1.06+Q26*0.96+R26*0.921+T26*0.005*1.575 -> 2.335157 | H26: =A26*(0.777+0.45)+M26*(1.5)+P26*1.11+Q26*1.11+R26*1.11 -> 2.796534 | J26: =A26*306.45+M26*238+N26*90.76+O26*438+P26*340.38+Q26*378.52+R26*404.81+S26*411.043+T26*412.45*0.005+U26*17.12+V26*18.08+W26*19.34+X26*234.12+K26*436.99+I26*367.03 -> 5432.9844 | L26: =O26*0.0282 -> 0 | N26: =1.9*N14 -> 10.507 | P26: =1.9*P14 -> 0.1064 | R26: =1.9*R14 -> 2.413 | W26: =1.9*W14 -> 155.021 | X26: 2
C27: C.L. Alvenaria Tubo até 0,40 | E27: =O27*0.846 -> 0.1705536 | F27: =A27*0.231+M27*0.1+O27*0.0588+P27*0.18+Q27*0.27+R27*0.33+T27*0.005*0.434 -> 0.099453824 | G27: =A27*0.6447+M27*0.51+O27*0.396+P27*1.06+Q27*0.96+R27*0.921+T27*0.005*1.575 -> 0.36184865 | H27: =A27*(0.777+0.45)+M27*(1.5)+P27*1.11+Q27*1.11+R27*1.11 -> 0.30857645 | J27: =A27*306.45+M27*238+N27*90.76+O27*438+P27*340.38+Q27*378.52+R27*404.81+S27*411.043+T27*412.45*0.005+U27*17.12+V27*18.08+W27*19.34+X27*234.12+K27*436.99+I27*367.03 -> 399.28747 | L27: =O27*0.0282 -> 0.00568512 | N27: =(0.88*0.88+4*0.09*0.09*0.8)/2.5 -> 0.320128 | O27: =2*(0.7+0.7)*0.8*0.09 -> 0.2016 | P27: 0.06 | R27: =3*N27*2*0.1+0.09*0.09*0.8*4 -> 0.2179968 | T27: =4*(0.7+0.7)/2*0.8 -> 2.24 | W27: =40*R27 -> 8.719872
C28: C.L. Alvenaria Tubo até 0,60 | E28: =O28*0.846 -> 0.2801952 | F28: =A28*0.231+M28*0.1+O28*0.0588+P28*0.18+Q28*0.27+R28*0.33+T28*0.005*0.434 -> 0.14735024 | G28: =A28*0.6447+M28*0.51+O28*0.396+P28*1.06+Q28*0.96+R28*0.921+T28*0.005*1.575 -> 0.5281957 | H28: =A28*(0.777+0.45)+M28*(1.5)+P28*1.11+Q28*1.11+R28*1.11 -> 0.43353936 | J28: =A28*306.45+M28*238+N28*90.76+O28*438+P28*340.38+Q28*378.52+R28*404.81+S28*411.043+T28*412.45*0.005+U28*17.12+V28*18.08+W28*19.34+X28*234.12+K28*436.99+I28*367.03 -> 607.73563 | L28: =O28*0.0282 -> 0.00933984 | N28: =(1.1*1.1+4*0.09*0.09*1)/2.5 -> 0.49696 | O28: =2*(0.92+0.92)*1*0.09 -> 0.3312 | P28: 0.06 | R28: =3*N28*2*0.1+0.09*0.09*1*4 -> 0.330576 | T28: =4*(0.92+0.92)/2*1 -> 3.68 | W28: =40*R28 -> 13.22304
C29: C.L. Alvenaria Tubo até 0,80 | E29: =O29*0.846 -> 0.6822144 | F29: =A29*0.231+M29*0.1+O29*0.0588+P29*0.18+Q29*0.27+R29*0.33+T29*0.005*0.434 -> 0.2561376 | G29: =A29*0.6447+M29*0.51+O29*0.396+P29*1.06+Q29*0.96+R29*0.921+T29*0.005*1.575 -> 0.9569433 | H29: =A29*(0.777+0.45)+M29*(1.5)+P29*1.11+Q29*1.11+R29*1.11 -> 0.70038336 | J29: =A29*306.45+M29*238+N29*90.76+O29*438+P29*340.38+Q29*378.52+R29*404.81+S29*411.043+T29*412.45*0.005+U29*17.12+V29*18.08+W29*19.34+X29*234.12+K29*436.99+I29*367.03 -> 1110.7009 | L29: =O29*0.0282 -> 0.02274048 | N29: =(1.48*1.48+4*0.14*0.14*1.2)/3 -> 0.76149333 | O29: =2*(1.2+1.2)*1.2*0.14 -> 0.8064 | P29: 0.08 | R29: =3*N29*2*0.1+0.14*0.14*1.2*4 -> 0.550976 | T29: =4*(1.2+1.2)/2*1.2 -> 5.76 | W29: =40*R29 -> 22.03904
